BEGIN:VCALENDAR
VERSION:2.0
PRODID:-//Palm Beach Moms - ECPv6.15.20//NONSGML v1.0//EN
CALSCALE:GREGORIAN
METHOD:PUBLISH
X-ORIGINAL-URL:https://thepbmoms.com
X-WR-CALDESC:Events for Palm Beach Moms
REFRESH-INTERVAL;VALUE=DURATION:PT1H
X-Robots-Tag:noindex
X-PUBLISHED-TTL:PT1H
BEGIN:VTIMEZONE
TZID:UTC
BEGIN:STANDARD
TZOFFSETFROM:+0000
TZOFFSETTO:+0000
TZNAME:UTC
DTSTART:20250101T000000
END:STANDARD
END:VTIMEZONE
BEGIN:VEVENT
DTSTART;VALUE=DATE:20260301
DTEND;VALUE=DATE:20260323
DTSTAMP:20260422T215753
CREATED:20260301T185147Z
LAST-MODIFIED:20260301T185147Z
UID:10031708-1772323200-1774223999@thepbmoms.com
SUMMARY:Spring Training Baseball at Roger Dean Stadium
DESCRIPTION:
URL:https://thepbmoms.com/event/spring-training-baseball-at-roger-dean-stadium/
LOCATION:Roger Dean Stadium\, 4751MAINST\, Jupiter\, Fl\, 33458
ATTACH;FMTTYPE=image/webp:https://thepbmoms.com/wp-content/uploads/2026/03/roger_dean_stadium_jupiter_florida_600_02.webp
END:VEVENT
END:VCALENDAR