BEGIN:VCALENDAR
VERSION:2.0
PRODID:-//Palm Beach Moms - ECPv6.15.20//NONSGML v1.0//EN
CALSCALE:GREGORIAN
METHOD:PUBLISH
X-WR-CALNAME:Palm Beach Moms
X-ORIGINAL-URL:https://thepbmoms.com
X-WR-CALDESC:Events for Palm Beach Moms
REFRESH-INTERVAL;VALUE=DURATION:PT1H
X-Robots-Tag:noindex
X-PUBLISHED-TTL:PT1H
BEGIN:VTIMEZONE
TZID:UTC
BEGIN:STANDARD
TZOFFSETFROM:+0000
TZOFFSETTO:+0000
TZNAME:UTC
DTSTART:20250101T000000
END:STANDARD
END:VTIMEZONE
BEGIN:VEVENT
DTSTART;TZID=UTC:20260419T160000
DTEND;TZID=UTC:20260419T170000
DTSTAMP:20260422T215830
CREATED:20260301T190154Z
LAST-MODIFIED:20260301T190154Z
UID:10031717-1776614400-1776618000@thepbmoms.com
SUMMARY:Polo Match
DESCRIPTION:Stadium or brunch seating available. \nThe home for polo in the United States\, the National Polo Center – Wellington showcases six championship fields including the iconic stadium on U.S. Polo Assn. Field One to create a must-see polo hub in Wellington\, Florida.
URL:https://thepbmoms.com/event/polo-match/2026-04-19/
LOCATION:national polo center\, 3667 120th Ave S\, Wellington\, FL\, 33414
ATTACH;FMTTYPE=image/jpeg:https://thepbmoms.com/wp-content/uploads/2026/03/polo.jpg
END:VEVENT
BEGIN:VEVENT
DTSTART;TZID=UTC:20260412T160000
DTEND;TZID=UTC:20260412T170000
DTSTAMP:20260422T215830
CREATED:20260301T190154Z
LAST-MODIFIED:20260301T190154Z
UID:10031716-1776009600-1776013200@thepbmoms.com
SUMMARY:Polo Match
DESCRIPTION:Stadium or brunch seating available. \nThe home for polo in the United States\, the National Polo Center – Wellington showcases six championship fields including the iconic stadium on U.S. Polo Assn. Field One to create a must-see polo hub in Wellington\, Florida.
URL:https://thepbmoms.com/event/polo-match/2026-04-12/
LOCATION:national polo center\, 3667 120th Ave S\, Wellington\, FL\, 33414
ATTACH;FMTTYPE=image/jpeg:https://thepbmoms.com/wp-content/uploads/2026/03/polo.jpg
END:VEVENT
BEGIN:VEVENT
DTSTART;TZID=UTC:20260405T160000
DTEND;TZID=UTC:20260405T170000
DTSTAMP:20260422T215830
CREATED:20260301T190154Z
LAST-MODIFIED:20260301T190154Z
UID:10031715-1775404800-1775408400@thepbmoms.com
SUMMARY:Polo Match
DESCRIPTION:Stadium or brunch seating available. \nThe home for polo in the United States\, the National Polo Center – Wellington showcases six championship fields including the iconic stadium on U.S. Polo Assn. Field One to create a must-see polo hub in Wellington\, Florida.
URL:https://thepbmoms.com/event/polo-match/2026-04-05/
LOCATION:national polo center\, 3667 120th Ave S\, Wellington\, FL\, 33414
ATTACH;FMTTYPE=image/jpeg:https://thepbmoms.com/wp-content/uploads/2026/03/polo.jpg
END:VEVENT
BEGIN:VEVENT
DTSTART;TZID=UTC:20260329T160000
DTEND;TZID=UTC:20260329T170000
DTSTAMP:20260422T215830
CREATED:20260301T190154Z
LAST-MODIFIED:20260301T190154Z
UID:10031714-1774800000-1774803600@thepbmoms.com
SUMMARY:Polo Match
DESCRIPTION:Stadium or brunch seating available. \nThe home for polo in the United States\, the National Polo Center – Wellington showcases six championship fields including the iconic stadium on U.S. Polo Assn. Field One to create a must-see polo hub in Wellington\, Florida.
URL:https://thepbmoms.com/event/polo-match/2026-03-29/
LOCATION:national polo center\, 3667 120th Ave S\, Wellington\, FL\, 33414
ATTACH;FMTTYPE=image/jpeg:https://thepbmoms.com/wp-content/uploads/2026/03/polo.jpg
END:VEVENT
BEGIN:VEVENT
DTSTART;TZID=UTC:20260322T160000
DTEND;TZID=UTC:20260322T170000
DTSTAMP:20260422T215830
CREATED:20260301T190154Z
LAST-MODIFIED:20260301T190154Z
UID:10031713-1774195200-1774198800@thepbmoms.com
SUMMARY:Polo Match
DESCRIPTION:Stadium or brunch seating available. \nThe home for polo in the United States\, the National Polo Center – Wellington showcases six championship fields including the iconic stadium on U.S. Polo Assn. Field One to create a must-see polo hub in Wellington\, Florida.
URL:https://thepbmoms.com/event/polo-match/2026-03-22/
LOCATION:national polo center\, 3667 120th Ave S\, Wellington\, FL\, 33414
ATTACH;FMTTYPE=image/jpeg:https://thepbmoms.com/wp-content/uploads/2026/03/polo.jpg
END:VEVENT
BEGIN:VEVENT
DTSTART;TZID=UTC:20260315T160000
DTEND;TZID=UTC:20260315T170000
DTSTAMP:20260422T215830
CREATED:20260301T190154Z
LAST-MODIFIED:20260301T190154Z
UID:10031712-1773590400-1773594000@thepbmoms.com
SUMMARY:Polo Match
DESCRIPTION:Stadium or brunch seating available. \nThe home for polo in the United States\, the National Polo Center – Wellington showcases six championship fields including the iconic stadium on U.S. Polo Assn. Field One to create a must-see polo hub in Wellington\, Florida.
URL:https://thepbmoms.com/event/polo-match/2026-03-15/
LOCATION:national polo center\, 3667 120th Ave S\, Wellington\, FL\, 33414
ATTACH;FMTTYPE=image/jpeg:https://thepbmoms.com/wp-content/uploads/2026/03/polo.jpg
END:VEVENT
BEGIN:VEVENT
DTSTART;TZID=UTC:20260308T160000
DTEND;TZID=UTC:20260308T170000
DTSTAMP:20260422T215830
CREATED:20260301T190154Z
LAST-MODIFIED:20260301T190154Z
UID:10031711-1772985600-1772989200@thepbmoms.com
SUMMARY:Polo Match
DESCRIPTION:Stadium or brunch seating available. \nThe home for polo in the United States\, the National Polo Center – Wellington showcases six championship fields including the iconic stadium on U.S. Polo Assn. Field One to create a must-see polo hub in Wellington\, Florida.
URL:https://thepbmoms.com/event/polo-match/2026-03-08/
LOCATION:national polo center\, 3667 120th Ave S\, Wellington\, FL\, 33414
ATTACH;FMTTYPE=image/jpeg:https://thepbmoms.com/wp-content/uploads/2026/03/polo.jpg
END:VEVENT
BEGIN:VEVENT
DTSTART;TZID=UTC:20260301T150000
DTEND;TZID=UTC:20260301T170000
DTSTAMP:20260422T215830
CREATED:20260301T190154Z
LAST-MODIFIED:20260301T190154Z
UID:10031710-1772377200-1772384400@thepbmoms.com
SUMMARY:Polo Match
DESCRIPTION:Stadium or brunch seating available. \nThe home for polo in the United States\, the National Polo Center – Wellington showcases six championship fields including the iconic stadium on U.S. Polo Assn. Field One to create a must-see polo hub in Wellington\, Florida.
URL:https://thepbmoms.com/event/polo-match/2026-03-01/
LOCATION:national polo center\, 3667 120th Ave S\, Wellington\, FL\, 33414
ATTACH;FMTTYPE=image/jpeg:https://thepbmoms.com/wp-content/uploads/2026/03/polo.jpg
END:VEVENT
END:VCALENDAR