BEGIN:VCALENDAR
VERSION:2.0
PRODID:-//Palm Beach Moms - ECPv6.15.20//NONSGML v1.0//EN
CALSCALE:GREGORIAN
METHOD:PUBLISH
X-WR-CALNAME:Palm Beach Moms
X-ORIGINAL-URL:https://thepbmoms.com
X-WR-CALDESC:Events for Palm Beach Moms
REFRESH-INTERVAL;VALUE=DURATION:PT1H
X-Robots-Tag:noindex
X-PUBLISHED-TTL:PT1H
BEGIN:VTIMEZONE
TZID:UTC
BEGIN:STANDARD
TZOFFSETFROM:+0000
TZOFFSETTO:+0000
TZNAME:UTC
DTSTART:20250101T000000
END:STANDARD
END:VTIMEZONE
BEGIN:VEVENT
DTSTART;TZID=UTC:20260305T180000
DTEND;TZID=UTC:20260305T190000
DTSTAMP:20260422T202413
CREATED:20260302T214054Z
LAST-MODIFIED:20260302T214054Z
UID:10031722-1772733600-1772737200@thepbmoms.com
SUMMARY:Middle School Page Turners Book Club
DESCRIPTION:Thu\, Mar 5 2026\, 1 – 2pm\nThu\, Mar 5 2026\, 6 – 7pm\n\n\n\n\n\n\n\nMembers – Middle School Student (Grades 6–8): $0.00\n\n\n\nNon-Members – Middle School Student (Grades 6–8): $15.00\n\n\nMember discounts applied with login at checkout where applicable. \n\n\n\n\n\n\n\n\n\n\n\n\nRegister Now \n\n\n\n\n\n\n\n\n\n \n\nPre-registration is required\nThis Page-turners middle school book club session focuses on Frances Hodgson Burnett’s classic novel The Secret Garden in a book discussion held in the Museum’s Ohnell Sculpture Garden. Surrounded by greenery and outdoor artworks\, the conversation looks at how Mary Lennox’s story connects nature\, grief\, friendship\, and healing. \nThe setting echoes the novel’s hidden garden and invites you to think about how real outdoor spaces shape mood and memory. Participants are encouraged to read the book in advance\, but you are welcome to join the conversation even if you haven’t. \nThis is a drop-off program. Additional instructions for drop-off will be sent in advance to the registered email address. \nCopies of the book are available for purchase through Barnes & Noble
URL:https://thepbmoms.com/event/middle-school-page-turners-book-club/2026-03-05/2/
LOCATION:boca museum of art\, 501 Plaza Real\, Boca Raton\, FL\, 33432\, United States
ATTACH;FMTTYPE=image/webp:https://thepbmoms.com/wp-content/uploads/2026/03/page-turners-secretgarden_0.webp
END:VEVENT
BEGIN:VEVENT
DTSTART;TZID=UTC:20260305T130000
DTEND;TZID=UTC:20260305T140000
DTSTAMP:20260422T202413
CREATED:20260302T214054Z
LAST-MODIFIED:20260302T214054Z
UID:10031721-1772715600-1772719200@thepbmoms.com
SUMMARY:Middle School Page Turners Book Club
DESCRIPTION:Thu\, Mar 5 2026\, 1 – 2pm\nThu\, Mar 5 2026\, 6 – 7pm\n\n\n\n\n\n\n\nMembers – Middle School Student (Grades 6–8): $0.00\n\n\n\nNon-Members – Middle School Student (Grades 6–8): $15.00\n\n\nMember discounts applied with login at checkout where applicable. \n\n\n\n\n\n\n\n\n\n\n\n\nRegister Now \n\n\n\n\n\n\n\n\n\n \n\nPre-registration is required\nThis Page-turners middle school book club session focuses on Frances Hodgson Burnett’s classic novel The Secret Garden in a book discussion held in the Museum’s Ohnell Sculpture Garden. Surrounded by greenery and outdoor artworks\, the conversation looks at how Mary Lennox’s story connects nature\, grief\, friendship\, and healing. \nThe setting echoes the novel’s hidden garden and invites you to think about how real outdoor spaces shape mood and memory. Participants are encouraged to read the book in advance\, but you are welcome to join the conversation even if you haven’t. \nThis is a drop-off program. Additional instructions for drop-off will be sent in advance to the registered email address. \nCopies of the book are available for purchase through Barnes & Noble
URL:https://thepbmoms.com/event/middle-school-page-turners-book-club/2026-03-05/1/
LOCATION:boca museum of art\, 501 Plaza Real\, Boca Raton\, FL\, 33432\, United States
ATTACH;FMTTYPE=image/webp:https://thepbmoms.com/wp-content/uploads/2026/03/page-turners-secretgarden_0.webp
END:VEVENT
BEGIN:VEVENT
DTSTART;TZID=UTC:20260119T130000
DTEND;TZID=UTC:20260119T160000
DTSTAMP:20260422T202413
CREATED:20260116T200247Z
LAST-MODIFIED:20260116T200247Z
UID:10030809-1768827600-1768838400@thepbmoms.com
SUMMARY:CommUNITY Day: A Celebration of Martin Luther King Jr. - FREE admission day
DESCRIPTION:FREE ADMISSION DAY\nMonday\, Jan 19\n1:00 – 4:00 pm \nThe Boca Raton Museum of Art is open for special hours on Monday for CommUNITY Day\, a free Martin Luther King Jr. Day celebration filled with art\, activities\, and a special performance. Admission is free for everyone! \nSchedule \n1:00 – 4:00 pm: Galleries open with free admission\, plus drop-in art activities throughout the Museum \n1:30 – 2:00 pm: “Celebrating African American Dances of the 1960s: A Performance Featuring the Twist and Dancing in the Streets\,” with live music by Saxman Extraordinaire \nFREE admission
URL:https://thepbmoms.com/event/community-day-a-celebration-of-martin-luther-king-jr-free-admission-day/
LOCATION:boca museum of art\, 501 Plaza Real\, Boca Raton\, FL\, 33432\, United States
CATEGORIES:Free
ATTACH;FMTTYPE=image/jpeg:https://thepbmoms.com/wp-content/uploads/2026/01/MLK.jpg
END:VEVENT
END:VCALENDAR