BEGIN:VCALENDAR
VERSION:2.0
PRODID:-//Palm Beach Moms - ECPv6.15.20//NONSGML v1.0//EN
CALSCALE:GREGORIAN
METHOD:PUBLISH
X-ORIGINAL-URL:https://thepbmoms.com
X-WR-CALDESC:Events for Palm Beach Moms
REFRESH-INTERVAL;VALUE=DURATION:PT1H
X-Robots-Tag:noindex
X-PUBLISHED-TTL:PT1H
BEGIN:VTIMEZONE
TZID:UTC
BEGIN:STANDARD
TZOFFSETFROM:+0000
TZOFFSETTO:+0000
TZNAME:UTC
DTSTART:20230101T000000
END:STANDARD
END:VTIMEZONE
BEGIN:VEVENT
DTSTART;TZID=UTC:20240907T183000
DTEND;TZID=UTC:20240907T200000
DTSTAMP:20260421T183300
CREATED:20240714T173007Z
LAST-MODIFIED:20240714T173007Z
UID:10022769-1725733800-1725739200@thepbmoms.com
SUMMARY:Ruben Studdard: The Masterpiece Tour
DESCRIPTION:American Idol legend Ruben Studdard is bringing his latest tour to Boca Raton to The Studio at Mizner Park. \nIn March\, Ruben released his newest album “The Way I Remember It” – the first two singles have both charted. Within the last two months\, Ruben has been featured on Tamron Hall\, Wendy Williams\, and Kelly Clarkson. In May\, Ruben reached the semi-finals on The Masked Singer. \nIn 2023/2024\, Ruben co-headlined an eighty-three (83) city theater tour with Clay Aiken. Twenty The Tour celebrated the 20th anniversary of Ruben’s storied run on American Idol. \nRuben is a Grammy nominee and three-time Billboard Award winner. Since winning season 2 of American Idol\, Ruben has earned five top 25 albums\, fourteen top 25 singles\, and three Billboard #1 singles. His hits include “Sorry 2004”\, “Superstar”\, “Change Me”\, and the triple-platinum selling “Flying Without Wings”.
URL:https://thepbmoms.com/event/ruben-studdard-the-masterpiece-tour/
LOCATION:The Studio at Mizner Park\, 201 Plaza Real\, Boca Raton\, 33486
CATEGORIES:Parents,Teen
ATTACH;FMTTYPE=image/jpeg:https://thepbmoms.com/wp-content/uploads/2024/07/RubenStuddard-1080x1080-1.jpg
ORGANIZER;CN="The Studio at Mizner Park":MAILTO:info@thestudioatmiznerpark.com
END:VEVENT
END:VCALENDAR