BEGIN:VCALENDAR
VERSION:2.0
PRODID:-//Palm Beach Moms - ECPv6.15.20//NONSGML v1.0//EN
CALSCALE:GREGORIAN
METHOD:PUBLISH
X-ORIGINAL-URL:https://thepbmoms.com
X-WR-CALDESC:Events for Palm Beach Moms
REFRESH-INTERVAL;VALUE=DURATION:PT1H
X-Robots-Tag:noindex
X-PUBLISHED-TTL:PT1H
BEGIN:VTIMEZONE
TZID:UTC
BEGIN:STANDARD
TZOFFSETFROM:+0000
TZOFFSETTO:+0000
TZNAME:UTC
DTSTART:20240101T000000
END:STANDARD
END:VTIMEZONE
BEGIN:VEVENT
DTSTART;TZID=UTC:20250227T180000
DTEND;TZID=UTC:20250227T193000
DTSTAMP:20260422T031915
CREATED:20250224T210855Z
LAST-MODIFIED:20250224T210855Z
UID:10025720-1740679200-1740684600@thepbmoms.com
SUMMARY:Yoga Under The Stars
DESCRIPTION:Join Leslie Glickman\, owner of Yoga Journey Studio\, for an evening of Yin Yoga accompanied by live music under the stars in the Sculpture Garden. \nThe yoga practice will be appropriate for all levels. Yin Yoga is about deep relaxation and releasing tension. The poses are done slowly and are held for a long time so you can focus on the quality of your breath. No experience necessary\, just a desire and a willingness to increase vitality and overall well-being.
URL:https://thepbmoms.com/event/yoga-under-the-stars/
LOCATION:501 Plaza Real\, Boca Raton\, FL 33432\, 501 Plaza Real\,\, Boca Raton\, 33432
CATEGORIES:Just for Mom,Mothers Day,Teen,The Whole Family
ATTACH;FMTTYPE=image/jpeg:https://thepbmoms.com/wp-content/uploads/2025/02/Yoga.jpg
END:VEVENT
END:VCALENDAR