BEGIN:VCALENDAR
VERSION:2.0
PRODID:-//Palm Beach Moms - ECPv6.15.20//NONSGML v1.0//EN
CALSCALE:GREGORIAN
METHOD:PUBLISH
X-WR-CALNAME:Palm Beach Moms
X-ORIGINAL-URL:https://thepbmoms.com
X-WR-CALDESC:Events for Palm Beach Moms
REFRESH-INTERVAL;VALUE=DURATION:PT1H
X-Robots-Tag:noindex
X-PUBLISHED-TTL:PT1H
BEGIN:VTIMEZONE
TZID:UTC
BEGIN:STANDARD
TZOFFSETFROM:+0000
TZOFFSETTO:+0000
TZNAME:UTC
DTSTART:20250101T000000
END:STANDARD
END:VTIMEZONE
BEGIN:VEVENT
DTSTART;TZID=UTC:20260426T100000
DTEND;TZID=UTC:20260426T140000
DTSTAMP:20260422T150900
CREATED:20260114T181200Z
LAST-MODIFIED:20260114T181200Z
UID:10030543-1777197600-1777212000@thepbmoms.com
SUMMARY:My Sunshine Farmers Market
DESCRIPTION:Farmers Market in Loxahatchee Every Sunday 10am-2pm. Grand Opening Day is February 15th. \nFree parking\, petting zoo\, pony rides\, local vendors\, fresh produce & eggs\, lemonade\, and much more!
URL:https://thepbmoms.com/event/my-sunshine-farmers-market/2026-04-26/
ATTACH;FMTTYPE=image/png:https://thepbmoms.com/wp-content/uploads/2026/01/6212CF6E-9B0A-4E8E-BD05-AEA598DE8669.png
END:VEVENT
BEGIN:VEVENT
DTSTART;TZID=UTC:20260503T100000
DTEND;TZID=UTC:20260503T140000
DTSTAMP:20260422T150900
CREATED:20260114T181200Z
LAST-MODIFIED:20260114T181200Z
UID:10030544-1777802400-1777816800@thepbmoms.com
SUMMARY:My Sunshine Farmers Market
DESCRIPTION:Farmers Market in Loxahatchee Every Sunday 10am-2pm. Grand Opening Day is February 15th. \nFree parking\, petting zoo\, pony rides\, local vendors\, fresh produce & eggs\, lemonade\, and much more!
URL:https://thepbmoms.com/event/my-sunshine-farmers-market/2026-05-03/
ATTACH;FMTTYPE=image/png:https://thepbmoms.com/wp-content/uploads/2026/01/6212CF6E-9B0A-4E8E-BD05-AEA598DE8669.png
END:VEVENT
BEGIN:VEVENT
DTSTART;TZID=UTC:20260510T100000
DTEND;TZID=UTC:20260510T140000
DTSTAMP:20260422T150900
CREATED:20260114T181200Z
LAST-MODIFIED:20260114T181200Z
UID:10030545-1778407200-1778421600@thepbmoms.com
SUMMARY:My Sunshine Farmers Market
DESCRIPTION:Farmers Market in Loxahatchee Every Sunday 10am-2pm. Grand Opening Day is February 15th. \nFree parking\, petting zoo\, pony rides\, local vendors\, fresh produce & eggs\, lemonade\, and much more!
URL:https://thepbmoms.com/event/my-sunshine-farmers-market/2026-05-10/
ATTACH;FMTTYPE=image/png:https://thepbmoms.com/wp-content/uploads/2026/01/6212CF6E-9B0A-4E8E-BD05-AEA598DE8669.png
END:VEVENT
BEGIN:VEVENT
DTSTART;TZID=UTC:20260517T100000
DTEND;TZID=UTC:20260517T140000
DTSTAMP:20260422T150900
CREATED:20260114T181200Z
LAST-MODIFIED:20260114T181200Z
UID:10030546-1779012000-1779026400@thepbmoms.com
SUMMARY:My Sunshine Farmers Market
DESCRIPTION:Farmers Market in Loxahatchee Every Sunday 10am-2pm. Grand Opening Day is February 15th. \nFree parking\, petting zoo\, pony rides\, local vendors\, fresh produce & eggs\, lemonade\, and much more!
URL:https://thepbmoms.com/event/my-sunshine-farmers-market/2026-05-17/
ATTACH;FMTTYPE=image/png:https://thepbmoms.com/wp-content/uploads/2026/01/6212CF6E-9B0A-4E8E-BD05-AEA598DE8669.png
END:VEVENT
BEGIN:VEVENT
DTSTART;TZID=UTC:20260524T100000
DTEND;TZID=UTC:20260524T140000
DTSTAMP:20260422T150900
CREATED:20260114T181200Z
LAST-MODIFIED:20260114T181200Z
UID:10030547-1779616800-1779631200@thepbmoms.com
SUMMARY:My Sunshine Farmers Market
DESCRIPTION:Farmers Market in Loxahatchee Every Sunday 10am-2pm. Grand Opening Day is February 15th. \nFree parking\, petting zoo\, pony rides\, local vendors\, fresh produce & eggs\, lemonade\, and much more!
URL:https://thepbmoms.com/event/my-sunshine-farmers-market/2026-05-24/
ATTACH;FMTTYPE=image/png:https://thepbmoms.com/wp-content/uploads/2026/01/6212CF6E-9B0A-4E8E-BD05-AEA598DE8669.png
END:VEVENT
BEGIN:VEVENT
DTSTART;TZID=UTC:20260531T100000
DTEND;TZID=UTC:20260531T140000
DTSTAMP:20260422T150900
CREATED:20260114T181200Z
LAST-MODIFIED:20260114T181200Z
UID:10030548-1780221600-1780236000@thepbmoms.com
SUMMARY:My Sunshine Farmers Market
DESCRIPTION:Farmers Market in Loxahatchee Every Sunday 10am-2pm. Grand Opening Day is February 15th. \nFree parking\, petting zoo\, pony rides\, local vendors\, fresh produce & eggs\, lemonade\, and much more!
URL:https://thepbmoms.com/event/my-sunshine-farmers-market/2026-05-31/
ATTACH;FMTTYPE=image/png:https://thepbmoms.com/wp-content/uploads/2026/01/6212CF6E-9B0A-4E8E-BD05-AEA598DE8669.png
END:VEVENT
BEGIN:VEVENT
DTSTART;TZID=UTC:20260607T100000
DTEND;TZID=UTC:20260607T140000
DTSTAMP:20260422T150900
CREATED:20260114T181200Z
LAST-MODIFIED:20260114T181200Z
UID:10030549-1780826400-1780840800@thepbmoms.com
SUMMARY:My Sunshine Farmers Market
DESCRIPTION:Farmers Market in Loxahatchee Every Sunday 10am-2pm. Grand Opening Day is February 15th. \nFree parking\, petting zoo\, pony rides\, local vendors\, fresh produce & eggs\, lemonade\, and much more!
URL:https://thepbmoms.com/event/my-sunshine-farmers-market/2026-06-07/
ATTACH;FMTTYPE=image/png:https://thepbmoms.com/wp-content/uploads/2026/01/6212CF6E-9B0A-4E8E-BD05-AEA598DE8669.png
END:VEVENT
BEGIN:VEVENT
DTSTART;TZID=UTC:20260614T100000
DTEND;TZID=UTC:20260614T140000
DTSTAMP:20260422T150900
CREATED:20260114T181200Z
LAST-MODIFIED:20260114T181200Z
UID:10030550-1781431200-1781445600@thepbmoms.com
SUMMARY:My Sunshine Farmers Market
DESCRIPTION:Farmers Market in Loxahatchee Every Sunday 10am-2pm. Grand Opening Day is February 15th. \nFree parking\, petting zoo\, pony rides\, local vendors\, fresh produce & eggs\, lemonade\, and much more!
URL:https://thepbmoms.com/event/my-sunshine-farmers-market/2026-06-14/
ATTACH;FMTTYPE=image/png:https://thepbmoms.com/wp-content/uploads/2026/01/6212CF6E-9B0A-4E8E-BD05-AEA598DE8669.png
END:VEVENT
BEGIN:VEVENT
DTSTART;TZID=UTC:20260621T100000
DTEND;TZID=UTC:20260621T140000
DTSTAMP:20260422T150900
CREATED:20260114T181200Z
LAST-MODIFIED:20260114T181200Z
UID:10030551-1782036000-1782050400@thepbmoms.com
SUMMARY:My Sunshine Farmers Market
DESCRIPTION:Farmers Market in Loxahatchee Every Sunday 10am-2pm. Grand Opening Day is February 15th. \nFree parking\, petting zoo\, pony rides\, local vendors\, fresh produce & eggs\, lemonade\, and much more!
URL:https://thepbmoms.com/event/my-sunshine-farmers-market/2026-06-21/
ATTACH;FMTTYPE=image/png:https://thepbmoms.com/wp-content/uploads/2026/01/6212CF6E-9B0A-4E8E-BD05-AEA598DE8669.png
END:VEVENT
BEGIN:VEVENT
DTSTART;TZID=UTC:20260628T100000
DTEND;TZID=UTC:20260628T140000
DTSTAMP:20260422T150900
CREATED:20260114T181200Z
LAST-MODIFIED:20260114T181200Z
UID:10030552-1782640800-1782655200@thepbmoms.com
SUMMARY:My Sunshine Farmers Market
DESCRIPTION:Farmers Market in Loxahatchee Every Sunday 10am-2pm. Grand Opening Day is February 15th. \nFree parking\, petting zoo\, pony rides\, local vendors\, fresh produce & eggs\, lemonade\, and much more!
URL:https://thepbmoms.com/event/my-sunshine-farmers-market/2026-06-28/
ATTACH;FMTTYPE=image/png:https://thepbmoms.com/wp-content/uploads/2026/01/6212CF6E-9B0A-4E8E-BD05-AEA598DE8669.png
END:VEVENT
BEGIN:VEVENT
DTSTART;TZID=UTC:20260705T100000
DTEND;TZID=UTC:20260705T140000
DTSTAMP:20260422T150900
CREATED:20260114T181200Z
LAST-MODIFIED:20260114T181200Z
UID:10030553-1783245600-1783260000@thepbmoms.com
SUMMARY:My Sunshine Farmers Market
DESCRIPTION:Farmers Market in Loxahatchee Every Sunday 10am-2pm. Grand Opening Day is February 15th. \nFree parking\, petting zoo\, pony rides\, local vendors\, fresh produce & eggs\, lemonade\, and much more!
URL:https://thepbmoms.com/event/my-sunshine-farmers-market/2026-07-05/
ATTACH;FMTTYPE=image/png:https://thepbmoms.com/wp-content/uploads/2026/01/6212CF6E-9B0A-4E8E-BD05-AEA598DE8669.png
END:VEVENT
BEGIN:VEVENT
DTSTART;TZID=UTC:20260712T100000
DTEND;TZID=UTC:20260712T140000
DTSTAMP:20260422T150900
CREATED:20260114T181200Z
LAST-MODIFIED:20260114T181200Z
UID:10030554-1783850400-1783864800@thepbmoms.com
SUMMARY:My Sunshine Farmers Market
DESCRIPTION:Farmers Market in Loxahatchee Every Sunday 10am-2pm. Grand Opening Day is February 15th. \nFree parking\, petting zoo\, pony rides\, local vendors\, fresh produce & eggs\, lemonade\, and much more!
URL:https://thepbmoms.com/event/my-sunshine-farmers-market/2026-07-12/
ATTACH;FMTTYPE=image/png:https://thepbmoms.com/wp-content/uploads/2026/01/6212CF6E-9B0A-4E8E-BD05-AEA598DE8669.png
END:VEVENT
BEGIN:VEVENT
DTSTART;TZID=UTC:20260719T100000
DTEND;TZID=UTC:20260719T140000
DTSTAMP:20260422T150900
CREATED:20260114T181200Z
LAST-MODIFIED:20260114T181200Z
UID:10030555-1784455200-1784469600@thepbmoms.com
SUMMARY:My Sunshine Farmers Market
DESCRIPTION:Farmers Market in Loxahatchee Every Sunday 10am-2pm. Grand Opening Day is February 15th. \nFree parking\, petting zoo\, pony rides\, local vendors\, fresh produce & eggs\, lemonade\, and much more!
URL:https://thepbmoms.com/event/my-sunshine-farmers-market/2026-07-19/
ATTACH;FMTTYPE=image/png:https://thepbmoms.com/wp-content/uploads/2026/01/6212CF6E-9B0A-4E8E-BD05-AEA598DE8669.png
END:VEVENT
BEGIN:VEVENT
DTSTART;TZID=UTC:20260726T100000
DTEND;TZID=UTC:20260726T140000
DTSTAMP:20260422T150900
CREATED:20260114T181200Z
LAST-MODIFIED:20260114T181200Z
UID:10030556-1785060000-1785074400@thepbmoms.com
SUMMARY:My Sunshine Farmers Market
DESCRIPTION:Farmers Market in Loxahatchee Every Sunday 10am-2pm. Grand Opening Day is February 15th. \nFree parking\, petting zoo\, pony rides\, local vendors\, fresh produce & eggs\, lemonade\, and much more!
URL:https://thepbmoms.com/event/my-sunshine-farmers-market/2026-07-26/
ATTACH;FMTTYPE=image/png:https://thepbmoms.com/wp-content/uploads/2026/01/6212CF6E-9B0A-4E8E-BD05-AEA598DE8669.png
END:VEVENT
BEGIN:VEVENT
DTSTART;TZID=UTC:20260802T100000
DTEND;TZID=UTC:20260802T140000
DTSTAMP:20260422T150900
CREATED:20260114T181200Z
LAST-MODIFIED:20260114T181200Z
UID:10030557-1785664800-1785679200@thepbmoms.com
SUMMARY:My Sunshine Farmers Market
DESCRIPTION:Farmers Market in Loxahatchee Every Sunday 10am-2pm. Grand Opening Day is February 15th. \nFree parking\, petting zoo\, pony rides\, local vendors\, fresh produce & eggs\, lemonade\, and much more!
URL:https://thepbmoms.com/event/my-sunshine-farmers-market/2026-08-02/
ATTACH;FMTTYPE=image/png:https://thepbmoms.com/wp-content/uploads/2026/01/6212CF6E-9B0A-4E8E-BD05-AEA598DE8669.png
END:VEVENT
BEGIN:VEVENT
DTSTART;TZID=UTC:20260809T100000
DTEND;TZID=UTC:20260809T140000
DTSTAMP:20260422T150900
CREATED:20260114T181200Z
LAST-MODIFIED:20260114T181200Z
UID:10030558-1786269600-1786284000@thepbmoms.com
SUMMARY:My Sunshine Farmers Market
DESCRIPTION:Farmers Market in Loxahatchee Every Sunday 10am-2pm. Grand Opening Day is February 15th. \nFree parking\, petting zoo\, pony rides\, local vendors\, fresh produce & eggs\, lemonade\, and much more!
URL:https://thepbmoms.com/event/my-sunshine-farmers-market/2026-08-09/
ATTACH;FMTTYPE=image/png:https://thepbmoms.com/wp-content/uploads/2026/01/6212CF6E-9B0A-4E8E-BD05-AEA598DE8669.png
END:VEVENT
BEGIN:VEVENT
DTSTART;TZID=UTC:20260816T100000
DTEND;TZID=UTC:20260816T140000
DTSTAMP:20260422T150900
CREATED:20260114T181200Z
LAST-MODIFIED:20260114T181200Z
UID:10030559-1786874400-1786888800@thepbmoms.com
SUMMARY:My Sunshine Farmers Market
DESCRIPTION:Farmers Market in Loxahatchee Every Sunday 10am-2pm. Grand Opening Day is February 15th. \nFree parking\, petting zoo\, pony rides\, local vendors\, fresh produce & eggs\, lemonade\, and much more!
URL:https://thepbmoms.com/event/my-sunshine-farmers-market/2026-08-16/
ATTACH;FMTTYPE=image/png:https://thepbmoms.com/wp-content/uploads/2026/01/6212CF6E-9B0A-4E8E-BD05-AEA598DE8669.png
END:VEVENT
BEGIN:VEVENT
DTSTART;TZID=UTC:20260823T100000
DTEND;TZID=UTC:20260823T140000
DTSTAMP:20260422T150900
CREATED:20260114T181200Z
LAST-MODIFIED:20260114T181200Z
UID:10030560-1787479200-1787493600@thepbmoms.com
SUMMARY:My Sunshine Farmers Market
DESCRIPTION:Farmers Market in Loxahatchee Every Sunday 10am-2pm. Grand Opening Day is February 15th. \nFree parking\, petting zoo\, pony rides\, local vendors\, fresh produce & eggs\, lemonade\, and much more!
URL:https://thepbmoms.com/event/my-sunshine-farmers-market/2026-08-23/
ATTACH;FMTTYPE=image/png:https://thepbmoms.com/wp-content/uploads/2026/01/6212CF6E-9B0A-4E8E-BD05-AEA598DE8669.png
END:VEVENT
BEGIN:VEVENT
DTSTART;TZID=UTC:20260830T100000
DTEND;TZID=UTC:20260830T140000
DTSTAMP:20260422T150900
CREATED:20260114T181200Z
LAST-MODIFIED:20260114T181200Z
UID:10030561-1788084000-1788098400@thepbmoms.com
SUMMARY:My Sunshine Farmers Market
DESCRIPTION:Farmers Market in Loxahatchee Every Sunday 10am-2pm. Grand Opening Day is February 15th. \nFree parking\, petting zoo\, pony rides\, local vendors\, fresh produce & eggs\, lemonade\, and much more!
URL:https://thepbmoms.com/event/my-sunshine-farmers-market/2026-08-30/
ATTACH;FMTTYPE=image/png:https://thepbmoms.com/wp-content/uploads/2026/01/6212CF6E-9B0A-4E8E-BD05-AEA598DE8669.png
END:VEVENT
BEGIN:VEVENT
DTSTART;TZID=UTC:20260906T100000
DTEND;TZID=UTC:20260906T140000
DTSTAMP:20260422T150900
CREATED:20260114T181200Z
LAST-MODIFIED:20260114T181200Z
UID:10030562-1788688800-1788703200@thepbmoms.com
SUMMARY:My Sunshine Farmers Market
DESCRIPTION:Farmers Market in Loxahatchee Every Sunday 10am-2pm. Grand Opening Day is February 15th. \nFree parking\, petting zoo\, pony rides\, local vendors\, fresh produce & eggs\, lemonade\, and much more!
URL:https://thepbmoms.com/event/my-sunshine-farmers-market/2026-09-06/
ATTACH;FMTTYPE=image/png:https://thepbmoms.com/wp-content/uploads/2026/01/6212CF6E-9B0A-4E8E-BD05-AEA598DE8669.png
END:VEVENT
BEGIN:VEVENT
DTSTART;TZID=UTC:20260913T100000
DTEND;TZID=UTC:20260913T140000
DTSTAMP:20260422T150900
CREATED:20260114T181200Z
LAST-MODIFIED:20260114T181200Z
UID:10030563-1789293600-1789308000@thepbmoms.com
SUMMARY:My Sunshine Farmers Market
DESCRIPTION:Farmers Market in Loxahatchee Every Sunday 10am-2pm. Grand Opening Day is February 15th. \nFree parking\, petting zoo\, pony rides\, local vendors\, fresh produce & eggs\, lemonade\, and much more!
URL:https://thepbmoms.com/event/my-sunshine-farmers-market/2026-09-13/
ATTACH;FMTTYPE=image/png:https://thepbmoms.com/wp-content/uploads/2026/01/6212CF6E-9B0A-4E8E-BD05-AEA598DE8669.png
END:VEVENT
BEGIN:VEVENT
DTSTART;TZID=UTC:20260920T100000
DTEND;TZID=UTC:20260920T140000
DTSTAMP:20260422T150900
CREATED:20260114T181200Z
LAST-MODIFIED:20260114T181200Z
UID:10030564-1789898400-1789912800@thepbmoms.com
SUMMARY:My Sunshine Farmers Market
DESCRIPTION:Farmers Market in Loxahatchee Every Sunday 10am-2pm. Grand Opening Day is February 15th. \nFree parking\, petting zoo\, pony rides\, local vendors\, fresh produce & eggs\, lemonade\, and much more!
URL:https://thepbmoms.com/event/my-sunshine-farmers-market/2026-09-20/
ATTACH;FMTTYPE=image/png:https://thepbmoms.com/wp-content/uploads/2026/01/6212CF6E-9B0A-4E8E-BD05-AEA598DE8669.png
END:VEVENT
BEGIN:VEVENT
DTSTART;TZID=UTC:20260927T100000
DTEND;TZID=UTC:20260927T140000
DTSTAMP:20260422T150900
CREATED:20260114T181200Z
LAST-MODIFIED:20260114T181200Z
UID:10030565-1790503200-1790517600@thepbmoms.com
SUMMARY:My Sunshine Farmers Market
DESCRIPTION:Farmers Market in Loxahatchee Every Sunday 10am-2pm. Grand Opening Day is February 15th. \nFree parking\, petting zoo\, pony rides\, local vendors\, fresh produce & eggs\, lemonade\, and much more!
URL:https://thepbmoms.com/event/my-sunshine-farmers-market/2026-09-27/
ATTACH;FMTTYPE=image/png:https://thepbmoms.com/wp-content/uploads/2026/01/6212CF6E-9B0A-4E8E-BD05-AEA598DE8669.png
END:VEVENT
BEGIN:VEVENT
DTSTART;TZID=UTC:20261004T100000
DTEND;TZID=UTC:20261004T140000
DTSTAMP:20260422T150900
CREATED:20260114T181200Z
LAST-MODIFIED:20260114T181200Z
UID:10030566-1791108000-1791122400@thepbmoms.com
SUMMARY:My Sunshine Farmers Market
DESCRIPTION:Farmers Market in Loxahatchee Every Sunday 10am-2pm. Grand Opening Day is February 15th. \nFree parking\, petting zoo\, pony rides\, local vendors\, fresh produce & eggs\, lemonade\, and much more!
URL:https://thepbmoms.com/event/my-sunshine-farmers-market/2026-10-04/
ATTACH;FMTTYPE=image/png:https://thepbmoms.com/wp-content/uploads/2026/01/6212CF6E-9B0A-4E8E-BD05-AEA598DE8669.png
END:VEVENT
BEGIN:VEVENT
DTSTART;TZID=UTC:20261011T100000
DTEND;TZID=UTC:20261011T140000
DTSTAMP:20260422T150900
CREATED:20260114T181200Z
LAST-MODIFIED:20260114T181200Z
UID:10030567-1791712800-1791727200@thepbmoms.com
SUMMARY:My Sunshine Farmers Market
DESCRIPTION:Farmers Market in Loxahatchee Every Sunday 10am-2pm. Grand Opening Day is February 15th. \nFree parking\, petting zoo\, pony rides\, local vendors\, fresh produce & eggs\, lemonade\, and much more!
URL:https://thepbmoms.com/event/my-sunshine-farmers-market/2026-10-11/
ATTACH;FMTTYPE=image/png:https://thepbmoms.com/wp-content/uploads/2026/01/6212CF6E-9B0A-4E8E-BD05-AEA598DE8669.png
END:VEVENT
BEGIN:VEVENT
DTSTART;TZID=UTC:20261018T100000
DTEND;TZID=UTC:20261018T140000
DTSTAMP:20260422T150901
CREATED:20260114T181200Z
LAST-MODIFIED:20260114T181200Z
UID:10030568-1792317600-1792332000@thepbmoms.com
SUMMARY:My Sunshine Farmers Market
DESCRIPTION:Farmers Market in Loxahatchee Every Sunday 10am-2pm. Grand Opening Day is February 15th. \nFree parking\, petting zoo\, pony rides\, local vendors\, fresh produce & eggs\, lemonade\, and much more!
URL:https://thepbmoms.com/event/my-sunshine-farmers-market/2026-10-18/
ATTACH;FMTTYPE=image/png:https://thepbmoms.com/wp-content/uploads/2026/01/6212CF6E-9B0A-4E8E-BD05-AEA598DE8669.png
END:VEVENT
BEGIN:VEVENT
DTSTART;TZID=UTC:20261025T100000
DTEND;TZID=UTC:20261025T140000
DTSTAMP:20260422T150901
CREATED:20260114T181200Z
LAST-MODIFIED:20260114T181200Z
UID:10030569-1792922400-1792936800@thepbmoms.com
SUMMARY:My Sunshine Farmers Market
DESCRIPTION:Farmers Market in Loxahatchee Every Sunday 10am-2pm. Grand Opening Day is February 15th. \nFree parking\, petting zoo\, pony rides\, local vendors\, fresh produce & eggs\, lemonade\, and much more!
URL:https://thepbmoms.com/event/my-sunshine-farmers-market/2026-10-25/
ATTACH;FMTTYPE=image/png:https://thepbmoms.com/wp-content/uploads/2026/01/6212CF6E-9B0A-4E8E-BD05-AEA598DE8669.png
END:VEVENT
BEGIN:VEVENT
DTSTART;TZID=UTC:20261101T100000
DTEND;TZID=UTC:20261101T140000
DTSTAMP:20260422T150901
CREATED:20260114T181200Z
LAST-MODIFIED:20260114T181200Z
UID:10030570-1793527200-1793541600@thepbmoms.com
SUMMARY:My Sunshine Farmers Market
DESCRIPTION:Farmers Market in Loxahatchee Every Sunday 10am-2pm. Grand Opening Day is February 15th. \nFree parking\, petting zoo\, pony rides\, local vendors\, fresh produce & eggs\, lemonade\, and much more!
URL:https://thepbmoms.com/event/my-sunshine-farmers-market/2026-11-01/
ATTACH;FMTTYPE=image/png:https://thepbmoms.com/wp-content/uploads/2026/01/6212CF6E-9B0A-4E8E-BD05-AEA598DE8669.png
END:VEVENT
BEGIN:VEVENT
DTSTART;TZID=UTC:20261108T100000
DTEND;TZID=UTC:20261108T140000
DTSTAMP:20260422T150901
CREATED:20260114T181200Z
LAST-MODIFIED:20260114T181200Z
UID:10030571-1794132000-1794146400@thepbmoms.com
SUMMARY:My Sunshine Farmers Market
DESCRIPTION:Farmers Market in Loxahatchee Every Sunday 10am-2pm. Grand Opening Day is February 15th. \nFree parking\, petting zoo\, pony rides\, local vendors\, fresh produce & eggs\, lemonade\, and much more!
URL:https://thepbmoms.com/event/my-sunshine-farmers-market/2026-11-08/
ATTACH;FMTTYPE=image/png:https://thepbmoms.com/wp-content/uploads/2026/01/6212CF6E-9B0A-4E8E-BD05-AEA598DE8669.png
END:VEVENT
BEGIN:VEVENT
DTSTART;TZID=UTC:20261115T100000
DTEND;TZID=UTC:20261115T140000
DTSTAMP:20260422T150901
CREATED:20260114T181200Z
LAST-MODIFIED:20260114T181200Z
UID:10030572-1794736800-1794751200@thepbmoms.com
SUMMARY:My Sunshine Farmers Market
DESCRIPTION:Farmers Market in Loxahatchee Every Sunday 10am-2pm. Grand Opening Day is February 15th. \nFree parking\, petting zoo\, pony rides\, local vendors\, fresh produce & eggs\, lemonade\, and much more!
URL:https://thepbmoms.com/event/my-sunshine-farmers-market/2026-11-15/
ATTACH;FMTTYPE=image/png:https://thepbmoms.com/wp-content/uploads/2026/01/6212CF6E-9B0A-4E8E-BD05-AEA598DE8669.png
END:VEVENT
END:VCALENDAR