BEGIN:VCALENDAR
VERSION:2.0
PRODID:-//Palm Beach Moms - ECPv6.15.20//NONSGML v1.0//EN
CALSCALE:GREGORIAN
METHOD:PUBLISH
X-ORIGINAL-URL:https://thepbmoms.com
X-WR-CALDESC:Events for Palm Beach Moms
REFRESH-INTERVAL;VALUE=DURATION:PT1H
X-Robots-Tag:noindex
X-PUBLISHED-TTL:PT1H
BEGIN:VTIMEZONE
TZID:UTC
BEGIN:STANDARD
TZOFFSETFROM:+0000
TZOFFSETTO:+0000
TZNAME:UTC
DTSTART:20230101T000000
END:STANDARD
END:VTIMEZONE
BEGIN:VEVENT
DTSTART;TZID=UTC:20240505T140000
DTEND;TZID=UTC:20240505T143000
DTSTAMP:20260422T221708
CREATED:20240101T220907Z
LAST-MODIFIED:20240101T220959Z
UID:10016761-1714917600-1714919400@thepbmoms.com
SUMMARY:Live Alligator Petting
DESCRIPTION:Live Alligator Petting \nFriday – Sunday Only at 2:00pm
URL:https://thepbmoms.com/event/live-alligator-petting/2024-05-05/
LOCATION:Cox Science Center\, 4801 Dreher Trail North\, Weest Palm Beach\, FL\, 33405
END:VEVENT
BEGIN:VEVENT
DTSTART;TZID=UTC:20240505T140000
DTEND;TZID=UTC:20240505T150000
DTSTAMP:20260422T221708
CREATED:20240204T182121Z
LAST-MODIFIED:20240204T182121Z
UID:10019959-1714917600-1714921200@thepbmoms.com
SUMMARY:Story Time Series with Palm Beach Opera: Donizetti's The Magic Love Potion
DESCRIPTION:For families with children of all ages. Get ready to be whisked away into the pages of one of opera’s greatest stories by an artist from Palm Beach Opera! PBO’s Teaching Artist will sing\, act\, and explore costume design in this family-friendly interactive program. Space is limited\, and in-person signup begins in KidSpace at 1:30 p.m. \n\n\nDate:\nSunday\, February 11\, 2024 \nSunday\, March 10\, 2024\nSunday\, April 14\, 2024\nSunday\, May 5\, 2024 \n\nTime:\n2:00pm – 3:00pm\nLocation:\nKidSpace
URL:https://thepbmoms.com/event/story-time-series-with-palm-beach-opera-donizettis-the-magic-love-potion/2024-05-05/
LOCATION:Mandel Public Library\, 411 Clematis\, West Palm Beach\, FL\, 33401
END:VEVENT
BEGIN:VEVENT
DTSTART;TZID=UTC:20240505T140000
DTEND;TZID=UTC:20240505T160000
DTSTAMP:20260422T221708
CREATED:20230907T005231Z
LAST-MODIFIED:20230907T005231Z
UID:10013384-1714917600-1714924800@thepbmoms.com
SUMMARY:Sunday Makebreak - FREE crafting
DESCRIPTION:Michaels Stores \nSept 10: Fall Pom-Pom Trees \nSept 17: Watercolor Leaf Art \nSept 24: Pumpkin Fest \nOct 1: Halloween Pumpkin Fest \nOct 8: Friendship bracelets \nOct 22: Witch silhouette \nOct 29: Mandala Pumpkin Art \n 
URL:https://thepbmoms.com/event/sunday-makebreak-free-crafting/2024-05-05/
LOCATION:FL
END:VEVENT
BEGIN:VEVENT
DTSTART;TZID=UTC:20240506T090000
DTEND;TZID=UTC:20240506T120000
DTSTAMP:20260422T221708
CREATED:20240209T201657Z
LAST-MODIFIED:20240209T201657Z
UID:10020112-1714986000-1714996800@thepbmoms.com
SUMMARY:Pickleball Open Play
DESCRIPTION:The Mandel JCC is offering a place to play the fastest growing game in the nation! Enjoy playing pickleball in our air-conditioned gymnasium. No matter the skill level\, all are welcome. Pickleballs and Paddles will be provided.
URL:https://thepbmoms.com/event/pickleball-open-play/2024-05-06/
LOCATION:Mandel JCC PBG\, 5221 Hood Road\, Palm Beach Gardens\, FL\, 33418
CATEGORIES:Parents
END:VEVENT
BEGIN:VEVENT
DTSTART;TZID=UTC:20240506T091500
DTEND;TZID=UTC:20240506T101500
DTSTAMP:20260422T221708
CREATED:20240123T150913Z
LAST-MODIFIED:20240123T150913Z
UID:10019474-1714986900-1714990500@thepbmoms.com
SUMMARY:Baby & Me Classes
DESCRIPTION:The Baby & Me classes are designed to welcome and introduce the newest members of our community and their families to our Mandel JCC family. Classes are available for babies through three years of age accompanied by their mommy\, daddy\, grandparents\, or other significant adult. \nEvery class period is thoughtfully themed to include music & movement\, child’s play activities & storytelling as well as helpful parenting discussions. Our classes are centered around the Jewish and secular calendars while incorporating healthy habits and good values. Our rooms are transformed each week into creative and imaginative play environment … worthy of an Insta post. \nThese first years are so precious that we don’t want them ever forgotten. We will help preserve and document these moments through our creative family projects. Come and create lasting memories\, while having a fun-filled time with your child. Be a part of your child’s journey of discovery and learning\, all while making lasting friendships. \n  \nAdventurous Together\n(0 – 36 months)\n\n\n\n\n\nMondays\nJanuary 22 – March 11\n\n\n\n \n\n\n9:15 – 10:15 am\n$240 for 8-Week Session\nClick here to register >> \n\n\n\n \n\n\nDrop-In\nTry one class and see if you like it!\n$32 per Drop-In Class\n\nClick here to register >> \n\n\n\n\n\n\nWe can pro-rate based upon your start date. Contact Brooke at 561-712-5252 or BrookeP@JCConline.com to register!\nFor further information: \nBrooke Pertnoy at 561-712-5252 or BrookeP@JCConline.com
URL:https://thepbmoms.com/event/baby-me-classes/2024-05-06/
LOCATION:Mandel JCC PBG\, 5221 Hood Road\, Palm Beach Gardens\, FL\, 33418
ATTACH;FMTTYPE=image/jpeg:https://thepbmoms.com/wp-content/uploads/2024/01/IMG_2306.jpg
END:VEVENT
BEGIN:VEVENT
DTSTART;TZID=UTC:20240506T100000
DTEND;TZID=UTC:20240506T104500
DTSTAMP:20260422T221708
CREATED:20240204T175805Z
LAST-MODIFIED:20240204T175805Z
UID:10019629-1714989600-1714992300@thepbmoms.com
SUMMARY:Itsy Bitsy Yoga for Crawlers & Walkers Up to 24 Months
DESCRIPTION:Move with your baby! Itsy Bitsy Yoga will help your baby become happier and healthier. For babies who are crawling and walking\, up to 24 months old\, with parent or caregiver. Space is limited\, and in-person sign-up begins in KidSpace at 9:30 a.m. For more information\, visit wpbcitylibrary.org or call (561) 868-7703.\n\nDate:\nMonday\, February 5\, 2024 \nMonday\, February 12\, 2024\nMonday\, February 26\, 2024\nMonday\, March 4\, 2024\nMonday\, March 11\, 2024\nMonday\, March 18\, 2024\nMonday\, March 25\, 2024\nMonday\, April 1\, 2024\nMonday\, April 8\, 2024\nMonday\, April 15\, 2024\nMonday\, April 22\, 2024\nMonday\, April 29\, 2024\nMonday\, May 6\, 2024\nMonday\, May 13\, 2024\nMonday\, May 20\, 2024\nMonday\, May 27\, 2024 \n\nTime:\n10:00am – 10:45am\nLocation:\nKids Programming Space
URL:https://thepbmoms.com/event/itsy-bitsy-yoga-for-crawlers-walkers-up-to-24-months/2024-05-06/
LOCATION:Mandel Public Library\, 411 Clematis\, West Palm Beach\, FL\, 33401
END:VEVENT
BEGIN:VEVENT
DTSTART;TZID=UTC:20240506T103000
DTEND;TZID=UTC:20240506T110000
DTSTAMP:20260422T221708
CREATED:20230901T162515Z
LAST-MODIFIED:20230901T162515Z
UID:10012275-1714991400-1714993200@thepbmoms.com
SUMMARY:Toddler Storytime
DESCRIPTION:Toddler Storytimes (Ages 3 – 5): Mondays at 10:30 a.m. \nJoin us for Toddler Storytime! No sign up required and recommended for ages 3 to 5 years. Our storytimes are filled with bubbles\, songs\, stories\, and crafts or activities.
URL:https://thepbmoms.com/event/toddler-storytime/2024-05-06/
LOCATION:North Palm Beach Library\, 501 US Highway 1\, North Palm Beach\, FL\, 33408
END:VEVENT
BEGIN:VEVENT
DTSTART;TZID=UTC:20240506T104500
DTEND;TZID=UTC:20240506T110000
DTSTAMP:20260422T221708
CREATED:20240101T221421Z
LAST-MODIFIED:20240101T222831Z
UID:10017617-1714992300-1714993200@thepbmoms.com
SUMMARY:Touch Tank Demonstrations
DESCRIPTION:Touch Tank Demonstrations \nDaily demonstrations at 10:45am
URL:https://thepbmoms.com/event/touch-tank-demonstrations/2024-05-06/
LOCATION:Cox Science Center\, 4801 Dreher Trail North\, Weest Palm Beach\, FL\, 33405
ATTACH;FMTTYPE=image/png:https://thepbmoms.com/wp-content/uploads/2024/01/Untitled-design.png
END:VEVENT
BEGIN:VEVENT
DTSTART;TZID=UTC:20240506T110000
DTEND;TZID=UTC:20240506T114500
DTSTAMP:20260422T221708
CREATED:20240204T180115Z
LAST-MODIFIED:20240204T180115Z
UID:10019698-1714993200-1714995900@thepbmoms.com
SUMMARY:Itsy Bitsy Yoga for Non-Crawling Babies
DESCRIPTION:Move with your baby! Itsy Bitsy Yoga will help your baby become happier and healthier. For newborns to 12-month-old babies who are not yet crawling\, with a parent or caregiver. Space is limited\, and in- person sign-up begins in KidSpace at 10:30 a.m.  For more information\, visit wpbcitylibrary.org or call (561) 868-7703. \n\n\nDate:\nMonday\, February 5\, 2024  Show more dates \nMonday\, February 12\, 2024\nMonday\, February 26\, 2024\nMonday\, March 4\, 2024\nMonday\, March 11\, 2024\nMonday\, March 18\, 2024\nMonday\, March 25\, 2024\nMonday\, April 1\, 2024\nMonday\, April 8\, 2024\nMonday\, April 15\, 2024\nMonday\, April 22\, 2024\nMonday\, April 29\, 2024\nMonday\, May 6\, 2024\nMonday\, May 13\, 2024\nMonday\, May 20\, 2024\nMonday\, May 27\, 2024 \n\nTime:\n11:00am – 11:45am\nTime Zone:\nEastern Time – US & Canada (change)\nLocation:\nKids Programming Space
URL:https://thepbmoms.com/event/itsy-bitsy-yoga-for-non-crawling-babies/2024-05-06/
LOCATION:Mandel Public Library\, 411 Clematis\, West Palm Beach\, FL\, 33401
CATEGORIES:Baby
END:VEVENT
BEGIN:VEVENT
DTSTART;TZID=UTC:20240506T121500
DTEND;TZID=UTC:20240506T131500
DTSTAMP:20260422T221708
CREATED:20240209T202130Z
LAST-MODIFIED:20240209T202130Z
UID:10020172-1714997700-1715001300@thepbmoms.com
SUMMARY:Rock Steady Boxing
DESCRIPTION:Rock Steady Boxing has proven through several neurological studies to reduce Parkinson’s symptoms and help fight all aspects of the disease!
URL:https://thepbmoms.com/event/rock-steady-boxing/2024-05-06/
LOCATION:Mandel JCC PBG\, 5221 Hood Road\, Palm Beach Gardens\, FL\, 33418
CATEGORIES:Parents
END:VEVENT
BEGIN:VEVENT
DTSTART;TZID=UTC:20240507T103000
DTEND;TZID=UTC:20240507T110000
DTSTAMP:20260422T221708
CREATED:20240204T180415Z
LAST-MODIFIED:20240204T180415Z
UID:10019763-1715077800-1715079600@thepbmoms.com
SUMMARY:Creative Movement Ballet for Preschoolers Ages 2-3
DESCRIPTION:For all movers ages 2-3! Join Ms. Danielle as preschoolers explore natural and expressive movement through song\, dance\, and play while learning age-appropriate ballet technique. Perfect for newer students as well as those who have taken dance classes before. Space is limited\, and in-person sign-up begins in KidSpace at 10 a.m. For more information\, visit wpbcitylibrary.org or call (561) 868-7703. \n\n\nDate:\nTuesday\, February 6\, 2024 \nTuesday\, February 13\, 2024\nTuesday\, February 20\, 2024\nTuesday\, February 27\, 2024\nTuesday\, March 5\, 2024\nTuesday\, March 12\, 2024\nTuesday\, March 19\, 2024\nTuesday\, March 26\, 2024\nTuesday\, April 2\, 2024\nTuesday\, April 9\, 2024\nTuesday\, April 16\, 2024\nTuesday\, April 23\, 2024\nTuesday\, April 30\, 2024\nTuesday\, May 7\, 2024\nTuesday\, May 14\, 2024\nTuesday\, May 21\, 2024 \n\nTime:\n10:30am – 11:00am\nLocation:\nKids Programming Space
URL:https://thepbmoms.com/event/creative-movement-ballet-for-preschoolers-ages-2-3/2024-05-07/
LOCATION:Mandel Public Library\, 411 Clematis\, West Palm Beach\, FL\, 33401
END:VEVENT
BEGIN:VEVENT
DTSTART;TZID=UTC:20240507T104500
DTEND;TZID=UTC:20240507T110000
DTSTAMP:20260422T221708
CREATED:20240101T221421Z
LAST-MODIFIED:20240101T222831Z
UID:10017618-1715078700-1715079600@thepbmoms.com
SUMMARY:Touch Tank Demonstrations
DESCRIPTION:Touch Tank Demonstrations \nDaily demonstrations at 10:45am
URL:https://thepbmoms.com/event/touch-tank-demonstrations/2024-05-07/
LOCATION:Cox Science Center\, 4801 Dreher Trail North\, Weest Palm Beach\, FL\, 33405
ATTACH;FMTTYPE=image/png:https://thepbmoms.com/wp-content/uploads/2024/01/Untitled-design.png
END:VEVENT
BEGIN:VEVENT
DTSTART;TZID=UTC:20240508T090000
DTEND;TZID=UTC:20240508T120000
DTSTAMP:20260422T221708
CREATED:20240209T201657Z
LAST-MODIFIED:20240209T201657Z
UID:10020113-1715158800-1715169600@thepbmoms.com
SUMMARY:Pickleball Open Play
DESCRIPTION:The Mandel JCC is offering a place to play the fastest growing game in the nation! Enjoy playing pickleball in our air-conditioned gymnasium. No matter the skill level\, all are welcome. Pickleballs and Paddles will be provided.
URL:https://thepbmoms.com/event/pickleball-open-play/2024-05-08/
LOCATION:Mandel JCC PBG\, 5221 Hood Road\, Palm Beach Gardens\, FL\, 33418
CATEGORIES:Parents
END:VEVENT
BEGIN:VEVENT
DTSTART;TZID=UTC:20240508T100000
DTEND;TZID=UTC:20240508T110000
DTSTAMP:20260422T221708
CREATED:20240511T175252Z
LAST-MODIFIED:20240511T175252Z
UID:10020618-1715162400-1715166000@thepbmoms.com
SUMMARY:Tiny Tales Story Time
DESCRIPTION:Join us for Toddler Story time in our Educational Amphitheater\, held every Wednesday at 10:00am. A great family friendly program where little ones of all ages can learn about wildlife! Listen to stories about gators and panthers\, and see some of our animal ambassadors up close.
URL:https://thepbmoms.com/event/tiny-tales-story-time/2024-05-08/
LOCATION:Busch Wildlife\, 17855 Rocky Pines Road\, Jupiter\, FL\, 33478
CATEGORIES:Baby,The Whole Family,Toddler
END:VEVENT
BEGIN:VEVENT
DTSTART;TZID=UTC:20240508T104500
DTEND;TZID=UTC:20240508T110000
DTSTAMP:20260422T221708
CREATED:20240101T221421Z
LAST-MODIFIED:20240101T222831Z
UID:10017619-1715165100-1715166000@thepbmoms.com
SUMMARY:Touch Tank Demonstrations
DESCRIPTION:Touch Tank Demonstrations \nDaily demonstrations at 10:45am
URL:https://thepbmoms.com/event/touch-tank-demonstrations/2024-05-08/
LOCATION:Cox Science Center\, 4801 Dreher Trail North\, Weest Palm Beach\, FL\, 33405
ATTACH;FMTTYPE=image/png:https://thepbmoms.com/wp-content/uploads/2024/01/Untitled-design.png
END:VEVENT
BEGIN:VEVENT
DTSTART;TZID=UTC:20240508T121500
DTEND;TZID=UTC:20240508T131500
DTSTAMP:20260422T221708
CREATED:20240209T202130Z
LAST-MODIFIED:20240209T202130Z
UID:10020173-1715170500-1715174100@thepbmoms.com
SUMMARY:Rock Steady Boxing
DESCRIPTION:Rock Steady Boxing has proven through several neurological studies to reduce Parkinson’s symptoms and help fight all aspects of the disease!
URL:https://thepbmoms.com/event/rock-steady-boxing/2024-05-08/
LOCATION:Mandel JCC PBG\, 5221 Hood Road\, Palm Beach Gardens\, FL\, 33418
CATEGORIES:Parents
END:VEVENT
BEGIN:VEVENT
DTSTART;TZID=UTC:20240508T160000
DTEND;TZID=UTC:20240508T180000
DTSTAMP:20260422T221708
CREATED:20240220T023324Z
LAST-MODIFIED:20240220T023324Z
UID:10020330-1715184000-1715191200@thepbmoms.com
SUMMARY:Happiness Hour
DESCRIPTION:Join us every Wednesday for a 2 hour event full of fun and surprises! Included in this event is unlimited time in soft play\, craft & dance party! \nValued at: $55.00
URL:https://thepbmoms.com/event/happiness-hour/2024-05-08/
LOCATION:Rhythm and Hues\, 7725 South Dixie Hwy\, West Palm Beach\, Fl\, 33405
ORGANIZER;CN="Rhythm &amp%3B Hues":MAILTO:Wpb@rhythmandhues.com
END:VEVENT
BEGIN:VEVENT
DTSTART;TZID=UTC:20240508T163000
DTEND;TZID=UTC:20240508T180000
DTSTAMP:20260422T221708
CREATED:20240307T192246Z
LAST-MODIFIED:20240307T192246Z
UID:10020439-1715185800-1715191200@thepbmoms.com
SUMMARY:After School Book Club: A Wolf called Wander
DESCRIPTION:📖🌱Calling all nature-loving readers! \nJoin us on Wednesday\, May 8th from 4:30 to 6pm for our next afterschool book club for kids in grades 3-8. This month’s book will be A WOLF CALLED WANDER by Rosanne Parry. This exciting\, illustrated novel about survival and family is based on the real story of one wolf’s incredible journey to find a safe place to call home. \nYou can find A WOLF CALLED WANDER at our local library or at a bookseller of your choice. Readers should finish the book before the meeting\, then go deeper with discussion\, crafts\, ideas for activism\, and other activities. \nPlease RSVP to attend. \nAfterschool Book Club
URL:https://thepbmoms.com/event/after-school-book-club-a-wolf-called-wander/
LOCATION:River Center\, 805 N US Highway 1\, Jupiter\, 33477
CATEGORIES:Free
ATTACH;FMTTYPE=image/png:https://thepbmoms.com/wp-content/uploads/2024/03/book-club-a-wolf-called-wander.png
ORGANIZER;CN="River Center":MAILTO:rivercenter@lrecd.org
END:VEVENT
BEGIN:VEVENT
DTSTART;TZID=UTC:20240509T093000
DTEND;TZID=UTC:20240509T100000
DTSTAMP:20260422T221708
CREATED:20240307T192739Z
LAST-MODIFIED:20240307T192739Z
UID:10020435-1715247000-1715248800@thepbmoms.com
SUMMARY:Story Time
DESCRIPTION:Join the River Center inside in our classroom for our weekly Story time!\nGather around as we read various stories and provide an up-close encounter with one of our resident animal ambassadors.\nChildren ages 0-6 are welcome to attend.\nThis is a free program and no RSVP is required.\nWe hope to see you there!
URL:https://thepbmoms.com/event/story-time-3/2024-05-09/
LOCATION:River Center\, 805 N US Highway 1\, Jupiter\, 33477
CATEGORIES:Baby,Free,Toddler
ORGANIZER;CN="River Center":MAILTO:rivercenter@lrecd.org
END:VEVENT
BEGIN:VEVENT
DTSTART;TZID=UTC:20240509T103000
DTEND;TZID=UTC:20240509T110000
DTSTAMP:20260422T221708
CREATED:20240204T181040Z
LAST-MODIFIED:20240204T181104Z
UID:10019832-1715250600-1715252400@thepbmoms.com
SUMMARY:Rhythm & Hues Music Class up to age 5
DESCRIPTION:For families with babies and children up to age 5. Join the creative staff from Rhythm & Hues Children’s Art & Music Center for a joyful time of music\, singing\, dancing\, instruments\, friendship\, and family. Space is limited\, and in-person sign-up begins in KidSpace at 10 a.m. for the 10:30 a.m. classes and at 10:30 a.m. for the 11 a.m. class. For more information\, visit wpbcitylibrary.org or call (561) 868-7703.\n\n  \n\n\nDate:\nThursday\, February 8\, 2024  Show more dates \nThursday\, February 15\, 2024\nThursday\, February 22\, 2024\nThursday\, February 29\, 2024\nThursday\, March 7\, 2024\nThursday\, March 14\, 2024\nThursday\, March 21\, 2024\nThursday\, March 28\, 2024\nThursday\, April 4\, 2024\nThursday\, April 11\, 2024\nThursday\, April 18\, 2024\nThursday\, April 25\, 2024\nThursday\, May 2\, 2024\nThursday\, May 9\, 2024\nThursday\, May 16\, 2024\nThursday\, May 23\, 2024 \n\nTime:\n10:30am – 11:00am\nLocation:\nKids Programming Space
URL:https://thepbmoms.com/event/rhythm-hues-music-class/2024-05-09/
LOCATION:Mandel Public Library\, 411 Clematis\, West Palm Beach\, FL\, 33401
END:VEVENT
BEGIN:VEVENT
DTSTART;TZID=UTC:20240509T104500
DTEND;TZID=UTC:20240509T110000
DTSTAMP:20260422T221708
CREATED:20240101T221421Z
LAST-MODIFIED:20240101T222831Z
UID:10017620-1715251500-1715252400@thepbmoms.com
SUMMARY:Touch Tank Demonstrations
DESCRIPTION:Touch Tank Demonstrations \nDaily demonstrations at 10:45am
URL:https://thepbmoms.com/event/touch-tank-demonstrations/2024-05-09/
LOCATION:Cox Science Center\, 4801 Dreher Trail North\, Weest Palm Beach\, FL\, 33405
ATTACH;FMTTYPE=image/png:https://thepbmoms.com/wp-content/uploads/2024/01/Untitled-design.png
END:VEVENT
BEGIN:VEVENT
DTSTART;TZID=UTC:20240509T150000
DTEND;TZID=UTC:20240509T153000
DTSTAMP:20260422T221708
CREATED:20230901T163322Z
LAST-MODIFIED:20230901T163322Z
UID:10012858-1715266800-1715268600@thepbmoms.com
SUMMARY:Crafts for Kids
DESCRIPTION:Crafts for Kids (Up to Age 7)\nEvery Thursday / 3:00 p.m.\n\n\n\nJoin us for weekly crafts at the library! We offer a new craft every week\, we recommended these crafts for up to age seven.
URL:https://thepbmoms.com/event/crafts-for-kids/2024-05-09/
LOCATION:North Palm Beach Library\, 501 US Highway 1\, North Palm Beach\, FL\, 33408
END:VEVENT
BEGIN:VEVENT
DTSTART;VALUE=DATE:20240510
DTEND;VALUE=DATE:20240512
DTSTAMP:20260422T221708
CREATED:20240122T020937Z
LAST-MODIFIED:20240210T224430Z
UID:10019452-1715299200-1715471999@thepbmoms.com
SUMMARY:Free Orchid Reward for Mothers Day
DESCRIPTION:Shop in Downtown Delray Beach during the week of Mother’s Day\, spend $200 or more and receive a beautiful phalaenopsis orchid plant at one of our orchid stations May 10 – 11\, 2024. Last year\, more than 400 orchids were distributed! \n\nThis annual program is generously supported by the Downtown Merchant & Business Association.  For Downtown Delray Beach Orchid Giveaway information\, call the DDA Office at 561.243.1077. \n\n\nWhen \n\n\n\nFriday\, May 10\, 2024 to Saturday\, May 11\, 2024\n\n\n\n\n\n\n11:00am – 5:00pm\n\n\n\n\n\nContact Info \n\n\n\n\nThroughout Downtown Delray Beach
URL:https://thepbmoms.com/event/free-orchid-reward-for-mothers-day/
LOCATION:FL
ATTACH;FMTTYPE=image/jpeg:https://thepbmoms.com/wp-content/uploads/2024/01/resized_20210507_123329_1.jpg
END:VEVENT
BEGIN:VEVENT
DTSTART;TZID=UTC:20240510T090000
DTEND;TZID=UTC:20240510T120000
DTSTAMP:20260422T221708
CREATED:20240209T201657Z
LAST-MODIFIED:20240209T201657Z
UID:10020114-1715331600-1715342400@thepbmoms.com
SUMMARY:Pickleball Open Play
DESCRIPTION:The Mandel JCC is offering a place to play the fastest growing game in the nation! Enjoy playing pickleball in our air-conditioned gymnasium. No matter the skill level\, all are welcome. Pickleballs and Paddles will be provided.
URL:https://thepbmoms.com/event/pickleball-open-play/2024-05-10/
LOCATION:Mandel JCC PBG\, 5221 Hood Road\, Palm Beach Gardens\, FL\, 33418
CATEGORIES:Parents
END:VEVENT
BEGIN:VEVENT
DTSTART;TZID=UTC:20240510T100000
DTEND;TZID=UTC:20240510T104500
DTSTAMP:20260422T221708
CREATED:20230901T162811Z
LAST-MODIFIED:20240204T181510Z
UID:10019900-1715335200-1715337900@thepbmoms.com
SUMMARY:Baby Storytime
DESCRIPTION:For families with babies from birth to 18 months old. Join Children’s Librarian Ms. Jillian for music\, songs\, rhymes\, play\, and of course\, great books in this storytime made especially for the littlest learners. Space is limited\, and in-person sign-up begins in KidSpace at 9:30 a.m. For more information\, visit wpbcitylibrary.org or call (561) 868-7703. \n\n\nDate:\nFriday\, February 9\, 2024  Show more dates \nFriday\, February 16\, 2024\nFriday\, February 23\, 2024\nFriday\, March 1\, 2024\nFriday\, March 8\, 2024\nFriday\, March 15\, 2024\nFriday\, March 22\, 2024\nFriday\, March 29\, 2024\nFriday\, April 5\, 2024\nFriday\, April 12\, 2024\nFriday\, April 19\, 2024\nFriday\, April 26\, 2024\nFriday\, May 3\, 2024\nFriday\, May 10\, 2024\nFriday\, May 17\, 2024\nFriday\, May 24\, 2024 \n\nTime:\n10:00am – 10:45am
URL:https://thepbmoms.com/event/baby-storytime/2024-05-10/
LOCATION:Mandel Public Library\, 411 Clematis\, West Palm Beach\, FL\, 33401
END:VEVENT
BEGIN:VEVENT
DTSTART;TZID=UTC:20240510T104500
DTEND;TZID=UTC:20240510T110000
DTSTAMP:20260422T221708
CREATED:20240101T221421Z
LAST-MODIFIED:20240101T222831Z
UID:10017621-1715337900-1715338800@thepbmoms.com
SUMMARY:Touch Tank Demonstrations
DESCRIPTION:Touch Tank Demonstrations \nDaily demonstrations at 10:45am
URL:https://thepbmoms.com/event/touch-tank-demonstrations/2024-05-10/
LOCATION:Cox Science Center\, 4801 Dreher Trail North\, Weest Palm Beach\, FL\, 33405
ATTACH;FMTTYPE=image/png:https://thepbmoms.com/wp-content/uploads/2024/01/Untitled-design.png
END:VEVENT
BEGIN:VEVENT
DTSTART;TZID=UTC:20240510T121500
DTEND;TZID=UTC:20240510T131500
DTSTAMP:20260422T221708
CREATED:20240209T202130Z
LAST-MODIFIED:20240209T202130Z
UID:10020174-1715343300-1715346900@thepbmoms.com
SUMMARY:Rock Steady Boxing
DESCRIPTION:Rock Steady Boxing has proven through several neurological studies to reduce Parkinson’s symptoms and help fight all aspects of the disease!
URL:https://thepbmoms.com/event/rock-steady-boxing/2024-05-10/
LOCATION:Mandel JCC PBG\, 5221 Hood Road\, Palm Beach Gardens\, FL\, 33418
CATEGORIES:Parents
END:VEVENT
BEGIN:VEVENT
DTSTART;TZID=UTC:20240510T140000
DTEND;TZID=UTC:20240510T143000
DTSTAMP:20260422T221708
CREATED:20240101T220907Z
LAST-MODIFIED:20240101T220959Z
UID:10016762-1715349600-1715351400@thepbmoms.com
SUMMARY:Live Alligator Petting
DESCRIPTION:Live Alligator Petting \nFriday – Sunday Only at 2:00pm
URL:https://thepbmoms.com/event/live-alligator-petting/2024-05-10/
LOCATION:Cox Science Center\, 4801 Dreher Trail North\, Weest Palm Beach\, FL\, 33405
END:VEVENT
BEGIN:VEVENT
DTSTART;TZID=UTC:20240510T170000
DTEND;TZID=UTC:20240510T210000
DTSTAMP:20260422T221708
CREATED:20240429T154624Z
LAST-MODIFIED:20240429T154624Z
UID:10020583-1715360400-1715374800@thepbmoms.com
SUMMARY:Museum of Discovery and Science’s Kids Adventures After Dark: Wild Weather Night
DESCRIPTION:Calling all curious minds (ages 6 to 12) for a night that will blow you away at the Museum of Discovery and Science’s (MODS) after dark without parents! It’s a storm of science you won’t want to miss! \nCrafty Creations: Dive into the challenge and defy the forces of nature! Construct your very own flood-proof house and see if it can withstand Florida-level rain surges! Let your engineering skills shine as you tackle this thrilling task! \nChill Cinema: Seeking shelter from the storm? Cozy up in the Keller Science Theater for a special showing of National Parks Adventure! Experience the extreme terrain and weather of America’s wild landscapes from the comfort of your seat! \nExhilarating Exhibits: Prepare to embark on an unforgettable journey! Climb aboard the giant Nautilus submarine at the Voyage to the Deep traveling exhibit! Dive deep into an interactive underwater adventure\, explore the lost world of Atlantis\, brave the seaweed maze and hunt for treasure in the wreck of a Spanish galleon! \nScience Spectacle: Brace yourself for a mind-blowing KaBOOM! Show! Witness the magic of science as you learn about the states of matter and experience explosive chemical reactions that will leave you in awe! \nKids can also surf the wave of excitement at MODS with Voyage to the Deep\, a new traveling exhibit. “Seas” the day and embark on the legendary Nautilus submarine with Captain Nemo for an interactive journey of underwater exploration! \nExperience South Florida’s award-winning attraction featuring 150\,000 square feet of dynamic science exhibits\, an outdoor science park\, a live animal collection\, a rotating schedule of science shows\, learning labs\, café\, store and a grand atrium featuring the Great Gravity Clock\, a 52-foot-tall kinetic energy sculpture; the largest clock in Florida. The showpiece of the museum since 1993\, this unique timepiece is one of only three in the world. \nSpace is limited. Preregistration is required at mods.org/event/kids-adventures-after-dark-13/. \nFor more information\, visit mods.org or call (954) 467-MODS (6637). Like us and follow us on social media at Facebook: facebook.com/modsftl\, Twitter: twitter.com/modsftl and Instagram: instagram.com/modsftl.
URL:https://thepbmoms.com/event/museum-of-discovery-and-sciences-kids-adventures-after-dark-wild-weather-night/
LOCATION:Museum of Discovery and Science\, 401 SW 2nd St.\, Fort Lauderdale\, 33312
CATEGORIES:Just for Kids
ATTACH;FMTTYPE=image/png:https://thepbmoms.com/wp-content/uploads/2024/04/KAAD-Weather-820x450-1080-x-1080-px.png
ORGANIZER;CN="Museum of Discovery and Science":MAILTO:booking@mods.org
END:VEVENT
BEGIN:VEVENT
DTSTART;VALUE=DATE:20240511
DTEND;VALUE=DATE:20240512
DTSTAMP:20260422T221708
CREATED:20230607T025104Z
LAST-MODIFIED:20230607T025104Z
UID:10007515-1715385600-1715471999@thepbmoms.com
SUMMARY:Wildlife Encounters
DESCRIPTION:Wildlife Encounters \n\n\nMon – Fri: 3pm \nSat: 11AM and 2:30PM \n\nCome sit in our Cypress Amphitheater for a wildlife encounter and see native Florida animals up close! Wildlife Encounters are held daily and each program is different so you never know what you might see. With the help of our educational animal ambassadors\, learn all about their biology\, habitats\, and conservation efforts. We are open Monday through Saturday 10am-4:30pm and run on your donations. Come by today!
URL:https://thepbmoms.com/event/wildlife-encounters/2024-05-11/
LOCATION:Busch Wildlife\, 17855 Rocky Pines Road\, Jupiter\, FL\, 33478
END:VEVENT
END:VCALENDAR