BEGIN:VCALENDAR
VERSION:2.0
PRODID:-//Palm Beach Moms - ECPv6.15.20//NONSGML v1.0//EN
CALSCALE:GREGORIAN
METHOD:PUBLISH
X-WR-CALNAME:Palm Beach Moms
X-ORIGINAL-URL:https://thepbmoms.com
X-WR-CALDESC:Events for Palm Beach Moms
REFRESH-INTERVAL;VALUE=DURATION:PT1H
X-Robots-Tag:noindex
X-PUBLISHED-TTL:PT1H
BEGIN:VTIMEZONE
TZID:UTC
BEGIN:STANDARD
TZOFFSETFROM:+0000
TZOFFSETTO:+0000
TZNAME:UTC
DTSTART:20250101T000000
END:STANDARD
END:VTIMEZONE
BEGIN:VEVENT
DTSTART;TZID=UTC:20260509T160000
DTEND;TZID=UTC:20260509T180000
DTSTAMP:20260422T220413
CREATED:20260422T193816Z
LAST-MODIFIED:20260422T193816Z
UID:10033646-1778342400-1778349600@thepbmoms.com
SUMMARY:Kendra Scott Gives Back Shopping Event to Benefit Pace Center for Girls Palm Beach
DESCRIPTION:Support a great cause while shopping for a meaningful gift this Mother’s Day. Join Pace Center for Girls\, Palm Beach\, for a Kendra Scott Gives Back event on May 9 from 4:00–6:00 PM at Kendra Scott\, Palm Beach Gardens Mall. Enjoy an afternoon of shopping with purpose—20% of all purchases made during the event will benefit Pace.\nCan’t attend in person? Shop online at kendrascott.com May 9–11 using code GIVEBACK-LONIH to contribute.\nGuests are encouraged to RSVP and bring a friend for an inspiring evening that supports local girls and young women. \nAbout Pace Center for Girls\nPace provides free year-round middle and high school academics\, case management\, counseling\, and life skills development in a safe and supportive environment that recognizes and deals with past trauma and builds upon girls’ individual strengths. Dedicated to meeting the social\, emotional\, and education needs of girls\, Pace has a successful and proven program model that has changed the life trajectory of more than 40\,000 girls and is recognized as one of the nation’s leading advocates for girls in need. For more information on Pace Center for Girls\, visit www.pacecenter.org.
URL:https://thepbmoms.com/event/kendra-scott-gives-back-shopping-event-to-benefit-pace-center-for-girls-palm-beach/
LOCATION:Palm Beach Gardens Mall\, 3101 PGA Blvd\, Palm Beach Gardens\, 33410
ATTACH;FMTTYPE=image/png:https://thepbmoms.com/wp-content/uploads/2026/04/pace-center-for-girls-1-1.png
END:VEVENT
BEGIN:VEVENT
DTSTART;TZID=UTC:20260516T140000
DTEND;TZID=UTC:20260516T160000
DTSTAMP:20260422T220413
CREATED:20260331T171455Z
LAST-MODIFIED:20260331T171455Z
UID:10033635-1778940000-1778947200@thepbmoms.com
SUMMARY:SIX the Musical
DESCRIPTION:
URL:https://thepbmoms.com/event/six-the-musical/
LOCATION:Maltz Jupiter Theatre\, 1001 E Indiantown Rd\, Jupiter\, FL\, 33477\, United States
ATTACH;FMTTYPE=image/jpeg:https://thepbmoms.com/wp-content/uploads/2026/03/six.jpg
END:VEVENT
BEGIN:VEVENT
DTSTART;TZID=UTC:20260531T190000
DTEND;TZID=UTC:20260531T210000
DTSTAMP:20260422T220413
CREATED:20260406T180205Z
LAST-MODIFIED:20260406T180205Z
UID:10033637-1780254000-1780261200@thepbmoms.com
SUMMARY:KRAVIS CENTER DREAM AWARDS: CELEBRATING HIGH SCHOOL MUSICAL THEATER EXCELLENCE
DESCRIPTION:The next big star may live on your street! The Kravis Center Dream Awards recognizes outstanding student achievement in musical theater productions and culminates in a showcase in Dreyfoos Hall. Two students who perform in the showcase will be nominated to participate in The Jimmy Awards® (National High School Musical Theatre Awards™) in New York City. Schools must choose from an approved list of productions in order to be considered.
URL:https://thepbmoms.com/event/kravis-center-dream-awards-celebrating-high-school-musical-theater-excellence/
LOCATION:Kravis Center for the Performing Arts\, 701 Okeechobee Blvd.\, West Palm Beach\, FL\, 33401
END:VEVENT
BEGIN:VEVENT
DTSTART;VALUE=DATE:20260602
DTEND;VALUE=DATE:20260608
DTSTAMP:20260422T220413
CREATED:20251028T171448Z
LAST-MODIFIED:20251028T171448Z
UID:10029541-1780358400-1780876799@thepbmoms.com
SUMMARY:BEETLEJUICE
DESCRIPTION:June 2–7 \nTuesday\, Thursday at 7:30 p.m.\nWednesday at 2 p.m. & 7:30 p.m.\nFriday at 8 p.m.\nSaturday at 2 p.m. & 8 p.m.\nSunday at 2 p.m.\nIt’s showtime! Based on Tim Burton’s dearly beloved film\, this hilarious musical tells the story of Lydia Deetz\, a strange and unusual teenager whose whole life changes when she meets a recently deceased couple and a demon with a thing for stripes. With an irreverent book\, an astonishing set and a score that’s out of this Netherworld\, BEETLEJUICE is “SCREAMINGLY GOOD FUN!” (Variety). And under its uproarious surface (six feet under\, to be exact)\, it’s a remarkably touching show about family\, love and making the most of every Day-O!\nDREYFOOS HALL\nParental Guide: Recommended for ages 13+\nTickets start at $46 including fees\nRaymond F. Kravis Center for the Performing Arts\n701 Okeechobee Blvd. in West Palm Beach\, FL 33401\nFor tickets visit kravis.org\n*All programs\, artists\, dates\, prices and details are subject to change. \n 
URL:https://thepbmoms.com/event/beetlejuice/
LOCATION:Kravis Center for the Performing Arts\, 701 Okeechobee Blvd.\, West Palm Beach\, FL\, 33401
ATTACH;FMTTYPE=image/jpeg:https://thepbmoms.com/wp-content/uploads/2025/10/beetle.jpg
END:VEVENT
BEGIN:VEVENT
DTSTART;TZID=UTC:20260602T193000
DTEND;TZID=UTC:20260602T220000
DTSTAMP:20260422T220413
CREATED:20260118T011513Z
LAST-MODIFIED:20260118T011513Z
UID:10030803-1780428600-1780437600@thepbmoms.com
SUMMARY:BEETLEJUICE
DESCRIPTION:It’s showtime! Based on Tim Burton’s dearly beloved film\, this hilarious musical tells the story of Lydia Deetz\, a strange and unusual teenager whose whole life changes when she meets a recently deceased couple and a demon with a thing for stripes. With an irreverent book\, an astonishing set and a score that’s out of this Netherworld\, BEETLEJUICE is “SCREAMINGLY GOOD FUN!” (Variety). And under its uproarious surface (six feet under\, to be exact)\, it’s a remarkably touching show about family\, love\, and making the most of every Day-O! \nParental Guide:\nRecommended for 13+. Parental discretion advised. \nShow Times:\nTue\, Jun 2\, 2026 at 7:30pm\nWed\, Jun 3\, 2026 at 2:00pm\nWed\, Jun 3\, 2026 at 7:30pm\nThu\, Jun 4\, 2026 at 7:30pm\nFri\, Jun 5\, 2026 at 8:00pm\nSat\, Jun 6\, 2026 at 2:00pm\nSat\, Jun 6\, 2026 at 8:00pm\nSun\, Jun 7\, 2026 at 2:00pm
URL:https://thepbmoms.com/event/beetlejuice-2/2026-06-02/
LOCATION:Kravis Center for the Performing Arts\, 701 Okeechobee Blvd.\, West Palm Beach\, FL\, 33401
CATEGORIES:Just for Mom
ORGANIZER;CN="Kravis Center for the Performing Arts":MAILTO:kravis@kravis.org
END:VEVENT
BEGIN:VEVENT
DTSTART;TZID=UTC:20260605T200000
DTEND;TZID=UTC:20260605T223000
DTSTAMP:20260422T220413
CREATED:20260118T011604Z
LAST-MODIFIED:20260118T011604Z
UID:10030806-1780689600-1780698600@thepbmoms.com
SUMMARY:BEETLEJUICE
DESCRIPTION:It’s showtime! Based on Tim Burton’s dearly beloved film\, this hilarious musical tells the story of Lydia Deetz\, a strange and unusual teenager whose whole life changes when she meets a recently deceased couple and a demon with a thing for stripes. With an irreverent book\, an astonishing set and a score that’s out of this Netherworld\, BEETLEJUICE is “SCREAMINGLY GOOD FUN!” (Variety). And under its uproarious surface (six feet under\, to be exact)\, it’s a remarkably touching show about family\, love\, and making the most of every Day-O! \nParental Guide:\nRecommended for 13+. Parental discretion advised. \nShow Times:\nTue\, Jun 2\, 2026 at 7:30pm\nWed\, Jun 3\, 2026 at 2:00pm\nWed\, Jun 3\, 2026 at 7:30pm\nThu\, Jun 4\, 2026 at 7:30pm\nFri\, Jun 5\, 2026 at 8:00pm\nSat\, Jun 6\, 2026 at 2:00pm\nSat\, Jun 6\, 2026 at 8:00pm\nSun\, Jun 7\, 2026 at 2:00pm
URL:https://thepbmoms.com/event/beetlejuice-3/2026-06-05/
LOCATION:Kravis Center for the Performing Arts\, 701 Okeechobee Blvd.\, West Palm Beach\, FL\, 33401
CATEGORIES:Just for Mom
ORGANIZER;CN="Kravis Center for the Performing Arts":MAILTO:kravis@kravis.org
END:VEVENT
BEGIN:VEVENT
DTSTART;TZID=UTC:20260729T173000
DTEND;TZID=UTC:20260729T190000
DTSTAMP:20260422T220413
CREATED:20260422T193909Z
LAST-MODIFIED:20260422T193909Z
UID:10033647-1785346200-1785351600@thepbmoms.com
SUMMARY:Behind The Screen: What Every Parent Needs To Know About Online Safety
DESCRIPTION:This back-to-school season\, join Child Rescue Coalition CEO Greg Schiller and a panel of experts for a powerful conversation on the realities of online threats and what every parent can do to protect their children. \nChild Rescue Coalition is a nonprofit organization that rescues children from sexual abuse by building technology for law enforcement\, free of charge\, to identify\, arrest\, and prosecute child predators \nGet your FREE tickets on our Event Website today!
URL:https://thepbmoms.com/event/behind-the-screen-what-every-parent-needs-to-know-about-online-safety/
LOCATION:Boca Ration Innovation Campus\, 5000 T-Rex Avenue\, Boca Raton\, 33431
CATEGORIES:Free,Parents
ATTACH;FMTTYPE=image/png:https://thepbmoms.com/wp-content/uploads/2026/04/g9607k586brsoeuaewxoxrgn.png
ORGANIZER;CN="Child Rescue Coalition":MAILTO:events@childrescuecoalition.org
END:VEVENT
END:VCALENDAR