BEGIN:VCALENDAR
VERSION:2.0
PRODID:-//Palm Beach Moms - ECPv6.15.20//NONSGML v1.0//EN
CALSCALE:GREGORIAN
METHOD:PUBLISH
X-WR-CALNAME:Palm Beach Moms
X-ORIGINAL-URL:https://thepbmoms.com
X-WR-CALDESC:Events for Palm Beach Moms
REFRESH-INTERVAL;VALUE=DURATION:PT1H
X-Robots-Tag:noindex
X-PUBLISHED-TTL:PT1H
BEGIN:VTIMEZONE
TZID:UTC
BEGIN:STANDARD
TZOFFSETFROM:+0000
TZOFFSETTO:+0000
TZNAME:UTC
DTSTART:20250101T000000
END:STANDARD
END:VTIMEZONE
BEGIN:VEVENT
DTSTART;TZID=UTC:20261207T103000
DTEND;TZID=UTC:20261207T110000
DTSTAMP:20260426T004831
CREATED:20230901T162515Z
LAST-MODIFIED:20230901T162515Z
UID:10012410-1796639400-1796641200@thepbmoms.com
SUMMARY:Toddler Storytime
DESCRIPTION:Toddler Storytimes (Ages 3 – 5): Mondays at 10:30 a.m. \nJoin us for Toddler Storytime! No sign up required and recommended for ages 3 to 5 years. Our storytimes are filled with bubbles\, songs\, stories\, and crafts or activities.
URL:https://thepbmoms.com/event/toddler-storytime/2026-12-07/
LOCATION:North Palm Beach Library\, 501 US Highway 1\, North Palm Beach\, FL\, 33408
END:VEVENT
BEGIN:VEVENT
DTSTART;TZID=UTC:20261207T160000
DTEND;TZID=UTC:20261207T163000
DTSTAMP:20260426T004831
CREATED:20240619T170240Z
LAST-MODIFIED:20240619T170240Z
UID:10022172-1796659200-1796661000@thepbmoms.com
SUMMARY:Swamp Serving Alligator Feeding
DESCRIPTION:Stop by our Sanctuary on Mondays at 4 PM for our weekly Alligator presentation and feeding! Come see the mighty Florida Alligator and learn all about why they are such an important keystone species\, how they help the environment and much more!
URL:https://thepbmoms.com/event/swamp-serving-alligator-feeding/2026-12-07/
LOCATION:Busch Wildlife\, 17855 Rocky Pines Road\, Jupiter\, FL\, 33478
CATEGORIES:The Whole Family
ORGANIZER;CN="Busch Wildlife Sanctuary":MAILTO:marketingasst@buschwildlife.org
END:VEVENT
BEGIN:VEVENT
DTSTART;TZID=UTC:20261208T103000
DTEND;TZID=UTC:20261208T111500
DTSTAMP:20260426T004831
CREATED:20260128T202056Z
LAST-MODIFIED:20260128T202056Z
UID:10031383-1796725800-1796728500@thepbmoms.com
SUMMARY:Creative Movement Ballet for Preschoolers Ages 2-3 (FREE)
DESCRIPTION:For all movers ages 2-3. Learn ballet technique and explore natural and expressive movement through song\, dance\, and play. Space is limited\, and in-person sign-up begins in KidSpace at 10 a.m.
URL:https://thepbmoms.com/event/creative-movement-ballet-for-preschoolers-ages-2-3-free/2026-12-08/
LOCATION:Mandel Public Library\, 411 Clematis\, West Palm Beach\, FL\, 33401
CATEGORIES:Free
ATTACH;FMTTYPE=image/jpeg:https://thepbmoms.com/wp-content/uploads/2026/01/TutuSchoolImage_001306.jpg
END:VEVENT
BEGIN:VEVENT
DTSTART;TZID=UTC:20261209T100000
DTEND;TZID=UTC:20261209T103000
DTSTAMP:20260426T004831
CREATED:20240619T165317Z
LAST-MODIFIED:20240619T165317Z
UID:10021912-1796810400-1796812200@thepbmoms.com
SUMMARY:Tiny Tales Storytime
DESCRIPTION:Join us for Toddler Storytime in our Educational Amphitheater\, every Wednesday at 10 a.m. A great family-friendly program where little ones of all ages can learn about wildlife! Listen to stories about gators and panthers\, and see some of our animal ambassadors up close.
URL:https://thepbmoms.com/event/tiny-tales-storytime/2026-12-09/
LOCATION:Busch Wildlife\, 17855 Rocky Pines Road\, Jupiter\, FL\, 33478
CATEGORIES:Baby,Parents,Toddler
ORGANIZER;CN="Busch Wildlife Sanctuary":MAILTO:marketingasst@buschwildlife.org
END:VEVENT
BEGIN:VEVENT
DTSTART;TZID=UTC:20261209T110000
DTEND;TZID=UTC:20261209T114500
DTSTAMP:20260426T004831
CREATED:20260128T201732Z
LAST-MODIFIED:20260128T201732Z
UID:10031315-1796814000-1796816700@thepbmoms.com
SUMMARY:Itsy Bitsy Yoga for Non-Crawling Babies (FREE)
DESCRIPTION:Move with your baby and help them become happier and healthier. For newborns to 12-month-old babies who are not yet crawling\, with a parent or caregiver. Space is limited\, and in- person sign-up begins in KidSpace at 10:30 a.m.\n\nDate:
URL:https://thepbmoms.com/event/itsy-bitsy-yoga-for-non-crawling-babies-free/2026-12-09/
LOCATION:Mandel Public Library\, 411 Clematis\, West Palm Beach\, FL\, 33401
CATEGORIES:Free
END:VEVENT
BEGIN:VEVENT
DTSTART;TZID=UTC:20261218T150000
DTEND;TZID=UTC:20261218T153000
DTSTAMP:20260426T004831
CREATED:20230901T163526Z
LAST-MODIFIED:20230901T163602Z
UID:10013123-1797606000-1797607800@thepbmoms.com
SUMMARY:Kids Art at the NPB Library
DESCRIPTION:Kids Art\nThird Friday Every Month / 3:00 p.m.\nSign Up Today\n\n\n\nKids learn about art\, a little art history\, and practice making fantastic creations. Join us and check out our new theme every month! Recommended for ages 8+. Sign up is required\, as supplies are limited. Call (561) 841 – 3383\, click the link here to sign up online\, or visit the children’s department to sign up today.
URL:https://thepbmoms.com/event/19026/2026-12-18/
LOCATION:North Palm Beach Library\, 501 US Highway 1\, North Palm Beach\, FL\, 33408
END:VEVENT
BEGIN:VEVENT
DTSTART;VALUE=DATE:20261219
DTEND;VALUE=DATE:20261220
DTSTAMP:20260426T004831
CREATED:20240916T171925Z
LAST-MODIFIED:20240916T171925Z
UID:10024483-1797638400-1797724799@thepbmoms.com
SUMMARY:Kids Shoe Tying Classes
DESCRIPTION:Join us at Nordstrom for our monthly Kids’ Shoe-Typing class every third Saturday of the month and create a fun and memorable experience around the milestone of learning to tie your shoes! \nTo sign up for our next class\, please see us in our Kids’ World department or call us at 561.620.5555 ext. 1460.
URL:https://thepbmoms.com/event/kids-shoe-tying-classes/2026-12-19/
LOCATION:Nordstrom Town Center at Boca Raton\, 6000 Glades Road\, Boca Raton\, FL\, 33431
END:VEVENT
BEGIN:VEVENT
DTSTART;VALUE=DATE:20261226
DTEND;VALUE=DATE:20261227
DTSTAMP:20260426T004831
CREATED:20230626T194651Z
LAST-MODIFIED:20230626T194651Z
UID:10010147-1798243200-1798329599@thepbmoms.com
SUMMARY:Half price for Heroes
DESCRIPTION:
URL:https://thepbmoms.com/event/half-price-for-heroes/2026-12-26/
LOCATION:Cox Science Center\, 4801 Dreher Trail North\, Weest Palm Beach\, FL\, 33405
CATEGORIES:The Whole Family
END:VEVENT
END:VCALENDAR