BEGIN:VCALENDAR
VERSION:2.0
PRODID:-//Palm Beach Moms - ECPv6.15.20//NONSGML v1.0//EN
CALSCALE:GREGORIAN
METHOD:PUBLISH
X-WR-CALNAME:Palm Beach Moms
X-ORIGINAL-URL:https://thepbmoms.com
X-WR-CALDESC:Events for Palm Beach Moms
REFRESH-INTERVAL;VALUE=DURATION:PT1H
X-Robots-Tag:noindex
X-PUBLISHED-TTL:PT1H
BEGIN:VTIMEZONE
TZID:UTC
BEGIN:STANDARD
TZOFFSETFROM:+0000
TZOFFSETTO:+0000
TZNAME:UTC
DTSTART:20250101T000000
END:STANDARD
END:VTIMEZONE
BEGIN:VEVENT
DTSTART;TZID=UTC:20261019T160000
DTEND;TZID=UTC:20261019T163000
DTSTAMP:20260423T221529
CREATED:20240619T170240Z
LAST-MODIFIED:20240619T170240Z
UID:10022165-1792425600-1792427400@thepbmoms.com
SUMMARY:Swamp Serving Alligator Feeding
DESCRIPTION:Stop by our Sanctuary on Mondays at 4 PM for our weekly Alligator presentation and feeding! Come see the mighty Florida Alligator and learn all about why they are such an important keystone species\, how they help the environment and much more!
URL:https://thepbmoms.com/event/swamp-serving-alligator-feeding/2026-10-19/
LOCATION:Busch Wildlife\, 17855 Rocky Pines Road\, Jupiter\, FL\, 33478
CATEGORIES:The Whole Family
ORGANIZER;CN="Busch Wildlife Sanctuary":MAILTO:marketingasst@buschwildlife.org
END:VEVENT
BEGIN:VEVENT
DTSTART;TZID=UTC:20261020T103000
DTEND;TZID=UTC:20261020T111500
DTSTAMP:20260423T221529
CREATED:20260128T202056Z
LAST-MODIFIED:20260128T202056Z
UID:10031376-1792492200-1792494900@thepbmoms.com
SUMMARY:Creative Movement Ballet for Preschoolers Ages 2-3 (FREE)
DESCRIPTION:For all movers ages 2-3. Learn ballet technique and explore natural and expressive movement through song\, dance\, and play. Space is limited\, and in-person sign-up begins in KidSpace at 10 a.m.
URL:https://thepbmoms.com/event/creative-movement-ballet-for-preschoolers-ages-2-3-free/2026-10-20/
LOCATION:Mandel Public Library\, 411 Clematis\, West Palm Beach\, FL\, 33401
CATEGORIES:Free
ATTACH;FMTTYPE=image/jpeg:https://thepbmoms.com/wp-content/uploads/2026/01/TutuSchoolImage_001306.jpg
END:VEVENT
BEGIN:VEVENT
DTSTART;VALUE=DATE:20261031
DTEND;VALUE=DATE:20261101
DTSTAMP:20260423T221529
CREATED:20230626T194651Z
LAST-MODIFIED:20230626T194651Z
UID:10010145-1793404800-1793491199@thepbmoms.com
SUMMARY:Half price for Heroes
DESCRIPTION:
URL:https://thepbmoms.com/event/half-price-for-heroes/2026-10-31/
LOCATION:Cox Science Center\, 4801 Dreher Trail North\, Weest Palm Beach\, FL\, 33405
CATEGORIES:The Whole Family
END:VEVENT
BEGIN:VEVENT
DTSTART;TZID=UTC:20261107T090000
DTEND;TZID=UTC:20261107T100000
DTSTAMP:20260423T221529
CREATED:20240805T200423Z
LAST-MODIFIED:20251002T005554Z
UID:10022867-1794042000-1794045600@thepbmoms.com
SUMMARY:Sensory Saturdays
DESCRIPTION:We are proud to host Sensory Saturdays on the 1st Saturday of each month. The Cox Science Center and Aquarium is open for special exploration hours from 9am-10am\, specifically designed for families affected by autism spectrum disorder\, sensory processing or cognitive challenges\, or other guests requiring assistance for disabilities. \nExperience our exhibits without heavy crowds before we open to the public at 10am with softened general lighting\, decreased noise level and limited visual stimulation on interactive exhibits wherever possible. Our facility is also ADA accessible and wheelchair friendly! \n50% off regular Science Center admission paid at the door. For prices\, please click here. \nPre-registration is no longer required to reserve your spot in this special program. Those looking to enter using the Bank of America Museums on Us promotion will be admitted starting at 10 am. \nThe Science Center opens at 10am after this special program for the general public\, members\, and Museums on Us attendees. 
URL:https://thepbmoms.com/event/sensory-saturdays-2/2026-11-07/
LOCATION:Cox Science Center\, 4801 Dreher Trail North\, Weest Palm Beach\, FL\, 33405
ATTACH;FMTTYPE=image/jpeg:https://thepbmoms.com/wp-content/uploads/2024/08/Sensory-Saturdays-webpage.jpg
END:VEVENT
BEGIN:VEVENT
DTSTART;TZID=UTC:20261107T090000
DTEND;TZID=UTC:20261107T120000
DTSTAMP:20260423T221529
CREATED:20240112T221315Z
LAST-MODIFIED:20240112T221315Z
UID:10019401-1794042000-1794052800@thepbmoms.com
SUMMARY:Kids Workshop at The Home Depot
DESCRIPTION:The kids workshops are the first Saturday of each month from 9-12. Call your local store though and check if they require registration. Some do require it so they can be sure to have enough people in attendance.
URL:https://thepbmoms.com/event/kids-workshop-at-the-home-depot/2026-11-07/
LOCATION:FL
ATTACH;FMTTYPE=image/png:https://thepbmoms.com/wp-content/uploads/2024/01/Untitled-design-2.png
END:VEVENT
END:VCALENDAR