BEGIN:VCALENDAR
VERSION:2.0
PRODID:-//Palm Beach Moms - ECPv6.15.20//NONSGML v1.0//EN
CALSCALE:GREGORIAN
METHOD:PUBLISH
X-WR-CALNAME:Palm Beach Moms
X-ORIGINAL-URL:https://thepbmoms.com
X-WR-CALDESC:Events for Palm Beach Moms
REFRESH-INTERVAL;VALUE=DURATION:PT1H
X-Robots-Tag:noindex
X-PUBLISHED-TTL:PT1H
BEGIN:VTIMEZONE
TZID:UTC
BEGIN:STANDARD
TZOFFSETFROM:+0000
TZOFFSETTO:+0000
TZNAME:UTC
DTSTART:20230101T000000
END:STANDARD
END:VTIMEZONE
BEGIN:VEVENT
DTSTART;TZID=UTC:20240309T190000
DTEND;TZID=UTC:20240309T220000
DTSTAMP:20260422T225041
CREATED:20240209T201857Z
LAST-MODIFIED:20240209T201857Z
UID:10020271-1710010800-1710021600@thepbmoms.com
SUMMARY:Saturday Night at the J
DESCRIPTION:Saturday Night at the J presents…13 Again! Look forward to food\, cocktails\, DJ\, games and more.
URL:https://thepbmoms.com/event/saturday-night-at-the-j/
LOCATION:Mandel JCC PBG\, 5221 Hood Road\, Palm Beach Gardens\, FL\, 33418
CATEGORIES:Just for Mom,Parents
END:VEVENT
BEGIN:VEVENT
DTSTART;TZID=UTC:20240309T170000
DTEND;TZID=UTC:20240309T200000
DTSTAMP:20260422T225041
CREATED:20240220T021859Z
LAST-MODIFIED:20240220T021859Z
UID:10020317-1710003600-1710014400@thepbmoms.com
SUMMARY:Kids Night Out
DESCRIPTION:Come be happy with us! \nJoin us at our center for a lively event full of fun. \nKids Night Out includes complete access to our center\, crafts\, soft play\, bounce house\, The Jawbreaker\, pizza\, snacks and drinks! \nAGES 4+ \n(price per child)
URL:https://thepbmoms.com/event/kids-night-out-3/
LOCATION:Rhythm and Hues\, 7725 South Dixie Hwy\, West Palm Beach\, Fl\, 33405
ORGANIZER;CN="Rhythm &amp%3B Hues":MAILTO:Wpb@rhythmandhues.com
END:VEVENT
BEGIN:VEVENT
DTSTART;TZID=UTC:20240309T150000
DTEND;TZID=UTC:20240309T210000
DTSTAMP:20260422T225041
CREATED:20240212T193312Z
LAST-MODIFIED:20240212T193312Z
UID:10020309-1709996400-1710018000@thepbmoms.com
SUMMARY:FREE International Art and Food Festival
DESCRIPTION:Art & Flavor returns with an INTERNATIONAL twist on March 9\, 2023\, 3 – 9PM. \nJoin us for this FREE family fun day in Hatch 1121’s open courtyard space! \n✨ Gather\, shop\, eat\, and be inspired \n🌎 Over 20 local vendors\, uniting local and global cultures through art and food \n🎨 FREE Kids Art Activities \nFULL SCHEDULE OF EVENTS: \n3PM – Event begins with sounds by DJ Rumble\, known for his multicultural sets at the Kravis Center and the Norton Museum of Art\n3:15PM – Every 15 minutes\, Jose Mendez of R. Dot Arts & Creative Agency will lead FREE spray painting demos for all ages on a vintage car hood.\n4PM – Debut Fashion Show by Haitian visual artist\, Ashnide Jean-Baptiste\, whose work has been exhibited by the Cultural Council and Resource Depot\n5PM – Winners of “Movers & Shakers: The Art of Cultural Workers” presented\n5:30PM – Performance by Afrique Ngozi\n7PM – Performance by Mariachi\n9PM – Event concludes \nALL DAY:\nArts & Crafts Vendor Market\nAffordable bites from around the world with local favorites amongst new flavors \nSponsored by R. Dot Arts & Creative Agency\, Tambi Designs\, and LULA.
URL:https://thepbmoms.com/event/free-international-art-and-food-festival/
LOCATION:Hatch 1121\, 1121 Lucerne Ave\, 1121 Lucerne Ave\, Lake Worth Beach\, Florida\, 33460
CATEGORIES:Free,Parents,Teen,The Whole Family,Toddler
ATTACH;FMTTYPE=image/jpeg:https://thepbmoms.com/wp-content/uploads/2024/02/af_mobileflyer.jpg
END:VEVENT
BEGIN:VEVENT
DTSTART;TZID=UTC:20240309T140000
DTEND;TZID=UTC:20240309T143000
DTSTAMP:20260422T225041
CREATED:20240101T220907Z
LAST-MODIFIED:20240101T220959Z
UID:10016736-1709992800-1709994600@thepbmoms.com
SUMMARY:Live Alligator Petting
DESCRIPTION:Live Alligator Petting \nFriday – Sunday Only at 2:00pm
URL:https://thepbmoms.com/event/live-alligator-petting/2024-03-09/
LOCATION:Cox Science Center\, 4801 Dreher Trail North\, Weest Palm Beach\, FL\, 33405
END:VEVENT
BEGIN:VEVENT
DTSTART;TZID=UTC:20240309T130000
DTEND;TZID=UTC:20240309T150000
DTSTAMP:20260422T225041
CREATED:20240227T202021Z
LAST-MODIFIED:20240401T011715Z
UID:10020398-1709989200-1709996400@thepbmoms.com
SUMMARY:Sounds at Downtown at Downtown Palm Beach Gardens
DESCRIPTION:Sounds at Downtown continues in March at Downtown Palm Beach Gardens!\nStarting Saturday\, March 2nd\, enjoy weekly live music performances from local musicians at the Interactive Water Feature. \nPlease note that all events take place from 1PM-3PM and are free to the public. Full lineup below: \n3/2: Simon Benegas\n3/9: Carlie & Sebastien\n3/16: Jakob Takos\n3/23: Perry Strait\n3/30: Balatovis
URL:https://thepbmoms.com/event/sounds-at-downtown-at-downtown-palm-beach-gardens/2024-03-09/
LOCATION:Downtown Palm Beach Gardens\, 11701 Lake Victoria Gardens Ave\, Downtown Palm Beach Gardens\, 33410
END:VEVENT
BEGIN:VEVENT
DTSTART;TZID=UTC:20240309T130000
DTEND;TZID=UTC:20240309T140000
DTSTAMP:20260422T225041
CREATED:20240109T205926Z
LAST-MODIFIED:20240109T205926Z
UID:10019358-1709989200-1709992800@thepbmoms.com
SUMMARY:Intro to Volunteering
DESCRIPTION:Do you have a passion for the environment? Do you enjoy interacting and educating the public? \nThe River Center is looking for enthusiastic and personable volunteers to join our River Center team! \nIndividuals 14+ are invited to attend the next Intro to Volunteering workshop from 1:00 PM – 2:00 PM. \nFor questions or application information please contact our Volunteer Coordinator Rebecca Patterson at 561-339-3107 or Volunteer@Lrecd.org
URL:https://thepbmoms.com/event/intro-to-volunteering-2/
LOCATION:River Center\, 805 N US Highway 1\, Jupiter\, 33477
ATTACH;FMTTYPE=image/png:https://thepbmoms.com/wp-content/uploads/2024/01/volunteering.png
ORGANIZER;CN="River Center":MAILTO:rivercenter@lrecd.org
END:VEVENT
BEGIN:VEVENT
DTSTART;TZID=UTC:20240309T120000
DTEND;TZID=UTC:20240309T123000
DTSTAMP:20260422T225041
CREATED:20230607T022832Z
LAST-MODIFIED:20230607T022832Z
UID:10005096-1709985600-1709987400@thepbmoms.com
SUMMARY:Storytime at Barnes and Noble
DESCRIPTION:Children’s Storytime is back!  We are excited to see everyone once again in our Children’s Department for Saturday morning storytime\, every Saturday at 11am.  Come join us!
URL:https://thepbmoms.com/event/storytime-at-barnes-and-noble-2/2024-03-09/
LOCATION:Barnes and Noble Boca Raton\, 1400 Glades Rd.\, Boca Raton\, FL\, 33431
CATEGORIES:Baby,Free
END:VEVENT
BEGIN:VEVENT
DTSTART;TZID=UTC:20240309T110000
DTEND;TZID=UTC:20240309T230000
DTSTAMP:20260422T225041
CREATED:20240220T190022Z
LAST-MODIFIED:20240220T190022Z
UID:10020377-1709982000-1710025200@thepbmoms.com
SUMMARY:Kids Club Bunny Garden Party
DESCRIPTION:Hop over to Bunnyville and enjoy Easter activities\, including an indoor paint garden conducted by Splash Art\, easter bonnet decorating\, face painting\, and balloon animals. There will also be music\, goodie bags for the first 250 children\, and of course\, the Easter Bunny.
URL:https://thepbmoms.com/event/kids-club-bunny-garden-party/
LOCATION:The Mall at Wellington Green\, 10300 Forest Hill Blvd\,\, Wellington\, Fl\, 33414
CATEGORIES:Free,Holiday
ORGANIZER;CN="The Mall at Wellington Green":MAILTO:n/a
END:VEVENT
BEGIN:VEVENT
DTSTART;TZID=UTC:20240309T110000
DTEND;TZID=UTC:20240309T143000
DTSTAMP:20260422T225041
CREATED:20240306T201625Z
LAST-MODIFIED:20240306T201625Z
UID:10020431-1709982000-1709994600@thepbmoms.com
SUMMARY:What's Cooking Kids? Over the Rainbow at Downtown Palm Beach Gardens
DESCRIPTION:Celebrate St. Patrick’s Day with Miss Nancy! \nJoin us Saturday\, March 9th & Sunday\, March 10th at the Interactive Water Feature to decorate Over the Rainbow cupcakes and craft rainbow art. \nA $10 donation per junior chef will benefit the Ultimate Growth Foundation. \nParking Information: For easy access to the Interactive Water Feature\, please park in the Whole Foods parking lot and walk through the alleyway located on the right side of Whole Foods.
URL:https://thepbmoms.com/event/whats-cooking-kids-over-the-rainbow-at-downtown-palm-beach-gardens/2024-03-09/
LOCATION:Downtown Palm Beach Gardens\, 11701 Lake Victoria Gardens Ave\, Downtown Palm Beach Gardens\, 33410
CATEGORIES:Just for Kids
ATTACH;FMTTYPE=image/png:https://thepbmoms.com/wp-content/uploads/2024/03/Whats-Cooking-Kids-Over-the-Rainbow-DPBG.png
END:VEVENT
BEGIN:VEVENT
DTSTART;TZID=UTC:20240309T110000
DTEND;TZID=UTC:20240309T113000
DTSTAMP:20260422T225041
CREATED:20230607T022553Z
LAST-MODIFIED:20230607T022553Z
UID:10004835-1709982000-1709983800@thepbmoms.com
SUMMARY:Storytime at Barnes and Noble
DESCRIPTION:Children’s Storytime is back!  We are excited to see everyone once again in our Children’s Department for Saturday morning storytime\, every Saturday at 11am.  Come join us!
URL:https://thepbmoms.com/event/storytime-at-barnes-and-noble/2024-03-09/
LOCATION:Barnes and Noble\, Palm Beach Gardens\, FL\, 33410
CATEGORIES:Baby,Free
END:VEVENT
BEGIN:VEVENT
DTSTART;TZID=UTC:20240309T104500
DTEND;TZID=UTC:20240309T110000
DTSTAMP:20260422T225041
CREATED:20240101T221421Z
LAST-MODIFIED:20240101T222831Z
UID:10017559-1709981100-1709982000@thepbmoms.com
SUMMARY:Touch Tank Demonstrations
DESCRIPTION:Touch Tank Demonstrations \nDaily demonstrations at 10:45am
URL:https://thepbmoms.com/event/touch-tank-demonstrations/2024-03-09/
LOCATION:Cox Science Center\, 4801 Dreher Trail North\, Weest Palm Beach\, FL\, 33405
ATTACH;FMTTYPE=image/png:https://thepbmoms.com/wp-content/uploads/2024/01/Untitled-design.png
END:VEVENT
BEGIN:VEVENT
DTSTART;TZID=UTC:20240309T103000
DTEND;TZID=UTC:20240309T113000
DTSTAMP:20260422T225041
CREATED:20230604T201332Z
LAST-MODIFIED:20230604T201628Z
UID:10004673-1709980200-1709983800@thepbmoms.com
SUMMARY:Family Story Times
DESCRIPTION:Select Saturday at 10:30 a.m.\, November through April\n\n\n\n\nNo charge\nNo reservations needed\nFour Arts Children’s Library \n8 years of age and younger. All children must be accompanied by an adult.\nAn arts and crafts activity will follow each story time. \nNovember 2023\nSaturday\, November 4: Travel\nSaturday\, November 11: Thanksgiving \nDecember 2023\nSaturday\, December 2: The Nutcracker\nSaturday\, December 9: The Grinch \nJanuary 2024\nSaturday\, January 6: New Year Birthday Party\nSaturday\, January 13: Frozen Pond \nFebruary 2024\nSaturday\, February 3: I Love My Family\nSaturday\, February 10: Happy Valentine’s Day \nMarch 2024\nSaturday\, March 2: Camping\nSaturday\, March 9: Pond \nApril 2024\nSaturday\, April 6: Tea Party\nSaturday\, April 13: End of Season Pirate Day
URL:https://thepbmoms.com/event/family-story-times/2024-03-09/
LOCATION:Four Arts Children’s Library\, 100 Four Arts Plaza\, Palm Beach\, FL\, 33480
ATTACH;FMTTYPE=image/jpeg:https://thepbmoms.com/wp-content/uploads/2023/06/Family-Story-Time-web-copy.jpg
END:VEVENT
BEGIN:VEVENT
DTSTART;TZID=UTC:20240309T100000
DTEND;TZID=UTC:20240309T123000
DTSTAMP:20260422T225041
CREATED:20240209T203016Z
LAST-MODIFIED:20240209T203016Z
UID:10020280-1709978400-1709987400@thepbmoms.com
SUMMARY:Peter Rabbit Day - Art & Literature on the Farm
DESCRIPTION:– Children’s Author Susan Beattie will read “Saving the Countryside”\n– Photo App with Life Size Peter Rabbit and Spring Vintage Truck\n– Paint Peter Rabbit with Watercolors\n– Meet the Farm’s bunnies\, mini cows & mini donkeys\n– Plant Herb Seeds to take home\n– Stroll through Mr. McGregor’s Garden & Schoolhouse
URL:https://thepbmoms.com/event/peter-rabbit-day-art-literature-on-the-farm/
CATEGORIES:Just for Kids
ATTACH;FMTTYPE=image/jpeg:https://thepbmoms.com/wp-content/uploads/2024/02/IMG_6199-copy.jpg
END:VEVENT
BEGIN:VEVENT
DTSTART;TZID=UTC:20240309T100000
DTEND;TZID=UTC:20240309T120000
DTSTAMP:20260422T225041
CREATED:20230908T004736Z
LAST-MODIFIED:20230928T214720Z
UID:10013510-1709978400-1709985600@thepbmoms.com
SUMMARY:Kids Fishing Program
DESCRIPTION:$15 registration required \n\n\n\n\n\n\n\n\n\n\nParticipants will learn basic techniques for fishing including knot tying\, casting\, fish handling\, and proper catch-and-release techniques.\nIn addition to fishing skills\, participants are taught to be responsible anglers and discover how to reduce their impact on marine life. Fish caught during this program will always be released. All fishing equipment and bait is provided. Participants will receive a Responsible Anglers Certificate following their completion of the program. Please see details during registration for recommended items to bring. \nNOTE: this program meets at the Juno Beach Pier. Please meet your program leaders at the picnic tables in front of the Juno Pier Bait House for check-in. \n\n\n\n\n\n\n\n\n\n\n 
URL:https://thepbmoms.com/event/kids-fishing-program/2024-03-09/
LOCATION:Loggerhead Marine Life Center\, 14200 U.S. Highway 1\, Juno Beach\, FL\, 33408
END:VEVENT
BEGIN:VEVENT
DTSTART;TZID=UTC:20240309T090000
DTEND;TZID=UTC:20240309T130000
DTSTAMP:20260422T225041
CREATED:20230607T024346Z
LAST-MODIFIED:20230706T205842Z
UID:10005680-1709974800-1709989200@thepbmoms.com
SUMMARY:Grandview Public Market’s Weekly Farmers Market
DESCRIPTION:Get ready for Grandview Public Market’s Weekly Farmers Market on the Loading Dock! Join us every Saturday on the Loading Dock from 9 am to 1 pm\, to explore a delightful assortment of local produce and artisanal food offerings\, handpicked by local Head Chef\, Jean-Marc Hardy. Dive into West Palm Beach’s thriving culinary scene while backing local vendors\, farmers\, and small businesses in a friendly and inviting environment.
URL:https://thepbmoms.com/event/grandview-public-markets-weekly-farmers-market/2024-03-09/
LOCATION:Grandview Public\, 1401 Clare Ave\, West Palm Beach\, FL\, 33401
CATEGORIES:Free
END:VEVENT
BEGIN:VEVENT
DTSTART;VALUE=DATE:20240309
DTEND;VALUE=DATE:20240310
DTSTAMP:20260422T225041
CREATED:20230607T025104Z
LAST-MODIFIED:20230607T025104Z
UID:10007506-1709942400-1710028799@thepbmoms.com
SUMMARY:Wildlife Encounters
DESCRIPTION:Wildlife Encounters \n\n\nMon – Fri: 3pm \nSat: 11AM and 2:30PM \n\nCome sit in our Cypress Amphitheater for a wildlife encounter and see native Florida animals up close! Wildlife Encounters are held daily and each program is different so you never know what you might see. With the help of our educational animal ambassadors\, learn all about their biology\, habitats\, and conservation efforts. We are open Monday through Saturday 10am-4:30pm and run on your donations. Come by today!
URL:https://thepbmoms.com/event/wildlife-encounters/2024-03-09/
LOCATION:Busch Wildlife\, 17855 Rocky Pines Road\, Jupiter\, FL\, 33478
END:VEVENT
BEGIN:VEVENT
DTSTART;TZID=UTC:20240308T190000
DTEND;TZID=UTC:20240308T210000
DTSTAMP:20260422T225041
CREATED:20240220T022119Z
LAST-MODIFIED:20240220T022119Z
UID:10020314-1709924400-1709931600@thepbmoms.com
SUMMARY:Paint & Create
DESCRIPTION:Come paint with our instructor\, Bob Ross style! \nLet’s create happy little accidents 🖼️ 🎨 \nHave another day and time in mind? Email us at wpb@rhythmandhues.com and we will make it work!\nWe are also opening our schedule for private art parties and instruction! \nThis class is available every Friday from 7PM – 9PM
URL:https://thepbmoms.com/event/paint-create/2024-03-08/
LOCATION:Rhythm and Hues\, 7725 South Dixie Hwy\, West Palm Beach\, Fl\, 33405
ORGANIZER;CN="Rhythm &amp%3B Hues":MAILTO:Wpb@rhythmandhues.com
END:VEVENT
BEGIN:VEVENT
DTSTART;TZID=UTC:20240308T183000
DTEND;TZID=UTC:20240308T220000
DTSTAMP:20260422T225041
CREATED:20240206T174642Z
LAST-MODIFIED:20240206T174642Z
UID:10019991-1709922600-1709935200@thepbmoms.com
SUMMARY:Museum of Discovery and Science’s 27th anniversary Bank of America Wine\, Spirits & Culinary Celebration
DESCRIPTION:Downtown Fort Lauderdale’s premier gourmet fundraiser returns to dazzle and delight palates on Friday\, March 8\, from 6:30 p.m. to 10 p.m.\, as the Museum of Discovery and Science (MODS) hosts its 27th annual Bank of America Wine\, Spirits & Culinary Celebration. Foodies and philanthropists will enjoy the best of South Florida’s restaurants and international spirits during this epicurean evening to benefit MODS’ mission of connecting people to inspiring science. \nThe event’s legendary Grand Tasting will feature scrumptious bites\, small plates and desserts from more than 30 of South Florida’s leading restaurants and a sampling of more than 50 wines and spirited libations courtesy of exclusive beverage sponsor Southern Glazer’s Wine and Spirits. A variety of craft beers will flow from Florida favorite breweries and beyond courtesy of Gold Coast Beverage in our Beer Garden. \nThis year’s restaurant participants include Lobster Bar Sea Grille\, Another Fare to Remember\, CrepeMaker\, Fireman Derek’s Bake Shop\, John Knox Village\, Nikki’s Foods\, Ann Marie’s Pizza and Wine\, Baoshi Food Hall + Bar\, Morton’s The Steakhouse\, Ten Palms Restaurant at Gulfstream Park\, Zona Fresca and more. \nGuests will also have the opportunity to bid on an array of luxury items including travel getaways\, local entertainment packages\, celebrity sports memorabilia\, and more during the silent auction. \nMajor sponsors of MODS’ 27th anniversary Wine\, Spirits & Culinary Celebration are Bank of America (Presenting Sponsor); Doubletime Digital (Exclusive Print Sponsor); Southern Glazer’s Wine & Spirits (Exclusive Beverage Sponsor); Gold Coast Beverage (Beer Sponsor); John Knox Village (Platinum Lounge Sponsor); Centuric (VIP Wristbands Sponsor); JetBlue (Entertainment Sponsor)\, M. Austin & Christine Forman (Valet Sponsors); CTS Engines\, Greenberg Traurig\, JM Family Enterprises\, Joe Cox & Jeremy Collette\, Joe DiMaggio Children’s Hospital\, Northern Trust\, UKG and WSVN Channel 7 (Platinum Sponsors); 5/3 Bank\, Broward Health\, Debra Hixon\, Grant Thornton\, Gray Robinson\, Kari Sutter\, Michael Kimmey\, PNC Bank and Truly Nolen (Grand Tasting Hosts). \nTicket prices for MODS’ 27th anniversary Bank of America Wine\, Spirits & Culinary Celebration are $300 for individual VIP Platinum tickets (which offer one-hour early admission) and $150 for individual Grand Tasting tickets (general entry at 6:30 p.m.). Parties of 12 receive a reduced rate of $2\,850 for VIP Platinum and parties of 10 receive a reduced rate of $1\,100 for the Grand Tasting Host package. Now through February 9\, guests can save 10% on early bird individual VIP Platinum and individual Grand Tasting tickets by using the code “early10” at checkout at modsevents.org. \nFor sponsorship opportunities or additional information\, contact Hillary Wallace at 954.713.0918 or hillary.wallace@mods.org.
URL:https://thepbmoms.com/event/museum-of-discovery-and-sciences-27th-anniversary-bank-of-america-wine-spirits-culinary-celebration/
LOCATION:Museum of Discovery and Science\, 401 SW 2nd St.\, Fort Lauderdale\, 33312
ATTACH;FMTTYPE=image/png:https://thepbmoms.com/wp-content/uploads/2024/02/Copy-of-Instagram-Post-Wine.png
ORGANIZER;CN="Museum of Discovery and Science":MAILTO:booking@mods.org
END:VEVENT
BEGIN:VEVENT
DTSTART;TZID=UTC:20240308T140000
DTEND;TZID=UTC:20240308T143000
DTSTAMP:20260422T225041
CREATED:20240101T220907Z
LAST-MODIFIED:20240101T220959Z
UID:10016735-1709906400-1709908200@thepbmoms.com
SUMMARY:Live Alligator Petting
DESCRIPTION:Live Alligator Petting \nFriday – Sunday Only at 2:00pm
URL:https://thepbmoms.com/event/live-alligator-petting/2024-03-08/
LOCATION:Cox Science Center\, 4801 Dreher Trail North\, Weest Palm Beach\, FL\, 33405
END:VEVENT
BEGIN:VEVENT
DTSTART;TZID=UTC:20240308T121500
DTEND;TZID=UTC:20240308T131500
DTSTAMP:20260422T225041
CREATED:20240209T202130Z
LAST-MODIFIED:20240209T202130Z
UID:10020147-1709900100-1709903700@thepbmoms.com
SUMMARY:Rock Steady Boxing
DESCRIPTION:Rock Steady Boxing has proven through several neurological studies to reduce Parkinson’s symptoms and help fight all aspects of the disease!
URL:https://thepbmoms.com/event/rock-steady-boxing/2024-03-08/
LOCATION:Mandel JCC PBG\, 5221 Hood Road\, Palm Beach Gardens\, FL\, 33418
CATEGORIES:Parents
END:VEVENT
BEGIN:VEVENT
DTSTART;TZID=UTC:20240308T104500
DTEND;TZID=UTC:20240308T110000
DTSTAMP:20260422T225041
CREATED:20240101T221421Z
LAST-MODIFIED:20240101T222831Z
UID:10017558-1709894700-1709895600@thepbmoms.com
SUMMARY:Touch Tank Demonstrations
DESCRIPTION:Touch Tank Demonstrations \nDaily demonstrations at 10:45am
URL:https://thepbmoms.com/event/touch-tank-demonstrations/2024-03-08/
LOCATION:Cox Science Center\, 4801 Dreher Trail North\, Weest Palm Beach\, FL\, 33405
ATTACH;FMTTYPE=image/png:https://thepbmoms.com/wp-content/uploads/2024/01/Untitled-design.png
END:VEVENT
BEGIN:VEVENT
DTSTART;TZID=UTC:20240308T100000
DTEND;TZID=UTC:20240308T104500
DTSTAMP:20260422T225041
CREATED:20230901T162811Z
LAST-MODIFIED:20240204T181510Z
UID:10019891-1709892000-1709894700@thepbmoms.com
SUMMARY:Baby Storytime
DESCRIPTION:For families with babies from birth to 18 months old. Join Children’s Librarian Ms. Jillian for music\, songs\, rhymes\, play\, and of course\, great books in this storytime made especially for the littlest learners. Space is limited\, and in-person sign-up begins in KidSpace at 9:30 a.m. For more information\, visit wpbcitylibrary.org or call (561) 868-7703. \n\n\nDate:\nFriday\, February 9\, 2024  Show more dates \nFriday\, February 16\, 2024\nFriday\, February 23\, 2024\nFriday\, March 1\, 2024\nFriday\, March 8\, 2024\nFriday\, March 15\, 2024\nFriday\, March 22\, 2024\nFriday\, March 29\, 2024\nFriday\, April 5\, 2024\nFriday\, April 12\, 2024\nFriday\, April 19\, 2024\nFriday\, April 26\, 2024\nFriday\, May 3\, 2024\nFriday\, May 10\, 2024\nFriday\, May 17\, 2024\nFriday\, May 24\, 2024 \n\nTime:\n10:00am – 10:45am
URL:https://thepbmoms.com/event/baby-storytime/2024-03-08/
LOCATION:Mandel Public Library\, 411 Clematis\, West Palm Beach\, FL\, 33401
END:VEVENT
BEGIN:VEVENT
DTSTART;TZID=UTC:20240308T090000
DTEND;TZID=UTC:20240308T140000
DTSTAMP:20260422T225041
CREATED:20240205T161003Z
LAST-MODIFIED:20240205T161003Z
UID:10019980-1709888400-1709906400@thepbmoms.com
SUMMARY:Daytime Playtime
DESCRIPTION:The mamas spoke up\, and we listened!\n\nJoin us weekly for a casual play date on the lawn featuring water tables\, hula hoops\, lawn games and more. Bring your towels for post-splashing in Water Pavilion West Palm and pack your lawn blankets for shady enjoyment! Ideal for little ones 5 and under\, and all ages welcome. \nPlease note: no diapers in fountain please; if changing needs to occur\, please use public restrooms. \n\n\n\nEvery Wednesday\, Thursday and Friday from 9AM-2PM \n 
URL:https://thepbmoms.com/event/daytime-playtime/2024-03-08/
LOCATION:The Square\, 700 South Rosemary Avenue\, West Palm Beach\, FL\, 33401
END:VEVENT
BEGIN:VEVENT
DTSTART;TZID=UTC:20240308T090000
DTEND;TZID=UTC:20240308T120000
DTSTAMP:20260422T225041
CREATED:20240209T201657Z
LAST-MODIFIED:20240209T201657Z
UID:10020087-1709888400-1709899200@thepbmoms.com
SUMMARY:Pickleball Open Play
DESCRIPTION:The Mandel JCC is offering a place to play the fastest growing game in the nation! Enjoy playing pickleball in our air-conditioned gymnasium. No matter the skill level\, all are welcome. Pickleballs and Paddles will be provided.
URL:https://thepbmoms.com/event/pickleball-open-play/2024-03-08/
LOCATION:Mandel JCC PBG\, 5221 Hood Road\, Palm Beach Gardens\, FL\, 33418
CATEGORIES:Parents
END:VEVENT
BEGIN:VEVENT
DTSTART;TZID=UTC:20240307T180000
DTEND;TZID=UTC:20240307T210000
DTSTAMP:20260422T225041
CREATED:20240306T200707Z
LAST-MODIFIED:20240306T200707Z
UID:10020430-1709834400-1709845200@thepbmoms.com
SUMMARY:Clematis by Night — Sacred Union (Rock\, Funk\, Pop and Dance)
DESCRIPTION:This highly popular\, award-winning weekly concert series is the place to be for great music\, mouth-watering foods\, and great times with family and friends. \nEstablished in October 2020\, this eight-plus piece band is known for its musical arrangements and driving performances with a diverse repertoire of cover songs — such as Red-Hot Chili Peppers\, Prince\, Hall and Oates\, Ed Sheeran\, David Bowie and so much more. Their infectious rock\, funk and pop brand will have attendees dancing all night!
URL:https://thepbmoms.com/event/clematis-by-night-sacred-union-rock-funk-pop-and-dance-2/
LOCATION:Downtown West Palm Beach — Waterfront Commons / The Great Lawn\, 100 N. Clematis Street\, West Palm Beach\, 33401
END:VEVENT
BEGIN:VEVENT
DTSTART;TZID=UTC:20240307T180000
DTEND;TZID=UTC:20240307T210000
DTSTAMP:20260422T225041
CREATED:20240306T200005Z
LAST-MODIFIED:20240306T200005Z
UID:10020429-1709834400-1709845200@thepbmoms.com
SUMMARY:Clematis by Night — Sacred Union (Rock\, Funk\, Pop and Dance)
DESCRIPTION:This highly popular\, award-winning weekly concert series is the place to be for great music\, mouth-watering foods\, and great times with family and friends. \nEstablished in October 2020\, this eight-plus piece band is known for its musical arrangements and driving performances with a diverse repertoire of cover songs — such as Red-Hot Chili Peppers\, Prince\, Hall and Oates\, Ed Sheeran\, David Bowie and so much more. Their infectious rock\, funk and pop brand will have attendees dancing all night!
URL:https://thepbmoms.com/event/clematis-by-night-sacred-union-rock-funk-pop-and-dance/
LOCATION:Downtown West Palm Beach — Waterfront Commons / The Great Lawn\, 100 N. Clematis Street\, West Palm Beach\, 33401
END:VEVENT
BEGIN:VEVENT
DTSTART;TZID=UTC:20240307T150000
DTEND;TZID=UTC:20240307T153000
DTSTAMP:20260422T225041
CREATED:20230901T163322Z
LAST-MODIFIED:20230901T163322Z
UID:10012849-1709823600-1709825400@thepbmoms.com
SUMMARY:Crafts for Kids
DESCRIPTION:Crafts for Kids (Up to Age 7)\nEvery Thursday / 3:00 p.m.\n\n\n\nJoin us for weekly crafts at the library! We offer a new craft every week\, we recommended these crafts for up to age seven.
URL:https://thepbmoms.com/event/crafts-for-kids/2024-03-07/
LOCATION:North Palm Beach Library\, 501 US Highway 1\, North Palm Beach\, FL\, 33408
END:VEVENT
BEGIN:VEVENT
DTSTART;TZID=UTC:20240307T104500
DTEND;TZID=UTC:20240307T110000
DTSTAMP:20260422T225041
CREATED:20240101T221421Z
LAST-MODIFIED:20240101T222831Z
UID:10017557-1709808300-1709809200@thepbmoms.com
SUMMARY:Touch Tank Demonstrations
DESCRIPTION:Touch Tank Demonstrations \nDaily demonstrations at 10:45am
URL:https://thepbmoms.com/event/touch-tank-demonstrations/2024-03-07/
LOCATION:Cox Science Center\, 4801 Dreher Trail North\, Weest Palm Beach\, FL\, 33405
ATTACH;FMTTYPE=image/png:https://thepbmoms.com/wp-content/uploads/2024/01/Untitled-design.png
END:VEVENT
BEGIN:VEVENT
DTSTART;TZID=UTC:20240307T103000
DTEND;TZID=UTC:20240307T110000
DTSTAMP:20260422T225041
CREATED:20240204T181040Z
LAST-MODIFIED:20240204T181104Z
UID:10019823-1709807400-1709809200@thepbmoms.com
SUMMARY:Rhythm & Hues Music Class up to age 5
DESCRIPTION:For families with babies and children up to age 5. Join the creative staff from Rhythm & Hues Children’s Art & Music Center for a joyful time of music\, singing\, dancing\, instruments\, friendship\, and family. Space is limited\, and in-person sign-up begins in KidSpace at 10 a.m. for the 10:30 a.m. classes and at 10:30 a.m. for the 11 a.m. class. For more information\, visit wpbcitylibrary.org or call (561) 868-7703.\n\n  \n\n\nDate:\nThursday\, February 8\, 2024  Show more dates \nThursday\, February 15\, 2024\nThursday\, February 22\, 2024\nThursday\, February 29\, 2024\nThursday\, March 7\, 2024\nThursday\, March 14\, 2024\nThursday\, March 21\, 2024\nThursday\, March 28\, 2024\nThursday\, April 4\, 2024\nThursday\, April 11\, 2024\nThursday\, April 18\, 2024\nThursday\, April 25\, 2024\nThursday\, May 2\, 2024\nThursday\, May 9\, 2024\nThursday\, May 16\, 2024\nThursday\, May 23\, 2024 \n\nTime:\n10:30am – 11:00am\nLocation:\nKids Programming Space
URL:https://thepbmoms.com/event/rhythm-hues-music-class/2024-03-07/
LOCATION:Mandel Public Library\, 411 Clematis\, West Palm Beach\, FL\, 33401
END:VEVENT
BEGIN:VEVENT
DTSTART;TZID=UTC:20240307T093000
DTEND;TZID=UTC:20240307T100000
DTSTAMP:20260422T225041
CREATED:20240109T182556Z
LAST-MODIFIED:20240109T182556Z
UID:10019353-1709803800-1709805600@thepbmoms.com
SUMMARY:Story Time
DESCRIPTION:Join the River Center inside in our classroom for our weekly Story time!\nGather around as we read various stories and provide an up-close encounter with one of our resident animal ambassadors.\nChildren ages 0-6 are welcome to attend.\nThis is a free program and no RSVP is required.\nWe hope to see you there!
URL:https://thepbmoms.com/event/story-time/2024-03-07/
LOCATION:River Center\, 805 N US Highway 1\, Jupiter\, 33477
CATEGORIES:Free,Toddler
ORGANIZER;CN="River Center":MAILTO:rivercenter@lrecd.org
END:VEVENT
END:VCALENDAR