BEGIN:VCALENDAR
VERSION:2.0
PRODID:-//Palm Beach Moms - ECPv6.15.20//NONSGML v1.0//EN
CALSCALE:GREGORIAN
METHOD:PUBLISH
X-WR-CALNAME:Palm Beach Moms
X-ORIGINAL-URL:https://thepbmoms.com
X-WR-CALDESC:Events for Palm Beach Moms
REFRESH-INTERVAL;VALUE=DURATION:PT1H
X-Robots-Tag:noindex
X-PUBLISHED-TTL:PT1H
BEGIN:VTIMEZONE
TZID:UTC
BEGIN:STANDARD
TZOFFSETFROM:+0000
TZOFFSETTO:+0000
TZNAME:UTC
DTSTART:20250101T000000
END:STANDARD
END:VTIMEZONE
BEGIN:VEVENT
DTSTART;TZID=UTC:20260330T160000
DTEND;TZID=UTC:20260330T163000
DTSTAMP:20260422T222237
CREATED:20240619T170240Z
LAST-MODIFIED:20240619T170240Z
UID:10022136-1774886400-1774888200@thepbmoms.com
SUMMARY:Swamp Serving Alligator Feeding
DESCRIPTION:Stop by our Sanctuary on Mondays at 4 PM for our weekly Alligator presentation and feeding! Come see the mighty Florida Alligator and learn all about why they are such an important keystone species\, how they help the environment and much more!
URL:https://thepbmoms.com/event/swamp-serving-alligator-feeding/2026-03-30/
LOCATION:Busch Wildlife\, 17855 Rocky Pines Road\, Jupiter\, FL\, 33478
CATEGORIES:The Whole Family
ORGANIZER;CN="Busch Wildlife Sanctuary":MAILTO:marketingasst@buschwildlife.org
END:VEVENT
BEGIN:VEVENT
DTSTART;TZID=UTC:20260406T160000
DTEND;TZID=UTC:20260406T163000
DTSTAMP:20260422T222237
CREATED:20240619T170240Z
LAST-MODIFIED:20240619T170240Z
UID:10022137-1775491200-1775493000@thepbmoms.com
SUMMARY:Swamp Serving Alligator Feeding
DESCRIPTION:Stop by our Sanctuary on Mondays at 4 PM for our weekly Alligator presentation and feeding! Come see the mighty Florida Alligator and learn all about why they are such an important keystone species\, how they help the environment and much more!
URL:https://thepbmoms.com/event/swamp-serving-alligator-feeding/2026-04-06/
LOCATION:Busch Wildlife\, 17855 Rocky Pines Road\, Jupiter\, FL\, 33478
CATEGORIES:The Whole Family
ORGANIZER;CN="Busch Wildlife Sanctuary":MAILTO:marketingasst@buschwildlife.org
END:VEVENT
BEGIN:VEVENT
DTSTART;TZID=UTC:20260413T160000
DTEND;TZID=UTC:20260413T163000
DTSTAMP:20260422T222237
CREATED:20240619T170240Z
LAST-MODIFIED:20240619T170240Z
UID:10022138-1776096000-1776097800@thepbmoms.com
SUMMARY:Swamp Serving Alligator Feeding
DESCRIPTION:Stop by our Sanctuary on Mondays at 4 PM for our weekly Alligator presentation and feeding! Come see the mighty Florida Alligator and learn all about why they are such an important keystone species\, how they help the environment and much more!
URL:https://thepbmoms.com/event/swamp-serving-alligator-feeding/2026-04-13/
LOCATION:Busch Wildlife\, 17855 Rocky Pines Road\, Jupiter\, FL\, 33478
CATEGORIES:The Whole Family
ORGANIZER;CN="Busch Wildlife Sanctuary":MAILTO:marketingasst@buschwildlife.org
END:VEVENT
BEGIN:VEVENT
DTSTART;TZID=UTC:20260418T100000
DTEND;TZID=UTC:20260418T120000
DTSTAMP:20260422T222237
CREATED:20260322T205521Z
LAST-MODIFIED:20260322T205521Z
UID:10033626-1776506400-1776513600@thepbmoms.com
SUMMARY:Healthy Kids Day
DESCRIPTION:Looking for a fun (and free!) family activity? The YMCA of the Palm Beaches is hosting Healthy Kids Day\, Saturday\, April 18th\, from 10-12pm\, featuring games\, activities\, and hands-on ways to keep kids active and healthy all summer long. Perfect for all ages!
URL:https://thepbmoms.com/event/healthy-kids-day/
LOCATION:Palm Beach State College\, 4200 S Congress Ave\, Lake Worth\, 33461
CATEGORIES:Free,Spring,The Whole Family
ATTACH;FMTTYPE=image/png:https://thepbmoms.com/wp-content/uploads/2026/03/Healthy-Kids-Day-.png
END:VEVENT
BEGIN:VEVENT
DTSTART;TZID=UTC:20260419T110000
DTEND;TZID=UTC:20260419T140000
DTSTAMP:20260422T222237
CREATED:20260106T210609Z
LAST-MODIFIED:20260106T210609Z
UID:10030391-1776596400-1776607200@thepbmoms.com
SUMMARY:Toddler Life Expo
DESCRIPTION:The Toddler Life Expo is a premier family event bringing together parents and childhood experts for creating smart\, kind\, resilient kids!\nThe Toddler Life Expo is a premier Florida family-focused event that brings together parents\, caregivers\, and early childhood experts for an engaging and educational experience. ihelpmoms.com is proud to provide this FREE to families!  Designed for families with kids ages 0-8.\nTopics and Resources that will be available:\n*Understanding Toddler Brain & Behavior\n*Finding Your Child’s Zone of Genius with North Broward Preparatory School\n*Post Partum Reimagined\n*Brain Boosting Gentle Sleep Shaping\n*Potty Training Made Fun And Easy\n*Picky Eaters and Nutrition\n*Overwhelm Management Strategies\n*The Healthiest Families Resource Hub\n*Mom Entrepreneur Featured Exhibitors\n*Top Family Health Care Experts and Products\nToddler Life Expo isn’t just an event—it’s a vibrant community celebration of parenting\, learning\, and growth.\nJoin us to create smart\, kind\, resilient kids! Enjoy fun activities for the kids and Top Parenting Expert speakers every 30 minutes!
URL:https://thepbmoms.com/event/toddler-life-expo/
LOCATION:Boca Raton Marriott at Boca Center\, 5150 Town Center Circle\, Boca Raton\, 33486
CATEGORIES:Free,Just for Kids,Parents,The Whole Family,Toddler
ATTACH;FMTTYPE=image/png:https://thepbmoms.com/wp-content/uploads/2026/01/IMG_7311.png
ORGANIZER;CN="ihelpmoms":MAILTO:ihelpmomsinc@gmail.com
END:VEVENT
BEGIN:VEVENT
DTSTART;TZID=UTC:20260420T160000
DTEND;TZID=UTC:20260420T163000
DTSTAMP:20260422T222237
CREATED:20240619T170240Z
LAST-MODIFIED:20240619T170240Z
UID:10022139-1776700800-1776702600@thepbmoms.com
SUMMARY:Swamp Serving Alligator Feeding
DESCRIPTION:Stop by our Sanctuary on Mondays at 4 PM for our weekly Alligator presentation and feeding! Come see the mighty Florida Alligator and learn all about why they are such an important keystone species\, how they help the environment and much more!
URL:https://thepbmoms.com/event/swamp-serving-alligator-feeding/2026-04-20/
LOCATION:Busch Wildlife\, 17855 Rocky Pines Road\, Jupiter\, FL\, 33478
CATEGORIES:The Whole Family
ORGANIZER;CN="Busch Wildlife Sanctuary":MAILTO:marketingasst@buschwildlife.org
END:VEVENT
BEGIN:VEVENT
DTSTART;TZID=UTC:20260421T103000
DTEND;TZID=UTC:20260421T123000
DTSTAMP:20260422T222237
CREATED:20260407T174257Z
LAST-MODIFIED:20260407T174257Z
UID:10033639-1776767400-1776774600@thepbmoms.com
SUMMARY:Once Upon a Family Parent Fair
DESCRIPTION:Celebrate National Library Week with a Parenting Information Fair designed to educate\, empower\, and connect families with valuable local resources. Join us for a day of learning and community engagement featuring trusted organizations from across Palm Beach County. Event highlights include a free bike helmet giveaway and professional helmet fittings provided by Safe Kids of Palm Beach County\, along with lactation support and breastfeeding resources from the Breastfeeding Coalition of Palm Beach County.
URL:https://thepbmoms.com/event/once-upon-a-family-parent-fair/
LOCATION:Hagen Ranch Road Branch\, 14350 Hagen Ranch Road\, Delray Beach\, 33446
CATEGORIES:Baby,Free,Parents,Spring,The Whole Family,Toddler
ATTACH;FMTTYPE=image/png:https://thepbmoms.com/wp-content/uploads/2026/04/Once-Upon-a-Family-Graphic1.png
ORGANIZER;CN="Hagen Ranch Road Branch":MAILTO:www.hrrcats@pbclibrary.org
END:VEVENT
BEGIN:VEVENT
DTSTART;VALUE=DATE:20260425
DTEND;VALUE=DATE:20260426
DTSTAMP:20260422T222237
CREATED:20230626T194651Z
LAST-MODIFIED:20230626T194651Z
UID:10010139-1777075200-1777161599@thepbmoms.com
SUMMARY:Half price for Heroes
DESCRIPTION:
URL:https://thepbmoms.com/event/half-price-for-heroes/2026-04-25/
LOCATION:Cox Science Center\, 4801 Dreher Trail North\, Weest Palm Beach\, FL\, 33405
CATEGORIES:The Whole Family
END:VEVENT
BEGIN:VEVENT
DTSTART;TZID=UTC:20260425T080000
DTEND;TZID=UTC:20260426T150000
DTSTAMP:20260422T222237
CREATED:20260422T193710Z
LAST-MODIFIED:20260422T193749Z
UID:10033649-1777104000-1777215600@thepbmoms.com
SUMMARY:Spring Plant Sale and Festival
DESCRIPTION:The Garden-Lovers’ Event of the Season! \nSATURDAY & SUNDAY\, APRIL 25 & 26\, 2026 \nSat.\, April 25:\nMembers-Only Preview 8 am\nOpen to Public 9 am – 4 pm; last entry 3:30 pm\nSun.\, April 26: 9 am – 3 pm; last entry 2:30 pm\nHIGHLIGHTS: \nMeet highly sought-after plant growers and artisan vendors.\nShop a wide variety of rare\, exotic\, and hard-to-find orchids\, plants\, trees\, herbs\, ornamentals\, succulents\, cactus\, bonsai\, butterfly/native plants\, shrubs\, and fruit trees\, as well as garden accessories\, baskets\, fine crafts\, and more.\nLearn about South Florida’s plant culture by speaking directly with expert growers.\nAttend fun and informative presentations led by industry experts.\nFind horticultural ‘must-haves’ and unique treasures in the Garden’s Gift Shop and Nursery.\nEnjoy family-friendly activities\, including arts and crafts and games\, live music\, and food and beverage vendors.\nADMISSION: \nFREE for Mounts Members & Children under 6\n$20 adults\n$18 seniors (65+)\, college students\, and military with ID\n$13 for ages 6 – 17\nTickets include full Garden admission and are nonrefundable. \nAnnual Memberships start at $60 and include free daytime general admission to the Garden year-round\, including Plant Sales. \nNot a member? Join today to receive free admission to the Garden all year\, including all Plant Sale\, and more!
URL:https://thepbmoms.com/event/spring-plant-sale-festival/
LOCATION:Mounts Botanical Garden\, 531 N Military Trl\, West Palm Beach\, 33415
CATEGORIES:Spring,The Whole Family
ATTACH;FMTTYPE=image/png:https://thepbmoms.com/wp-content/uploads/2026/04/Artboard-1.png
ORGANIZER;CN="Mounts Botanical Garden":MAILTO:DRobaina@pbcgov.org
END:VEVENT
BEGIN:VEVENT
DTSTART;TZID=UTC:20260425T120000
DTEND;TZID=UTC:20260425T170000
DTSTAMP:20260422T222237
CREATED:20260422T193844Z
LAST-MODIFIED:20260422T193844Z
UID:10033643-1777118400-1777136400@thepbmoms.com
SUMMARY:Free A.D.A.M. Challenge Fatherhood Family Fun Day by Community-Based Connection
DESCRIPTION:Community-Based Connections\, Inc. (CBCI)\, a not-for-profit organization dedicated to youth development\, family strengthening\, and community empowerment\, welcomes the public to its A.D.A.M. (Awesome Dads\, Awesome Men) Challenge Fatherhood Family Fun Day on Saturday\, April 25\, from noon to 5 p.m.\, at Mitchell Moore Park (901 NW 10th Street). The free event is designed to celebrate fatherhood\, strengthen family bonds\, and bring the community together through high energy games\, prizes\, interactive challenges\, and opportunities to connect with local resources. \nCBCI’s A.D.A.M. is a free fatherhood mentoring program funded by the Jim Moran Foundation. The program provides fathers with tools\, support\, and education to strengthen relationships\, improve parenting\, and enhance family stability. CBCI has delivered evidence-based programs for more than 16 years in Broward County to help families achieve long-term well-being. CBCI recently expanded its services into Palm Beach County with the opening of its Riviera Beach office and the completion of its first successful Fathers and Family Day on March 28 at Dr. Mary McLeod Bethune Elementary School. \nAttendees can look forward to tug-of-war\, obstacle courses\, basketball\, three-legged relays\, sack races\, egg-and-spoon races\, music\, giveaways\, prizes\, food\, and more. Local vendors and community organizations will also be on-site offering resources and support services to help families access opportunities for health\, education\, employment\, mentoring\, and family support. Speed Mob will be hosting a high-performance car display. \nThe A.D.A.M. Challenge Fatherhood Family Fun Day is made possible thanks to the generous support of its community partners and sponsors\, including the A.D.A.M. Program; Broward Sheriff’s Office (BSO); ChildNet; Children’s Services Council of Broward County; City of Pompano Beach; Cox Media Group; Florida Blue; Florida Power & Light Company (FPL); Frederick A. DeLuca Foundation; HEART (Helping Every Area of Relationships Thrive); I Am Kingdom Ministries; Pompano Beach Fire Rescue; Sanders Park Elementary School; The GEO Group\, Inc.; The Jim Moran Foundation; and United Way of Broward County. \nFor more information about the A.D.A.M. Challenge Fatherhood Family Fun Day\, including registration for guests and vendors\, please visit communitybasedconnections.com/event/adam-challenge-2026.
URL:https://thepbmoms.com/event/free-a-d-a-m-challenge-fatherhood-family-fun-day-by-community-based-connection/
LOCATION:Mitchell Moore Park\, 901 NW 10th Street\, Pompano Beach\, 33060
CATEGORIES:Free,The Whole Family
ATTACH;FMTTYPE=image/jpeg:https://thepbmoms.com/wp-content/uploads/2026/04/cbci-adamchallenge-042526-v5-square.jpg
ORGANIZER;CN="Community-Based Connections%2C Inc.":MAILTO:jrthicklin@communitybasedconnections.com
END:VEVENT
BEGIN:VEVENT
DTSTART;TZID=UTC:20260425T140000
DTEND;TZID=UTC:20260425T160000
DTSTAMP:20260422T222237
CREATED:20260317T180314Z
LAST-MODIFIED:20260317T180314Z
UID:10033609-1777125600-1777132800@thepbmoms.com
SUMMARY:Child Rescue Coalition: Blankets and Bear Hugs Community Day
DESCRIPTION:Child Rescue Coalition’s Blankets and Bear Hugs Community Day is a great way to give back to your community with your family and friends. During this event\, you will learn more about the work Child Rescue Coalition is doing to help protect children\, and work on the hands-on activity to make care packages for rescued children.   \n*Students can earn two community service hours for participating in the event.  \nSpots are filling up. Register on our website today!\nhttps://give.childrescuecoalition.org/event/blankets-and-bear-hugs-community-day/e765499
URL:https://thepbmoms.com/event/child-rescue-coalition-blankets-and-bear-hugs-community-day/
LOCATION:Boca Raton Innovation Campus\, 5000 T-Rex Avenue\, Boca Raton\, 33431
CATEGORIES:Free,Parents,Teen,The Whole Family
ATTACH;FMTTYPE=image/jpeg:https://thepbmoms.com/wp-content/uploads/2026/03/25074885.jpg
ORGANIZER;CN="Child Rescue Coalition":MAILTO:events@childrescuecoalition.org
END:VEVENT
BEGIN:VEVENT
DTSTART;TZID=UTC:20260427T160000
DTEND;TZID=UTC:20260427T163000
DTSTAMP:20260422T222237
CREATED:20240619T170240Z
LAST-MODIFIED:20240619T170240Z
UID:10022140-1777305600-1777307400@thepbmoms.com
SUMMARY:Swamp Serving Alligator Feeding
DESCRIPTION:Stop by our Sanctuary on Mondays at 4 PM for our weekly Alligator presentation and feeding! Come see the mighty Florida Alligator and learn all about why they are such an important keystone species\, how they help the environment and much more!
URL:https://thepbmoms.com/event/swamp-serving-alligator-feeding/2026-04-27/
LOCATION:Busch Wildlife\, 17855 Rocky Pines Road\, Jupiter\, FL\, 33478
CATEGORIES:The Whole Family
ORGANIZER;CN="Busch Wildlife Sanctuary":MAILTO:marketingasst@buschwildlife.org
END:VEVENT
BEGIN:VEVENT
DTSTART;TZID=UTC:20260504T160000
DTEND;TZID=UTC:20260504T163000
DTSTAMP:20260422T222237
CREATED:20240619T170240Z
LAST-MODIFIED:20240619T170240Z
UID:10022141-1777910400-1777912200@thepbmoms.com
SUMMARY:Swamp Serving Alligator Feeding
DESCRIPTION:Stop by our Sanctuary on Mondays at 4 PM for our weekly Alligator presentation and feeding! Come see the mighty Florida Alligator and learn all about why they are such an important keystone species\, how they help the environment and much more!
URL:https://thepbmoms.com/event/swamp-serving-alligator-feeding/2026-05-04/
LOCATION:Busch Wildlife\, 17855 Rocky Pines Road\, Jupiter\, FL\, 33478
CATEGORIES:The Whole Family
ORGANIZER;CN="Busch Wildlife Sanctuary":MAILTO:marketingasst@buschwildlife.org
END:VEVENT
BEGIN:VEVENT
DTSTART;TZID=UTC:20260511T160000
DTEND;TZID=UTC:20260511T163000
DTSTAMP:20260422T222237
CREATED:20240619T170240Z
LAST-MODIFIED:20240619T170240Z
UID:10022142-1778515200-1778517000@thepbmoms.com
SUMMARY:Swamp Serving Alligator Feeding
DESCRIPTION:Stop by our Sanctuary on Mondays at 4 PM for our weekly Alligator presentation and feeding! Come see the mighty Florida Alligator and learn all about why they are such an important keystone species\, how they help the environment and much more!
URL:https://thepbmoms.com/event/swamp-serving-alligator-feeding/2026-05-11/
LOCATION:Busch Wildlife\, 17855 Rocky Pines Road\, Jupiter\, FL\, 33478
CATEGORIES:The Whole Family
ORGANIZER;CN="Busch Wildlife Sanctuary":MAILTO:marketingasst@buschwildlife.org
END:VEVENT
BEGIN:VEVENT
DTSTART;TZID=UTC:20260518T160000
DTEND;TZID=UTC:20260518T163000
DTSTAMP:20260422T222237
CREATED:20240619T170240Z
LAST-MODIFIED:20240619T170240Z
UID:10022143-1779120000-1779121800@thepbmoms.com
SUMMARY:Swamp Serving Alligator Feeding
DESCRIPTION:Stop by our Sanctuary on Mondays at 4 PM for our weekly Alligator presentation and feeding! Come see the mighty Florida Alligator and learn all about why they are such an important keystone species\, how they help the environment and much more!
URL:https://thepbmoms.com/event/swamp-serving-alligator-feeding/2026-05-18/
LOCATION:Busch Wildlife\, 17855 Rocky Pines Road\, Jupiter\, FL\, 33478
CATEGORIES:The Whole Family
ORGANIZER;CN="Busch Wildlife Sanctuary":MAILTO:marketingasst@buschwildlife.org
END:VEVENT
BEGIN:VEVENT
DTSTART;TZID=UTC:20260525T160000
DTEND;TZID=UTC:20260525T163000
DTSTAMP:20260422T222237
CREATED:20240619T170240Z
LAST-MODIFIED:20240619T170240Z
UID:10022144-1779724800-1779726600@thepbmoms.com
SUMMARY:Swamp Serving Alligator Feeding
DESCRIPTION:Stop by our Sanctuary on Mondays at 4 PM for our weekly Alligator presentation and feeding! Come see the mighty Florida Alligator and learn all about why they are such an important keystone species\, how they help the environment and much more!
URL:https://thepbmoms.com/event/swamp-serving-alligator-feeding/2026-05-25/
LOCATION:Busch Wildlife\, 17855 Rocky Pines Road\, Jupiter\, FL\, 33478
CATEGORIES:The Whole Family
ORGANIZER;CN="Busch Wildlife Sanctuary":MAILTO:marketingasst@buschwildlife.org
END:VEVENT
BEGIN:VEVENT
DTSTART;VALUE=DATE:20260530
DTEND;VALUE=DATE:20260531
DTSTAMP:20260422T222237
CREATED:20230626T194651Z
LAST-MODIFIED:20230626T194651Z
UID:10010140-1780099200-1780185599@thepbmoms.com
SUMMARY:Half price for Heroes
DESCRIPTION:
URL:https://thepbmoms.com/event/half-price-for-heroes/2026-05-30/
LOCATION:Cox Science Center\, 4801 Dreher Trail North\, Weest Palm Beach\, FL\, 33405
CATEGORIES:The Whole Family
END:VEVENT
BEGIN:VEVENT
DTSTART;TZID=UTC:20260601T160000
DTEND;TZID=UTC:20260601T163000
DTSTAMP:20260422T222237
CREATED:20240619T170240Z
LAST-MODIFIED:20240619T170240Z
UID:10022145-1780329600-1780331400@thepbmoms.com
SUMMARY:Swamp Serving Alligator Feeding
DESCRIPTION:Stop by our Sanctuary on Mondays at 4 PM for our weekly Alligator presentation and feeding! Come see the mighty Florida Alligator and learn all about why they are such an important keystone species\, how they help the environment and much more!
URL:https://thepbmoms.com/event/swamp-serving-alligator-feeding/2026-06-01/
LOCATION:Busch Wildlife\, 17855 Rocky Pines Road\, Jupiter\, FL\, 33478
CATEGORIES:The Whole Family
ORGANIZER;CN="Busch Wildlife Sanctuary":MAILTO:marketingasst@buschwildlife.org
END:VEVENT
BEGIN:VEVENT
DTSTART;TZID=UTC:20260608T160000
DTEND;TZID=UTC:20260608T163000
DTSTAMP:20260422T222237
CREATED:20240619T170240Z
LAST-MODIFIED:20240619T170240Z
UID:10022146-1780934400-1780936200@thepbmoms.com
SUMMARY:Swamp Serving Alligator Feeding
DESCRIPTION:Stop by our Sanctuary on Mondays at 4 PM for our weekly Alligator presentation and feeding! Come see the mighty Florida Alligator and learn all about why they are such an important keystone species\, how they help the environment and much more!
URL:https://thepbmoms.com/event/swamp-serving-alligator-feeding/2026-06-08/
LOCATION:Busch Wildlife\, 17855 Rocky Pines Road\, Jupiter\, FL\, 33478
CATEGORIES:The Whole Family
ORGANIZER;CN="Busch Wildlife Sanctuary":MAILTO:marketingasst@buschwildlife.org
END:VEVENT
BEGIN:VEVENT
DTSTART;TZID=UTC:20260615T160000
DTEND;TZID=UTC:20260615T163000
DTSTAMP:20260422T222237
CREATED:20240619T170240Z
LAST-MODIFIED:20240619T170240Z
UID:10022147-1781539200-1781541000@thepbmoms.com
SUMMARY:Swamp Serving Alligator Feeding
DESCRIPTION:Stop by our Sanctuary on Mondays at 4 PM for our weekly Alligator presentation and feeding! Come see the mighty Florida Alligator and learn all about why they are such an important keystone species\, how they help the environment and much more!
URL:https://thepbmoms.com/event/swamp-serving-alligator-feeding/2026-06-15/
LOCATION:Busch Wildlife\, 17855 Rocky Pines Road\, Jupiter\, FL\, 33478
CATEGORIES:The Whole Family
ORGANIZER;CN="Busch Wildlife Sanctuary":MAILTO:marketingasst@buschwildlife.org
END:VEVENT
BEGIN:VEVENT
DTSTART;TZID=UTC:20260622T160000
DTEND;TZID=UTC:20260622T163000
DTSTAMP:20260422T222237
CREATED:20240619T170240Z
LAST-MODIFIED:20240619T170240Z
UID:10022148-1782144000-1782145800@thepbmoms.com
SUMMARY:Swamp Serving Alligator Feeding
DESCRIPTION:Stop by our Sanctuary on Mondays at 4 PM for our weekly Alligator presentation and feeding! Come see the mighty Florida Alligator and learn all about why they are such an important keystone species\, how they help the environment and much more!
URL:https://thepbmoms.com/event/swamp-serving-alligator-feeding/2026-06-22/
LOCATION:Busch Wildlife\, 17855 Rocky Pines Road\, Jupiter\, FL\, 33478
CATEGORIES:The Whole Family
ORGANIZER;CN="Busch Wildlife Sanctuary":MAILTO:marketingasst@buschwildlife.org
END:VEVENT
BEGIN:VEVENT
DTSTART;VALUE=DATE:20260627
DTEND;VALUE=DATE:20260628
DTSTAMP:20260422T222237
CREATED:20230626T194651Z
LAST-MODIFIED:20230626T194651Z
UID:10010141-1782518400-1782604799@thepbmoms.com
SUMMARY:Half price for Heroes
DESCRIPTION:
URL:https://thepbmoms.com/event/half-price-for-heroes/2026-06-27/
LOCATION:Cox Science Center\, 4801 Dreher Trail North\, Weest Palm Beach\, FL\, 33405
CATEGORIES:The Whole Family
END:VEVENT
BEGIN:VEVENT
DTSTART;TZID=UTC:20260629T160000
DTEND;TZID=UTC:20260629T163000
DTSTAMP:20260422T222237
CREATED:20240619T170240Z
LAST-MODIFIED:20240619T170240Z
UID:10022149-1782748800-1782750600@thepbmoms.com
SUMMARY:Swamp Serving Alligator Feeding
DESCRIPTION:Stop by our Sanctuary on Mondays at 4 PM for our weekly Alligator presentation and feeding! Come see the mighty Florida Alligator and learn all about why they are such an important keystone species\, how they help the environment and much more!
URL:https://thepbmoms.com/event/swamp-serving-alligator-feeding/2026-06-29/
LOCATION:Busch Wildlife\, 17855 Rocky Pines Road\, Jupiter\, FL\, 33478
CATEGORIES:The Whole Family
ORGANIZER;CN="Busch Wildlife Sanctuary":MAILTO:marketingasst@buschwildlife.org
END:VEVENT
BEGIN:VEVENT
DTSTART;TZID=UTC:20260706T160000
DTEND;TZID=UTC:20260706T163000
DTSTAMP:20260422T222237
CREATED:20240619T170240Z
LAST-MODIFIED:20240619T170240Z
UID:10022150-1783353600-1783355400@thepbmoms.com
SUMMARY:Swamp Serving Alligator Feeding
DESCRIPTION:Stop by our Sanctuary on Mondays at 4 PM for our weekly Alligator presentation and feeding! Come see the mighty Florida Alligator and learn all about why they are such an important keystone species\, how they help the environment and much more!
URL:https://thepbmoms.com/event/swamp-serving-alligator-feeding/2026-07-06/
LOCATION:Busch Wildlife\, 17855 Rocky Pines Road\, Jupiter\, FL\, 33478
CATEGORIES:The Whole Family
ORGANIZER;CN="Busch Wildlife Sanctuary":MAILTO:marketingasst@buschwildlife.org
END:VEVENT
BEGIN:VEVENT
DTSTART;TZID=UTC:20260713T160000
DTEND;TZID=UTC:20260713T163000
DTSTAMP:20260422T222237
CREATED:20240619T170240Z
LAST-MODIFIED:20240619T170240Z
UID:10022151-1783958400-1783960200@thepbmoms.com
SUMMARY:Swamp Serving Alligator Feeding
DESCRIPTION:Stop by our Sanctuary on Mondays at 4 PM for our weekly Alligator presentation and feeding! Come see the mighty Florida Alligator and learn all about why they are such an important keystone species\, how they help the environment and much more!
URL:https://thepbmoms.com/event/swamp-serving-alligator-feeding/2026-07-13/
LOCATION:Busch Wildlife\, 17855 Rocky Pines Road\, Jupiter\, FL\, 33478
CATEGORIES:The Whole Family
ORGANIZER;CN="Busch Wildlife Sanctuary":MAILTO:marketingasst@buschwildlife.org
END:VEVENT
BEGIN:VEVENT
DTSTART;TZID=UTC:20260720T160000
DTEND;TZID=UTC:20260720T163000
DTSTAMP:20260422T222237
CREATED:20240619T170240Z
LAST-MODIFIED:20240619T170240Z
UID:10022152-1784563200-1784565000@thepbmoms.com
SUMMARY:Swamp Serving Alligator Feeding
DESCRIPTION:Stop by our Sanctuary on Mondays at 4 PM for our weekly Alligator presentation and feeding! Come see the mighty Florida Alligator and learn all about why they are such an important keystone species\, how they help the environment and much more!
URL:https://thepbmoms.com/event/swamp-serving-alligator-feeding/2026-07-20/
LOCATION:Busch Wildlife\, 17855 Rocky Pines Road\, Jupiter\, FL\, 33478
CATEGORIES:The Whole Family
ORGANIZER;CN="Busch Wildlife Sanctuary":MAILTO:marketingasst@buschwildlife.org
END:VEVENT
BEGIN:VEVENT
DTSTART;VALUE=DATE:20260725
DTEND;VALUE=DATE:20260726
DTSTAMP:20260422T222237
CREATED:20230626T194651Z
LAST-MODIFIED:20230626T194651Z
UID:10010142-1784937600-1785023999@thepbmoms.com
SUMMARY:Half price for Heroes
DESCRIPTION:
URL:https://thepbmoms.com/event/half-price-for-heroes/2026-07-25/
LOCATION:Cox Science Center\, 4801 Dreher Trail North\, Weest Palm Beach\, FL\, 33405
CATEGORIES:The Whole Family
END:VEVENT
BEGIN:VEVENT
DTSTART;TZID=UTC:20260727T160000
DTEND;TZID=UTC:20260727T163000
DTSTAMP:20260422T222237
CREATED:20240619T170240Z
LAST-MODIFIED:20240619T170240Z
UID:10022153-1785168000-1785169800@thepbmoms.com
SUMMARY:Swamp Serving Alligator Feeding
DESCRIPTION:Stop by our Sanctuary on Mondays at 4 PM for our weekly Alligator presentation and feeding! Come see the mighty Florida Alligator and learn all about why they are such an important keystone species\, how they help the environment and much more!
URL:https://thepbmoms.com/event/swamp-serving-alligator-feeding/2026-07-27/
LOCATION:Busch Wildlife\, 17855 Rocky Pines Road\, Jupiter\, FL\, 33478
CATEGORIES:The Whole Family
ORGANIZER;CN="Busch Wildlife Sanctuary":MAILTO:marketingasst@buschwildlife.org
END:VEVENT
BEGIN:VEVENT
DTSTART;TZID=UTC:20260803T160000
DTEND;TZID=UTC:20260803T163000
DTSTAMP:20260422T222237
CREATED:20240619T170240Z
LAST-MODIFIED:20240619T170240Z
UID:10022154-1785772800-1785774600@thepbmoms.com
SUMMARY:Swamp Serving Alligator Feeding
DESCRIPTION:Stop by our Sanctuary on Mondays at 4 PM for our weekly Alligator presentation and feeding! Come see the mighty Florida Alligator and learn all about why they are such an important keystone species\, how they help the environment and much more!
URL:https://thepbmoms.com/event/swamp-serving-alligator-feeding/2026-08-03/
LOCATION:Busch Wildlife\, 17855 Rocky Pines Road\, Jupiter\, FL\, 33478
CATEGORIES:The Whole Family
ORGANIZER;CN="Busch Wildlife Sanctuary":MAILTO:marketingasst@buschwildlife.org
END:VEVENT
BEGIN:VEVENT
DTSTART;TZID=UTC:20260810T160000
DTEND;TZID=UTC:20260810T163000
DTSTAMP:20260422T222237
CREATED:20240619T170240Z
LAST-MODIFIED:20240619T170240Z
UID:10022155-1786377600-1786379400@thepbmoms.com
SUMMARY:Swamp Serving Alligator Feeding
DESCRIPTION:Stop by our Sanctuary on Mondays at 4 PM for our weekly Alligator presentation and feeding! Come see the mighty Florida Alligator and learn all about why they are such an important keystone species\, how they help the environment and much more!
URL:https://thepbmoms.com/event/swamp-serving-alligator-feeding/2026-08-10/
LOCATION:Busch Wildlife\, 17855 Rocky Pines Road\, Jupiter\, FL\, 33478
CATEGORIES:The Whole Family
ORGANIZER;CN="Busch Wildlife Sanctuary":MAILTO:marketingasst@buschwildlife.org
END:VEVENT
END:VCALENDAR