BEGIN:VCALENDAR
VERSION:2.0
PRODID:-//Palm Beach Moms - ECPv6.15.20//NONSGML v1.0//EN
CALSCALE:GREGORIAN
METHOD:PUBLISH
X-WR-CALNAME:Palm Beach Moms
X-ORIGINAL-URL:https://thepbmoms.com
X-WR-CALDESC:Events for Palm Beach Moms
REFRESH-INTERVAL;VALUE=DURATION:PT1H
X-Robots-Tag:noindex
X-PUBLISHED-TTL:PT1H
BEGIN:VTIMEZONE
TZID:UTC
BEGIN:STANDARD
TZOFFSETFROM:+0000
TZOFFSETTO:+0000
TZNAME:UTC
DTSTART:20250101T000000
END:STANDARD
END:VTIMEZONE
BEGIN:VEVENT
DTSTART;TZID=UTC:20260701T100000
DTEND;TZID=UTC:20260701T103000
DTSTAMP:20260423T004410
CREATED:20240619T165317Z
LAST-MODIFIED:20240619T165317Z
UID:10021889-1782900000-1782901800@thepbmoms.com
SUMMARY:Tiny Tales Storytime
DESCRIPTION:Join us for Toddler Storytime in our Educational Amphitheater\, every Wednesday at 10 a.m. A great family-friendly program where little ones of all ages can learn about wildlife! Listen to stories about gators and panthers\, and see some of our animal ambassadors up close.
URL:https://thepbmoms.com/event/tiny-tales-storytime/2026-07-01/
LOCATION:Busch Wildlife\, 17855 Rocky Pines Road\, Jupiter\, FL\, 33478
CATEGORIES:Baby,Parents,Toddler
ORGANIZER;CN="Busch Wildlife Sanctuary":MAILTO:marketingasst@buschwildlife.org
END:VEVENT
BEGIN:VEVENT
DTSTART;TZID=UTC:20260708T100000
DTEND;TZID=UTC:20260708T103000
DTSTAMP:20260423T004410
CREATED:20240619T165317Z
LAST-MODIFIED:20240619T165317Z
UID:10021890-1783504800-1783506600@thepbmoms.com
SUMMARY:Tiny Tales Storytime
DESCRIPTION:Join us for Toddler Storytime in our Educational Amphitheater\, every Wednesday at 10 a.m. A great family-friendly program where little ones of all ages can learn about wildlife! Listen to stories about gators and panthers\, and see some of our animal ambassadors up close.
URL:https://thepbmoms.com/event/tiny-tales-storytime/2026-07-08/
LOCATION:Busch Wildlife\, 17855 Rocky Pines Road\, Jupiter\, FL\, 33478
CATEGORIES:Baby,Parents,Toddler
ORGANIZER;CN="Busch Wildlife Sanctuary":MAILTO:marketingasst@buschwildlife.org
END:VEVENT
BEGIN:VEVENT
DTSTART;TZID=UTC:20260715T100000
DTEND;TZID=UTC:20260715T103000
DTSTAMP:20260423T004410
CREATED:20240619T165317Z
LAST-MODIFIED:20240619T165317Z
UID:10021891-1784109600-1784111400@thepbmoms.com
SUMMARY:Tiny Tales Storytime
DESCRIPTION:Join us for Toddler Storytime in our Educational Amphitheater\, every Wednesday at 10 a.m. A great family-friendly program where little ones of all ages can learn about wildlife! Listen to stories about gators and panthers\, and see some of our animal ambassadors up close.
URL:https://thepbmoms.com/event/tiny-tales-storytime/2026-07-15/
LOCATION:Busch Wildlife\, 17855 Rocky Pines Road\, Jupiter\, FL\, 33478
CATEGORIES:Baby,Parents,Toddler
ORGANIZER;CN="Busch Wildlife Sanctuary":MAILTO:marketingasst@buschwildlife.org
END:VEVENT
BEGIN:VEVENT
DTSTART;TZID=UTC:20260722T100000
DTEND;TZID=UTC:20260722T103000
DTSTAMP:20260423T004410
CREATED:20240619T165317Z
LAST-MODIFIED:20240619T165317Z
UID:10021892-1784714400-1784716200@thepbmoms.com
SUMMARY:Tiny Tales Storytime
DESCRIPTION:Join us for Toddler Storytime in our Educational Amphitheater\, every Wednesday at 10 a.m. A great family-friendly program where little ones of all ages can learn about wildlife! Listen to stories about gators and panthers\, and see some of our animal ambassadors up close.
URL:https://thepbmoms.com/event/tiny-tales-storytime/2026-07-22/
LOCATION:Busch Wildlife\, 17855 Rocky Pines Road\, Jupiter\, FL\, 33478
CATEGORIES:Baby,Parents,Toddler
ORGANIZER;CN="Busch Wildlife Sanctuary":MAILTO:marketingasst@buschwildlife.org
END:VEVENT
BEGIN:VEVENT
DTSTART;TZID=UTC:20260729T100000
DTEND;TZID=UTC:20260729T103000
DTSTAMP:20260423T004410
CREATED:20240619T165317Z
LAST-MODIFIED:20240619T165317Z
UID:10021893-1785319200-1785321000@thepbmoms.com
SUMMARY:Tiny Tales Storytime
DESCRIPTION:Join us for Toddler Storytime in our Educational Amphitheater\, every Wednesday at 10 a.m. A great family-friendly program where little ones of all ages can learn about wildlife! Listen to stories about gators and panthers\, and see some of our animal ambassadors up close.
URL:https://thepbmoms.com/event/tiny-tales-storytime/2026-07-29/
LOCATION:Busch Wildlife\, 17855 Rocky Pines Road\, Jupiter\, FL\, 33478
CATEGORIES:Baby,Parents,Toddler
ORGANIZER;CN="Busch Wildlife Sanctuary":MAILTO:marketingasst@buschwildlife.org
END:VEVENT
BEGIN:VEVENT
DTSTART;TZID=UTC:20260729T173000
DTEND;TZID=UTC:20260729T190000
DTSTAMP:20260423T004410
CREATED:20260422T193909Z
LAST-MODIFIED:20260422T193909Z
UID:10033647-1785346200-1785351600@thepbmoms.com
SUMMARY:Behind The Screen: What Every Parent Needs To Know About Online Safety
DESCRIPTION:This back-to-school season\, join Child Rescue Coalition CEO Greg Schiller and a panel of experts for a powerful conversation on the realities of online threats and what every parent can do to protect their children. \nChild Rescue Coalition is a nonprofit organization that rescues children from sexual abuse by building technology for law enforcement\, free of charge\, to identify\, arrest\, and prosecute child predators \nGet your FREE tickets on our Event Website today!
URL:https://thepbmoms.com/event/behind-the-screen-what-every-parent-needs-to-know-about-online-safety/
LOCATION:Boca Ration Innovation Campus\, 5000 T-Rex Avenue\, Boca Raton\, 33431
CATEGORIES:Free,Parents
ATTACH;FMTTYPE=image/png:https://thepbmoms.com/wp-content/uploads/2026/04/g9607k586brsoeuaewxoxrgn.png
ORGANIZER;CN="Child Rescue Coalition":MAILTO:events@childrescuecoalition.org
END:VEVENT
BEGIN:VEVENT
DTSTART;TZID=UTC:20260805T100000
DTEND;TZID=UTC:20260805T103000
DTSTAMP:20260423T004410
CREATED:20240619T165317Z
LAST-MODIFIED:20240619T165317Z
UID:10021894-1785924000-1785925800@thepbmoms.com
SUMMARY:Tiny Tales Storytime
DESCRIPTION:Join us for Toddler Storytime in our Educational Amphitheater\, every Wednesday at 10 a.m. A great family-friendly program where little ones of all ages can learn about wildlife! Listen to stories about gators and panthers\, and see some of our animal ambassadors up close.
URL:https://thepbmoms.com/event/tiny-tales-storytime/2026-08-05/
LOCATION:Busch Wildlife\, 17855 Rocky Pines Road\, Jupiter\, FL\, 33478
CATEGORIES:Baby,Parents,Toddler
ORGANIZER;CN="Busch Wildlife Sanctuary":MAILTO:marketingasst@buschwildlife.org
END:VEVENT
BEGIN:VEVENT
DTSTART;TZID=UTC:20260812T100000
DTEND;TZID=UTC:20260812T103000
DTSTAMP:20260423T004410
CREATED:20240619T165317Z
LAST-MODIFIED:20240619T165317Z
UID:10021895-1786528800-1786530600@thepbmoms.com
SUMMARY:Tiny Tales Storytime
DESCRIPTION:Join us for Toddler Storytime in our Educational Amphitheater\, every Wednesday at 10 a.m. A great family-friendly program where little ones of all ages can learn about wildlife! Listen to stories about gators and panthers\, and see some of our animal ambassadors up close.
URL:https://thepbmoms.com/event/tiny-tales-storytime/2026-08-12/
LOCATION:Busch Wildlife\, 17855 Rocky Pines Road\, Jupiter\, FL\, 33478
CATEGORIES:Baby,Parents,Toddler
ORGANIZER;CN="Busch Wildlife Sanctuary":MAILTO:marketingasst@buschwildlife.org
END:VEVENT
BEGIN:VEVENT
DTSTART;TZID=UTC:20260819T100000
DTEND;TZID=UTC:20260819T103000
DTSTAMP:20260423T004410
CREATED:20240619T165317Z
LAST-MODIFIED:20240619T165317Z
UID:10021896-1787133600-1787135400@thepbmoms.com
SUMMARY:Tiny Tales Storytime
DESCRIPTION:Join us for Toddler Storytime in our Educational Amphitheater\, every Wednesday at 10 a.m. A great family-friendly program where little ones of all ages can learn about wildlife! Listen to stories about gators and panthers\, and see some of our animal ambassadors up close.
URL:https://thepbmoms.com/event/tiny-tales-storytime/2026-08-19/
LOCATION:Busch Wildlife\, 17855 Rocky Pines Road\, Jupiter\, FL\, 33478
CATEGORIES:Baby,Parents,Toddler
ORGANIZER;CN="Busch Wildlife Sanctuary":MAILTO:marketingasst@buschwildlife.org
END:VEVENT
BEGIN:VEVENT
DTSTART;TZID=UTC:20260826T100000
DTEND;TZID=UTC:20260826T103000
DTSTAMP:20260423T004410
CREATED:20240619T165317Z
LAST-MODIFIED:20240619T165317Z
UID:10021897-1787738400-1787740200@thepbmoms.com
SUMMARY:Tiny Tales Storytime
DESCRIPTION:Join us for Toddler Storytime in our Educational Amphitheater\, every Wednesday at 10 a.m. A great family-friendly program where little ones of all ages can learn about wildlife! Listen to stories about gators and panthers\, and see some of our animal ambassadors up close.
URL:https://thepbmoms.com/event/tiny-tales-storytime/2026-08-26/
LOCATION:Busch Wildlife\, 17855 Rocky Pines Road\, Jupiter\, FL\, 33478
CATEGORIES:Baby,Parents,Toddler
ORGANIZER;CN="Busch Wildlife Sanctuary":MAILTO:marketingasst@buschwildlife.org
END:VEVENT
BEGIN:VEVENT
DTSTART;TZID=UTC:20260902T100000
DTEND;TZID=UTC:20260902T103000
DTSTAMP:20260423T004410
CREATED:20240619T165317Z
LAST-MODIFIED:20240619T165317Z
UID:10021898-1788343200-1788345000@thepbmoms.com
SUMMARY:Tiny Tales Storytime
DESCRIPTION:Join us for Toddler Storytime in our Educational Amphitheater\, every Wednesday at 10 a.m. A great family-friendly program where little ones of all ages can learn about wildlife! Listen to stories about gators and panthers\, and see some of our animal ambassadors up close.
URL:https://thepbmoms.com/event/tiny-tales-storytime/2026-09-02/
LOCATION:Busch Wildlife\, 17855 Rocky Pines Road\, Jupiter\, FL\, 33478
CATEGORIES:Baby,Parents,Toddler
ORGANIZER;CN="Busch Wildlife Sanctuary":MAILTO:marketingasst@buschwildlife.org
END:VEVENT
BEGIN:VEVENT
DTSTART;TZID=UTC:20260909T100000
DTEND;TZID=UTC:20260909T103000
DTSTAMP:20260423T004410
CREATED:20240619T165317Z
LAST-MODIFIED:20240619T165317Z
UID:10021899-1788948000-1788949800@thepbmoms.com
SUMMARY:Tiny Tales Storytime
DESCRIPTION:Join us for Toddler Storytime in our Educational Amphitheater\, every Wednesday at 10 a.m. A great family-friendly program where little ones of all ages can learn about wildlife! Listen to stories about gators and panthers\, and see some of our animal ambassadors up close.
URL:https://thepbmoms.com/event/tiny-tales-storytime/2026-09-09/
LOCATION:Busch Wildlife\, 17855 Rocky Pines Road\, Jupiter\, FL\, 33478
CATEGORIES:Baby,Parents,Toddler
ORGANIZER;CN="Busch Wildlife Sanctuary":MAILTO:marketingasst@buschwildlife.org
END:VEVENT
BEGIN:VEVENT
DTSTART;TZID=UTC:20260916T100000
DTEND;TZID=UTC:20260916T103000
DTSTAMP:20260423T004410
CREATED:20240619T165317Z
LAST-MODIFIED:20240619T165317Z
UID:10021900-1789552800-1789554600@thepbmoms.com
SUMMARY:Tiny Tales Storytime
DESCRIPTION:Join us for Toddler Storytime in our Educational Amphitheater\, every Wednesday at 10 a.m. A great family-friendly program where little ones of all ages can learn about wildlife! Listen to stories about gators and panthers\, and see some of our animal ambassadors up close.
URL:https://thepbmoms.com/event/tiny-tales-storytime/2026-09-16/
LOCATION:Busch Wildlife\, 17855 Rocky Pines Road\, Jupiter\, FL\, 33478
CATEGORIES:Baby,Parents,Toddler
ORGANIZER;CN="Busch Wildlife Sanctuary":MAILTO:marketingasst@buschwildlife.org
END:VEVENT
BEGIN:VEVENT
DTSTART;TZID=UTC:20260923T100000
DTEND;TZID=UTC:20260923T103000
DTSTAMP:20260423T004410
CREATED:20240619T165317Z
LAST-MODIFIED:20240619T165317Z
UID:10021901-1790157600-1790159400@thepbmoms.com
SUMMARY:Tiny Tales Storytime
DESCRIPTION:Join us for Toddler Storytime in our Educational Amphitheater\, every Wednesday at 10 a.m. A great family-friendly program where little ones of all ages can learn about wildlife! Listen to stories about gators and panthers\, and see some of our animal ambassadors up close.
URL:https://thepbmoms.com/event/tiny-tales-storytime/2026-09-23/
LOCATION:Busch Wildlife\, 17855 Rocky Pines Road\, Jupiter\, FL\, 33478
CATEGORIES:Baby,Parents,Toddler
ORGANIZER;CN="Busch Wildlife Sanctuary":MAILTO:marketingasst@buschwildlife.org
END:VEVENT
BEGIN:VEVENT
DTSTART;TZID=UTC:20260930T100000
DTEND;TZID=UTC:20260930T103000
DTSTAMP:20260423T004410
CREATED:20240619T165317Z
LAST-MODIFIED:20240619T165317Z
UID:10021902-1790762400-1790764200@thepbmoms.com
SUMMARY:Tiny Tales Storytime
DESCRIPTION:Join us for Toddler Storytime in our Educational Amphitheater\, every Wednesday at 10 a.m. A great family-friendly program where little ones of all ages can learn about wildlife! Listen to stories about gators and panthers\, and see some of our animal ambassadors up close.
URL:https://thepbmoms.com/event/tiny-tales-storytime/2026-09-30/
LOCATION:Busch Wildlife\, 17855 Rocky Pines Road\, Jupiter\, FL\, 33478
CATEGORIES:Baby,Parents,Toddler
ORGANIZER;CN="Busch Wildlife Sanctuary":MAILTO:marketingasst@buschwildlife.org
END:VEVENT
BEGIN:VEVENT
DTSTART;TZID=UTC:20261007T100000
DTEND;TZID=UTC:20261007T103000
DTSTAMP:20260423T004410
CREATED:20240619T165317Z
LAST-MODIFIED:20240619T165317Z
UID:10021903-1791367200-1791369000@thepbmoms.com
SUMMARY:Tiny Tales Storytime
DESCRIPTION:Join us for Toddler Storytime in our Educational Amphitheater\, every Wednesday at 10 a.m. A great family-friendly program where little ones of all ages can learn about wildlife! Listen to stories about gators and panthers\, and see some of our animal ambassadors up close.
URL:https://thepbmoms.com/event/tiny-tales-storytime/2026-10-07/
LOCATION:Busch Wildlife\, 17855 Rocky Pines Road\, Jupiter\, FL\, 33478
CATEGORIES:Baby,Parents,Toddler
ORGANIZER;CN="Busch Wildlife Sanctuary":MAILTO:marketingasst@buschwildlife.org
END:VEVENT
BEGIN:VEVENT
DTSTART;TZID=UTC:20261014T100000
DTEND;TZID=UTC:20261014T103000
DTSTAMP:20260423T004410
CREATED:20240619T165317Z
LAST-MODIFIED:20240619T165317Z
UID:10021904-1791972000-1791973800@thepbmoms.com
SUMMARY:Tiny Tales Storytime
DESCRIPTION:Join us for Toddler Storytime in our Educational Amphitheater\, every Wednesday at 10 a.m. A great family-friendly program where little ones of all ages can learn about wildlife! Listen to stories about gators and panthers\, and see some of our animal ambassadors up close.
URL:https://thepbmoms.com/event/tiny-tales-storytime/2026-10-14/
LOCATION:Busch Wildlife\, 17855 Rocky Pines Road\, Jupiter\, FL\, 33478
CATEGORIES:Baby,Parents,Toddler
ORGANIZER;CN="Busch Wildlife Sanctuary":MAILTO:marketingasst@buschwildlife.org
END:VEVENT
BEGIN:VEVENT
DTSTART;TZID=UTC:20261021T100000
DTEND;TZID=UTC:20261021T103000
DTSTAMP:20260423T004410
CREATED:20240619T165317Z
LAST-MODIFIED:20240619T165317Z
UID:10021905-1792576800-1792578600@thepbmoms.com
SUMMARY:Tiny Tales Storytime
DESCRIPTION:Join us for Toddler Storytime in our Educational Amphitheater\, every Wednesday at 10 a.m. A great family-friendly program where little ones of all ages can learn about wildlife! Listen to stories about gators and panthers\, and see some of our animal ambassadors up close.
URL:https://thepbmoms.com/event/tiny-tales-storytime/2026-10-21/
LOCATION:Busch Wildlife\, 17855 Rocky Pines Road\, Jupiter\, FL\, 33478
CATEGORIES:Baby,Parents,Toddler
ORGANIZER;CN="Busch Wildlife Sanctuary":MAILTO:marketingasst@buschwildlife.org
END:VEVENT
BEGIN:VEVENT
DTSTART;TZID=UTC:20261028T100000
DTEND;TZID=UTC:20261028T103000
DTSTAMP:20260423T004410
CREATED:20240619T165317Z
LAST-MODIFIED:20240619T165317Z
UID:10021906-1793181600-1793183400@thepbmoms.com
SUMMARY:Tiny Tales Storytime
DESCRIPTION:Join us for Toddler Storytime in our Educational Amphitheater\, every Wednesday at 10 a.m. A great family-friendly program where little ones of all ages can learn about wildlife! Listen to stories about gators and panthers\, and see some of our animal ambassadors up close.
URL:https://thepbmoms.com/event/tiny-tales-storytime/2026-10-28/
LOCATION:Busch Wildlife\, 17855 Rocky Pines Road\, Jupiter\, FL\, 33478
CATEGORIES:Baby,Parents,Toddler
ORGANIZER;CN="Busch Wildlife Sanctuary":MAILTO:marketingasst@buschwildlife.org
END:VEVENT
BEGIN:VEVENT
DTSTART;TZID=UTC:20261104T100000
DTEND;TZID=UTC:20261104T103000
DTSTAMP:20260423T004410
CREATED:20240619T165317Z
LAST-MODIFIED:20240619T165317Z
UID:10021907-1793786400-1793788200@thepbmoms.com
SUMMARY:Tiny Tales Storytime
DESCRIPTION:Join us for Toddler Storytime in our Educational Amphitheater\, every Wednesday at 10 a.m. A great family-friendly program where little ones of all ages can learn about wildlife! Listen to stories about gators and panthers\, and see some of our animal ambassadors up close.
URL:https://thepbmoms.com/event/tiny-tales-storytime/2026-11-04/
LOCATION:Busch Wildlife\, 17855 Rocky Pines Road\, Jupiter\, FL\, 33478
CATEGORIES:Baby,Parents,Toddler
ORGANIZER;CN="Busch Wildlife Sanctuary":MAILTO:marketingasst@buschwildlife.org
END:VEVENT
BEGIN:VEVENT
DTSTART;TZID=UTC:20261111T100000
DTEND;TZID=UTC:20261111T103000
DTSTAMP:20260423T004410
CREATED:20240619T165317Z
LAST-MODIFIED:20240619T165317Z
UID:10021908-1794391200-1794393000@thepbmoms.com
SUMMARY:Tiny Tales Storytime
DESCRIPTION:Join us for Toddler Storytime in our Educational Amphitheater\, every Wednesday at 10 a.m. A great family-friendly program where little ones of all ages can learn about wildlife! Listen to stories about gators and panthers\, and see some of our animal ambassadors up close.
URL:https://thepbmoms.com/event/tiny-tales-storytime/2026-11-11/
LOCATION:Busch Wildlife\, 17855 Rocky Pines Road\, Jupiter\, FL\, 33478
CATEGORIES:Baby,Parents,Toddler
ORGANIZER;CN="Busch Wildlife Sanctuary":MAILTO:marketingasst@buschwildlife.org
END:VEVENT
BEGIN:VEVENT
DTSTART;TZID=UTC:20261118T100000
DTEND;TZID=UTC:20261118T103000
DTSTAMP:20260423T004410
CREATED:20240619T165317Z
LAST-MODIFIED:20240619T165317Z
UID:10021909-1794996000-1794997800@thepbmoms.com
SUMMARY:Tiny Tales Storytime
DESCRIPTION:Join us for Toddler Storytime in our Educational Amphitheater\, every Wednesday at 10 a.m. A great family-friendly program where little ones of all ages can learn about wildlife! Listen to stories about gators and panthers\, and see some of our animal ambassadors up close.
URL:https://thepbmoms.com/event/tiny-tales-storytime/2026-11-18/
LOCATION:Busch Wildlife\, 17855 Rocky Pines Road\, Jupiter\, FL\, 33478
CATEGORIES:Baby,Parents,Toddler
ORGANIZER;CN="Busch Wildlife Sanctuary":MAILTO:marketingasst@buschwildlife.org
END:VEVENT
BEGIN:VEVENT
DTSTART;TZID=UTC:20261125T100000
DTEND;TZID=UTC:20261125T103000
DTSTAMP:20260423T004410
CREATED:20240619T165317Z
LAST-MODIFIED:20240619T165317Z
UID:10021910-1795600800-1795602600@thepbmoms.com
SUMMARY:Tiny Tales Storytime
DESCRIPTION:Join us for Toddler Storytime in our Educational Amphitheater\, every Wednesday at 10 a.m. A great family-friendly program where little ones of all ages can learn about wildlife! Listen to stories about gators and panthers\, and see some of our animal ambassadors up close.
URL:https://thepbmoms.com/event/tiny-tales-storytime/2026-11-25/
LOCATION:Busch Wildlife\, 17855 Rocky Pines Road\, Jupiter\, FL\, 33478
CATEGORIES:Baby,Parents,Toddler
ORGANIZER;CN="Busch Wildlife Sanctuary":MAILTO:marketingasst@buschwildlife.org
END:VEVENT
BEGIN:VEVENT
DTSTART;TZID=UTC:20261202T100000
DTEND;TZID=UTC:20261202T103000
DTSTAMP:20260423T004410
CREATED:20240619T165317Z
LAST-MODIFIED:20240619T165317Z
UID:10021911-1796205600-1796207400@thepbmoms.com
SUMMARY:Tiny Tales Storytime
DESCRIPTION:Join us for Toddler Storytime in our Educational Amphitheater\, every Wednesday at 10 a.m. A great family-friendly program where little ones of all ages can learn about wildlife! Listen to stories about gators and panthers\, and see some of our animal ambassadors up close.
URL:https://thepbmoms.com/event/tiny-tales-storytime/2026-12-02/
LOCATION:Busch Wildlife\, 17855 Rocky Pines Road\, Jupiter\, FL\, 33478
CATEGORIES:Baby,Parents,Toddler
ORGANIZER;CN="Busch Wildlife Sanctuary":MAILTO:marketingasst@buschwildlife.org
END:VEVENT
BEGIN:VEVENT
DTSTART;TZID=UTC:20261209T100000
DTEND;TZID=UTC:20261209T103000
DTSTAMP:20260423T004410
CREATED:20240619T165317Z
LAST-MODIFIED:20240619T165317Z
UID:10021912-1796810400-1796812200@thepbmoms.com
SUMMARY:Tiny Tales Storytime
DESCRIPTION:Join us for Toddler Storytime in our Educational Amphitheater\, every Wednesday at 10 a.m. A great family-friendly program where little ones of all ages can learn about wildlife! Listen to stories about gators and panthers\, and see some of our animal ambassadors up close.
URL:https://thepbmoms.com/event/tiny-tales-storytime/2026-12-09/
LOCATION:Busch Wildlife\, 17855 Rocky Pines Road\, Jupiter\, FL\, 33478
CATEGORIES:Baby,Parents,Toddler
ORGANIZER;CN="Busch Wildlife Sanctuary":MAILTO:marketingasst@buschwildlife.org
END:VEVENT
BEGIN:VEVENT
DTSTART;TZID=UTC:20261216T100000
DTEND;TZID=UTC:20261216T103000
DTSTAMP:20260423T004410
CREATED:20240619T165317Z
LAST-MODIFIED:20240619T165317Z
UID:10021913-1797415200-1797417000@thepbmoms.com
SUMMARY:Tiny Tales Storytime
DESCRIPTION:Join us for Toddler Storytime in our Educational Amphitheater\, every Wednesday at 10 a.m. A great family-friendly program where little ones of all ages can learn about wildlife! Listen to stories about gators and panthers\, and see some of our animal ambassadors up close.
URL:https://thepbmoms.com/event/tiny-tales-storytime/2026-12-16/
LOCATION:Busch Wildlife\, 17855 Rocky Pines Road\, Jupiter\, FL\, 33478
CATEGORIES:Baby,Parents,Toddler
ORGANIZER;CN="Busch Wildlife Sanctuary":MAILTO:marketingasst@buschwildlife.org
END:VEVENT
BEGIN:VEVENT
DTSTART;TZID=UTC:20261223T100000
DTEND;TZID=UTC:20261223T103000
DTSTAMP:20260423T004410
CREATED:20240619T165317Z
LAST-MODIFIED:20240619T165317Z
UID:10021914-1798020000-1798021800@thepbmoms.com
SUMMARY:Tiny Tales Storytime
DESCRIPTION:Join us for Toddler Storytime in our Educational Amphitheater\, every Wednesday at 10 a.m. A great family-friendly program where little ones of all ages can learn about wildlife! Listen to stories about gators and panthers\, and see some of our animal ambassadors up close.
URL:https://thepbmoms.com/event/tiny-tales-storytime/2026-12-23/
LOCATION:Busch Wildlife\, 17855 Rocky Pines Road\, Jupiter\, FL\, 33478
CATEGORIES:Baby,Parents,Toddler
ORGANIZER;CN="Busch Wildlife Sanctuary":MAILTO:marketingasst@buschwildlife.org
END:VEVENT
BEGIN:VEVENT
DTSTART;TZID=UTC:20261230T100000
DTEND;TZID=UTC:20261230T103000
DTSTAMP:20260423T004410
CREATED:20240619T165317Z
LAST-MODIFIED:20240619T165317Z
UID:10021915-1798624800-1798626600@thepbmoms.com
SUMMARY:Tiny Tales Storytime
DESCRIPTION:Join us for Toddler Storytime in our Educational Amphitheater\, every Wednesday at 10 a.m. A great family-friendly program where little ones of all ages can learn about wildlife! Listen to stories about gators and panthers\, and see some of our animal ambassadors up close.
URL:https://thepbmoms.com/event/tiny-tales-storytime/2026-12-30/
LOCATION:Busch Wildlife\, 17855 Rocky Pines Road\, Jupiter\, FL\, 33478
CATEGORIES:Baby,Parents,Toddler
ORGANIZER;CN="Busch Wildlife Sanctuary":MAILTO:marketingasst@buschwildlife.org
END:VEVENT
BEGIN:VEVENT
DTSTART;TZID=UTC:20270106T100000
DTEND;TZID=UTC:20270106T103000
DTSTAMP:20260423T004410
CREATED:20240619T165317Z
LAST-MODIFIED:20240619T165317Z
UID:10021916-1799229600-1799231400@thepbmoms.com
SUMMARY:Tiny Tales Storytime
DESCRIPTION:Join us for Toddler Storytime in our Educational Amphitheater\, every Wednesday at 10 a.m. A great family-friendly program where little ones of all ages can learn about wildlife! Listen to stories about gators and panthers\, and see some of our animal ambassadors up close.
URL:https://thepbmoms.com/event/tiny-tales-storytime/2027-01-06/
LOCATION:Busch Wildlife\, 17855 Rocky Pines Road\, Jupiter\, FL\, 33478
CATEGORIES:Baby,Parents,Toddler
ORGANIZER;CN="Busch Wildlife Sanctuary":MAILTO:marketingasst@buschwildlife.org
END:VEVENT
BEGIN:VEVENT
DTSTART;TZID=UTC:20270113T100000
DTEND;TZID=UTC:20270113T103000
DTSTAMP:20260423T004410
CREATED:20240619T165317Z
LAST-MODIFIED:20240619T165317Z
UID:10021917-1799834400-1799836200@thepbmoms.com
SUMMARY:Tiny Tales Storytime
DESCRIPTION:Join us for Toddler Storytime in our Educational Amphitheater\, every Wednesday at 10 a.m. A great family-friendly program where little ones of all ages can learn about wildlife! Listen to stories about gators and panthers\, and see some of our animal ambassadors up close.
URL:https://thepbmoms.com/event/tiny-tales-storytime/2027-01-13/
LOCATION:Busch Wildlife\, 17855 Rocky Pines Road\, Jupiter\, FL\, 33478
CATEGORIES:Baby,Parents,Toddler
ORGANIZER;CN="Busch Wildlife Sanctuary":MAILTO:marketingasst@buschwildlife.org
END:VEVENT
END:VCALENDAR