BEGIN:VCALENDAR
VERSION:2.0
PRODID:-//Palm Beach Moms - ECPv6.15.20//NONSGML v1.0//EN
CALSCALE:GREGORIAN
METHOD:PUBLISH
X-WR-CALNAME:Palm Beach Moms
X-ORIGINAL-URL:https://thepbmoms.com
X-WR-CALDESC:Events for Palm Beach Moms
REFRESH-INTERVAL;VALUE=DURATION:PT1H
X-Robots-Tag:noindex
X-PUBLISHED-TTL:PT1H
BEGIN:VTIMEZONE
TZID:UTC
BEGIN:STANDARD
TZOFFSETFROM:+0000
TZOFFSETTO:+0000
TZNAME:UTC
DTSTART:20270101T000000
END:STANDARD
END:VTIMEZONE
BEGIN:VEVENT
DTSTART;TZID=UTC:20280115T120000
DTEND;TZID=UTC:20280115T123000
DTSTAMP:20260422T011207
CREATED:20230607T022832Z
LAST-MODIFIED:20230607T022832Z
UID:10005297-1831550400-1831552200@thepbmoms.com
SUMMARY:Storytime at Barnes and Noble
DESCRIPTION:Children’s Storytime is back!  We are excited to see everyone once again in our Children’s Department for Saturday morning storytime\, every Saturday at 11am.  Come join us!
URL:https://thepbmoms.com/event/storytime-at-barnes-and-noble-2/2028-01-15/
LOCATION:Barnes and Noble Boca Raton\, 1400 Glades Rd.\, Boca Raton\, FL\, 33431
CATEGORIES:Baby,Free
END:VEVENT
BEGIN:VEVENT
DTSTART;TZID=UTC:20280119T100000
DTEND;TZID=UTC:20280119T103000
DTSTAMP:20260422T011207
CREATED:20240619T165317Z
LAST-MODIFIED:20240619T165317Z
UID:10021970-1831888800-1831890600@thepbmoms.com
SUMMARY:Tiny Tales Storytime
DESCRIPTION:Join us for Toddler Storytime in our Educational Amphitheater\, every Wednesday at 10 a.m. A great family-friendly program where little ones of all ages can learn about wildlife! Listen to stories about gators and panthers\, and see some of our animal ambassadors up close.
URL:https://thepbmoms.com/event/tiny-tales-storytime/2028-01-19/
LOCATION:Busch Wildlife\, 17855 Rocky Pines Road\, Jupiter\, FL\, 33478
CATEGORIES:Baby,Parents,Toddler
ORGANIZER;CN="Busch Wildlife Sanctuary":MAILTO:marketingasst@buschwildlife.org
END:VEVENT
BEGIN:VEVENT
DTSTART;TZID=UTC:20280122T110000
DTEND;TZID=UTC:20280122T113000
DTSTAMP:20260422T011207
CREATED:20230607T022553Z
LAST-MODIFIED:20230607T022553Z
UID:10005037-1832151600-1832153400@thepbmoms.com
SUMMARY:Storytime at Barnes and Noble
DESCRIPTION:Children’s Storytime is back!  We are excited to see everyone once again in our Children’s Department for Saturday morning storytime\, every Saturday at 11am.  Come join us!
URL:https://thepbmoms.com/event/storytime-at-barnes-and-noble/2028-01-22/
LOCATION:Barnes and Noble\, Palm Beach Gardens\, FL\, 33410
CATEGORIES:Baby,Free
END:VEVENT
BEGIN:VEVENT
DTSTART;TZID=UTC:20280122T120000
DTEND;TZID=UTC:20280122T123000
DTSTAMP:20260422T011207
CREATED:20230607T022832Z
LAST-MODIFIED:20230607T022832Z
UID:10005298-1832155200-1832157000@thepbmoms.com
SUMMARY:Storytime at Barnes and Noble
DESCRIPTION:Children’s Storytime is back!  We are excited to see everyone once again in our Children’s Department for Saturday morning storytime\, every Saturday at 11am.  Come join us!
URL:https://thepbmoms.com/event/storytime-at-barnes-and-noble-2/2028-01-22/
LOCATION:Barnes and Noble Boca Raton\, 1400 Glades Rd.\, Boca Raton\, FL\, 33431
CATEGORIES:Baby,Free
END:VEVENT
BEGIN:VEVENT
DTSTART;TZID=UTC:20280126T100000
DTEND;TZID=UTC:20280126T103000
DTSTAMP:20260422T011207
CREATED:20240619T165317Z
LAST-MODIFIED:20240619T165317Z
UID:10021971-1832493600-1832495400@thepbmoms.com
SUMMARY:Tiny Tales Storytime
DESCRIPTION:Join us for Toddler Storytime in our Educational Amphitheater\, every Wednesday at 10 a.m. A great family-friendly program where little ones of all ages can learn about wildlife! Listen to stories about gators and panthers\, and see some of our animal ambassadors up close.
URL:https://thepbmoms.com/event/tiny-tales-storytime/2028-01-26/
LOCATION:Busch Wildlife\, 17855 Rocky Pines Road\, Jupiter\, FL\, 33478
CATEGORIES:Baby,Parents,Toddler
ORGANIZER;CN="Busch Wildlife Sanctuary":MAILTO:marketingasst@buschwildlife.org
END:VEVENT
BEGIN:VEVENT
DTSTART;TZID=UTC:20280129T110000
DTEND;TZID=UTC:20280129T113000
DTSTAMP:20260422T011207
CREATED:20230607T022553Z
LAST-MODIFIED:20230607T022553Z
UID:10005038-1832756400-1832758200@thepbmoms.com
SUMMARY:Storytime at Barnes and Noble
DESCRIPTION:Children’s Storytime is back!  We are excited to see everyone once again in our Children’s Department for Saturday morning storytime\, every Saturday at 11am.  Come join us!
URL:https://thepbmoms.com/event/storytime-at-barnes-and-noble/2028-01-29/
LOCATION:Barnes and Noble\, Palm Beach Gardens\, FL\, 33410
CATEGORIES:Baby,Free
END:VEVENT
BEGIN:VEVENT
DTSTART;TZID=UTC:20280129T120000
DTEND;TZID=UTC:20280129T123000
DTSTAMP:20260422T011208
CREATED:20230607T022832Z
LAST-MODIFIED:20230607T022832Z
UID:10005299-1832760000-1832761800@thepbmoms.com
SUMMARY:Storytime at Barnes and Noble
DESCRIPTION:Children’s Storytime is back!  We are excited to see everyone once again in our Children’s Department for Saturday morning storytime\, every Saturday at 11am.  Come join us!
URL:https://thepbmoms.com/event/storytime-at-barnes-and-noble-2/2028-01-29/
LOCATION:Barnes and Noble Boca Raton\, 1400 Glades Rd.\, Boca Raton\, FL\, 33431
CATEGORIES:Baby,Free
END:VEVENT
BEGIN:VEVENT
DTSTART;TZID=UTC:20280202T100000
DTEND;TZID=UTC:20280202T103000
DTSTAMP:20260422T011208
CREATED:20240619T165317Z
LAST-MODIFIED:20240619T165317Z
UID:10021972-1833098400-1833100200@thepbmoms.com
SUMMARY:Tiny Tales Storytime
DESCRIPTION:Join us for Toddler Storytime in our Educational Amphitheater\, every Wednesday at 10 a.m. A great family-friendly program where little ones of all ages can learn about wildlife! Listen to stories about gators and panthers\, and see some of our animal ambassadors up close.
URL:https://thepbmoms.com/event/tiny-tales-storytime/2028-02-02/
LOCATION:Busch Wildlife\, 17855 Rocky Pines Road\, Jupiter\, FL\, 33478
CATEGORIES:Baby,Parents,Toddler
ORGANIZER;CN="Busch Wildlife Sanctuary":MAILTO:marketingasst@buschwildlife.org
END:VEVENT
BEGIN:VEVENT
DTSTART;TZID=UTC:20280205T110000
DTEND;TZID=UTC:20280205T113000
DTSTAMP:20260422T011208
CREATED:20230607T022553Z
LAST-MODIFIED:20230607T022553Z
UID:10005039-1833361200-1833363000@thepbmoms.com
SUMMARY:Storytime at Barnes and Noble
DESCRIPTION:Children’s Storytime is back!  We are excited to see everyone once again in our Children’s Department for Saturday morning storytime\, every Saturday at 11am.  Come join us!
URL:https://thepbmoms.com/event/storytime-at-barnes-and-noble/2028-02-05/
LOCATION:Barnes and Noble\, Palm Beach Gardens\, FL\, 33410
CATEGORIES:Baby,Free
END:VEVENT
BEGIN:VEVENT
DTSTART;TZID=UTC:20280205T120000
DTEND;TZID=UTC:20280205T123000
DTSTAMP:20260422T011208
CREATED:20230607T022832Z
LAST-MODIFIED:20230607T022832Z
UID:10005300-1833364800-1833366600@thepbmoms.com
SUMMARY:Storytime at Barnes and Noble
DESCRIPTION:Children’s Storytime is back!  We are excited to see everyone once again in our Children’s Department for Saturday morning storytime\, every Saturday at 11am.  Come join us!
URL:https://thepbmoms.com/event/storytime-at-barnes-and-noble-2/2028-02-05/
LOCATION:Barnes and Noble Boca Raton\, 1400 Glades Rd.\, Boca Raton\, FL\, 33431
CATEGORIES:Baby,Free
END:VEVENT
BEGIN:VEVENT
DTSTART;TZID=UTC:20280209T100000
DTEND;TZID=UTC:20280209T103000
DTSTAMP:20260422T011208
CREATED:20240619T165317Z
LAST-MODIFIED:20240619T165317Z
UID:10021973-1833703200-1833705000@thepbmoms.com
SUMMARY:Tiny Tales Storytime
DESCRIPTION:Join us for Toddler Storytime in our Educational Amphitheater\, every Wednesday at 10 a.m. A great family-friendly program where little ones of all ages can learn about wildlife! Listen to stories about gators and panthers\, and see some of our animal ambassadors up close.
URL:https://thepbmoms.com/event/tiny-tales-storytime/2028-02-09/
LOCATION:Busch Wildlife\, 17855 Rocky Pines Road\, Jupiter\, FL\, 33478
CATEGORIES:Baby,Parents,Toddler
ORGANIZER;CN="Busch Wildlife Sanctuary":MAILTO:marketingasst@buschwildlife.org
END:VEVENT
BEGIN:VEVENT
DTSTART;TZID=UTC:20280212T110000
DTEND;TZID=UTC:20280212T113000
DTSTAMP:20260422T011208
CREATED:20230607T022553Z
LAST-MODIFIED:20230607T022553Z
UID:10005040-1833966000-1833967800@thepbmoms.com
SUMMARY:Storytime at Barnes and Noble
DESCRIPTION:Children’s Storytime is back!  We are excited to see everyone once again in our Children’s Department for Saturday morning storytime\, every Saturday at 11am.  Come join us!
URL:https://thepbmoms.com/event/storytime-at-barnes-and-noble/2028-02-12/
LOCATION:Barnes and Noble\, Palm Beach Gardens\, FL\, 33410
CATEGORIES:Baby,Free
END:VEVENT
BEGIN:VEVENT
DTSTART;TZID=UTC:20280212T120000
DTEND;TZID=UTC:20280212T123000
DTSTAMP:20260422T011208
CREATED:20230607T022832Z
LAST-MODIFIED:20230607T022832Z
UID:10005301-1833969600-1833971400@thepbmoms.com
SUMMARY:Storytime at Barnes and Noble
DESCRIPTION:Children’s Storytime is back!  We are excited to see everyone once again in our Children’s Department for Saturday morning storytime\, every Saturday at 11am.  Come join us!
URL:https://thepbmoms.com/event/storytime-at-barnes-and-noble-2/2028-02-12/
LOCATION:Barnes and Noble Boca Raton\, 1400 Glades Rd.\, Boca Raton\, FL\, 33431
CATEGORIES:Baby,Free
END:VEVENT
BEGIN:VEVENT
DTSTART;TZID=UTC:20280216T100000
DTEND;TZID=UTC:20280216T103000
DTSTAMP:20260422T011208
CREATED:20240619T165317Z
LAST-MODIFIED:20240619T165317Z
UID:10021974-1834308000-1834309800@thepbmoms.com
SUMMARY:Tiny Tales Storytime
DESCRIPTION:Join us for Toddler Storytime in our Educational Amphitheater\, every Wednesday at 10 a.m. A great family-friendly program where little ones of all ages can learn about wildlife! Listen to stories about gators and panthers\, and see some of our animal ambassadors up close.
URL:https://thepbmoms.com/event/tiny-tales-storytime/2028-02-16/
LOCATION:Busch Wildlife\, 17855 Rocky Pines Road\, Jupiter\, FL\, 33478
CATEGORIES:Baby,Parents,Toddler
ORGANIZER;CN="Busch Wildlife Sanctuary":MAILTO:marketingasst@buschwildlife.org
END:VEVENT
BEGIN:VEVENT
DTSTART;TZID=UTC:20280219T110000
DTEND;TZID=UTC:20280219T113000
DTSTAMP:20260422T011208
CREATED:20230607T022553Z
LAST-MODIFIED:20230607T022553Z
UID:10005041-1834570800-1834572600@thepbmoms.com
SUMMARY:Storytime at Barnes and Noble
DESCRIPTION:Children’s Storytime is back!  We are excited to see everyone once again in our Children’s Department for Saturday morning storytime\, every Saturday at 11am.  Come join us!
URL:https://thepbmoms.com/event/storytime-at-barnes-and-noble/2028-02-19/
LOCATION:Barnes and Noble\, Palm Beach Gardens\, FL\, 33410
CATEGORIES:Baby,Free
END:VEVENT
BEGIN:VEVENT
DTSTART;TZID=UTC:20280219T120000
DTEND;TZID=UTC:20280219T123000
DTSTAMP:20260422T011208
CREATED:20230607T022832Z
LAST-MODIFIED:20230607T022832Z
UID:10005302-1834574400-1834576200@thepbmoms.com
SUMMARY:Storytime at Barnes and Noble
DESCRIPTION:Children’s Storytime is back!  We are excited to see everyone once again in our Children’s Department for Saturday morning storytime\, every Saturday at 11am.  Come join us!
URL:https://thepbmoms.com/event/storytime-at-barnes-and-noble-2/2028-02-19/
LOCATION:Barnes and Noble Boca Raton\, 1400 Glades Rd.\, Boca Raton\, FL\, 33431
CATEGORIES:Baby,Free
END:VEVENT
BEGIN:VEVENT
DTSTART;TZID=UTC:20280223T100000
DTEND;TZID=UTC:20280223T103000
DTSTAMP:20260422T011208
CREATED:20240619T165317Z
LAST-MODIFIED:20240619T165317Z
UID:10021975-1834912800-1834914600@thepbmoms.com
SUMMARY:Tiny Tales Storytime
DESCRIPTION:Join us for Toddler Storytime in our Educational Amphitheater\, every Wednesday at 10 a.m. A great family-friendly program where little ones of all ages can learn about wildlife! Listen to stories about gators and panthers\, and see some of our animal ambassadors up close.
URL:https://thepbmoms.com/event/tiny-tales-storytime/2028-02-23/
LOCATION:Busch Wildlife\, 17855 Rocky Pines Road\, Jupiter\, FL\, 33478
CATEGORIES:Baby,Parents,Toddler
ORGANIZER;CN="Busch Wildlife Sanctuary":MAILTO:marketingasst@buschwildlife.org
END:VEVENT
BEGIN:VEVENT
DTSTART;TZID=UTC:20280226T110000
DTEND;TZID=UTC:20280226T113000
DTSTAMP:20260422T011208
CREATED:20230607T022553Z
LAST-MODIFIED:20230607T022553Z
UID:10005042-1835175600-1835177400@thepbmoms.com
SUMMARY:Storytime at Barnes and Noble
DESCRIPTION:Children’s Storytime is back!  We are excited to see everyone once again in our Children’s Department for Saturday morning storytime\, every Saturday at 11am.  Come join us!
URL:https://thepbmoms.com/event/storytime-at-barnes-and-noble/2028-02-26/
LOCATION:Barnes and Noble\, Palm Beach Gardens\, FL\, 33410
CATEGORIES:Baby,Free
END:VEVENT
BEGIN:VEVENT
DTSTART;TZID=UTC:20280226T120000
DTEND;TZID=UTC:20280226T123000
DTSTAMP:20260422T011208
CREATED:20230607T022832Z
LAST-MODIFIED:20230607T022832Z
UID:10005303-1835179200-1835181000@thepbmoms.com
SUMMARY:Storytime at Barnes and Noble
DESCRIPTION:Children’s Storytime is back!  We are excited to see everyone once again in our Children’s Department for Saturday morning storytime\, every Saturday at 11am.  Come join us!
URL:https://thepbmoms.com/event/storytime-at-barnes-and-noble-2/2028-02-26/
LOCATION:Barnes and Noble Boca Raton\, 1400 Glades Rd.\, Boca Raton\, FL\, 33431
CATEGORIES:Baby,Free
END:VEVENT
BEGIN:VEVENT
DTSTART;TZID=UTC:20280301T100000
DTEND;TZID=UTC:20280301T103000
DTSTAMP:20260422T011208
CREATED:20240619T165317Z
LAST-MODIFIED:20240619T165317Z
UID:10021976-1835517600-1835519400@thepbmoms.com
SUMMARY:Tiny Tales Storytime
DESCRIPTION:Join us for Toddler Storytime in our Educational Amphitheater\, every Wednesday at 10 a.m. A great family-friendly program where little ones of all ages can learn about wildlife! Listen to stories about gators and panthers\, and see some of our animal ambassadors up close.
URL:https://thepbmoms.com/event/tiny-tales-storytime/2028-03-01/
LOCATION:Busch Wildlife\, 17855 Rocky Pines Road\, Jupiter\, FL\, 33478
CATEGORIES:Baby,Parents,Toddler
ORGANIZER;CN="Busch Wildlife Sanctuary":MAILTO:marketingasst@buschwildlife.org
END:VEVENT
BEGIN:VEVENT
DTSTART;TZID=UTC:20280304T110000
DTEND;TZID=UTC:20280304T113000
DTSTAMP:20260422T011208
CREATED:20230607T022553Z
LAST-MODIFIED:20230607T022553Z
UID:10005043-1835780400-1835782200@thepbmoms.com
SUMMARY:Storytime at Barnes and Noble
DESCRIPTION:Children’s Storytime is back!  We are excited to see everyone once again in our Children’s Department for Saturday morning storytime\, every Saturday at 11am.  Come join us!
URL:https://thepbmoms.com/event/storytime-at-barnes-and-noble/2028-03-04/
LOCATION:Barnes and Noble\, Palm Beach Gardens\, FL\, 33410
CATEGORIES:Baby,Free
END:VEVENT
BEGIN:VEVENT
DTSTART;TZID=UTC:20280304T120000
DTEND;TZID=UTC:20280304T123000
DTSTAMP:20260422T011208
CREATED:20230607T022832Z
LAST-MODIFIED:20230607T022832Z
UID:10005304-1835784000-1835785800@thepbmoms.com
SUMMARY:Storytime at Barnes and Noble
DESCRIPTION:Children’s Storytime is back!  We are excited to see everyone once again in our Children’s Department for Saturday morning storytime\, every Saturday at 11am.  Come join us!
URL:https://thepbmoms.com/event/storytime-at-barnes-and-noble-2/2028-03-04/
LOCATION:Barnes and Noble Boca Raton\, 1400 Glades Rd.\, Boca Raton\, FL\, 33431
CATEGORIES:Baby,Free
END:VEVENT
BEGIN:VEVENT
DTSTART;TZID=UTC:20280308T100000
DTEND;TZID=UTC:20280308T103000
DTSTAMP:20260422T011208
CREATED:20240619T165317Z
LAST-MODIFIED:20240619T165317Z
UID:10021977-1836122400-1836124200@thepbmoms.com
SUMMARY:Tiny Tales Storytime
DESCRIPTION:Join us for Toddler Storytime in our Educational Amphitheater\, every Wednesday at 10 a.m. A great family-friendly program where little ones of all ages can learn about wildlife! Listen to stories about gators and panthers\, and see some of our animal ambassadors up close.
URL:https://thepbmoms.com/event/tiny-tales-storytime/2028-03-08/
LOCATION:Busch Wildlife\, 17855 Rocky Pines Road\, Jupiter\, FL\, 33478
CATEGORIES:Baby,Parents,Toddler
ORGANIZER;CN="Busch Wildlife Sanctuary":MAILTO:marketingasst@buschwildlife.org
END:VEVENT
BEGIN:VEVENT
DTSTART;TZID=UTC:20280311T110000
DTEND;TZID=UTC:20280311T113000
DTSTAMP:20260422T011208
CREATED:20230607T022553Z
LAST-MODIFIED:20230607T022553Z
UID:10005044-1836385200-1836387000@thepbmoms.com
SUMMARY:Storytime at Barnes and Noble
DESCRIPTION:Children’s Storytime is back!  We are excited to see everyone once again in our Children’s Department for Saturday morning storytime\, every Saturday at 11am.  Come join us!
URL:https://thepbmoms.com/event/storytime-at-barnes-and-noble/2028-03-11/
LOCATION:Barnes and Noble\, Palm Beach Gardens\, FL\, 33410
CATEGORIES:Baby,Free
END:VEVENT
BEGIN:VEVENT
DTSTART;TZID=UTC:20280311T120000
DTEND;TZID=UTC:20280311T123000
DTSTAMP:20260422T011208
CREATED:20230607T022832Z
LAST-MODIFIED:20230607T022832Z
UID:10005305-1836388800-1836390600@thepbmoms.com
SUMMARY:Storytime at Barnes and Noble
DESCRIPTION:Children’s Storytime is back!  We are excited to see everyone once again in our Children’s Department for Saturday morning storytime\, every Saturday at 11am.  Come join us!
URL:https://thepbmoms.com/event/storytime-at-barnes-and-noble-2/2028-03-11/
LOCATION:Barnes and Noble Boca Raton\, 1400 Glades Rd.\, Boca Raton\, FL\, 33431
CATEGORIES:Baby,Free
END:VEVENT
BEGIN:VEVENT
DTSTART;TZID=UTC:20280315T100000
DTEND;TZID=UTC:20280315T103000
DTSTAMP:20260422T011208
CREATED:20240619T165317Z
LAST-MODIFIED:20240619T165317Z
UID:10021978-1836727200-1836729000@thepbmoms.com
SUMMARY:Tiny Tales Storytime
DESCRIPTION:Join us for Toddler Storytime in our Educational Amphitheater\, every Wednesday at 10 a.m. A great family-friendly program where little ones of all ages can learn about wildlife! Listen to stories about gators and panthers\, and see some of our animal ambassadors up close.
URL:https://thepbmoms.com/event/tiny-tales-storytime/2028-03-15/
LOCATION:Busch Wildlife\, 17855 Rocky Pines Road\, Jupiter\, FL\, 33478
CATEGORIES:Baby,Parents,Toddler
ORGANIZER;CN="Busch Wildlife Sanctuary":MAILTO:marketingasst@buschwildlife.org
END:VEVENT
BEGIN:VEVENT
DTSTART;TZID=UTC:20280318T110000
DTEND;TZID=UTC:20280318T113000
DTSTAMP:20260422T011208
CREATED:20230607T022553Z
LAST-MODIFIED:20230607T022553Z
UID:10005045-1836990000-1836991800@thepbmoms.com
SUMMARY:Storytime at Barnes and Noble
DESCRIPTION:Children’s Storytime is back!  We are excited to see everyone once again in our Children’s Department for Saturday morning storytime\, every Saturday at 11am.  Come join us!
URL:https://thepbmoms.com/event/storytime-at-barnes-and-noble/2028-03-18/
LOCATION:Barnes and Noble\, Palm Beach Gardens\, FL\, 33410
CATEGORIES:Baby,Free
END:VEVENT
BEGIN:VEVENT
DTSTART;TZID=UTC:20280318T120000
DTEND;TZID=UTC:20280318T123000
DTSTAMP:20260422T011208
CREATED:20230607T022832Z
LAST-MODIFIED:20230607T022832Z
UID:10005306-1836993600-1836995400@thepbmoms.com
SUMMARY:Storytime at Barnes and Noble
DESCRIPTION:Children’s Storytime is back!  We are excited to see everyone once again in our Children’s Department for Saturday morning storytime\, every Saturday at 11am.  Come join us!
URL:https://thepbmoms.com/event/storytime-at-barnes-and-noble-2/2028-03-18/
LOCATION:Barnes and Noble Boca Raton\, 1400 Glades Rd.\, Boca Raton\, FL\, 33431
CATEGORIES:Baby,Free
END:VEVENT
BEGIN:VEVENT
DTSTART;TZID=UTC:20280322T100000
DTEND;TZID=UTC:20280322T103000
DTSTAMP:20260422T011208
CREATED:20240619T165317Z
LAST-MODIFIED:20240619T165317Z
UID:10021979-1837332000-1837333800@thepbmoms.com
SUMMARY:Tiny Tales Storytime
DESCRIPTION:Join us for Toddler Storytime in our Educational Amphitheater\, every Wednesday at 10 a.m. A great family-friendly program where little ones of all ages can learn about wildlife! Listen to stories about gators and panthers\, and see some of our animal ambassadors up close.
URL:https://thepbmoms.com/event/tiny-tales-storytime/2028-03-22/
LOCATION:Busch Wildlife\, 17855 Rocky Pines Road\, Jupiter\, FL\, 33478
CATEGORIES:Baby,Parents,Toddler
ORGANIZER;CN="Busch Wildlife Sanctuary":MAILTO:marketingasst@buschwildlife.org
END:VEVENT
BEGIN:VEVENT
DTSTART;TZID=UTC:20280325T110000
DTEND;TZID=UTC:20280325T113000
DTSTAMP:20260422T011208
CREATED:20230607T022553Z
LAST-MODIFIED:20230607T022553Z
UID:10005046-1837594800-1837596600@thepbmoms.com
SUMMARY:Storytime at Barnes and Noble
DESCRIPTION:Children’s Storytime is back!  We are excited to see everyone once again in our Children’s Department for Saturday morning storytime\, every Saturday at 11am.  Come join us!
URL:https://thepbmoms.com/event/storytime-at-barnes-and-noble/2028-03-25/
LOCATION:Barnes and Noble\, Palm Beach Gardens\, FL\, 33410
CATEGORIES:Baby,Free
END:VEVENT
END:VCALENDAR