BEGIN:VCALENDAR
VERSION:2.0
PRODID:-//Palm Beach Moms - ECPv6.15.20//NONSGML v1.0//EN
CALSCALE:GREGORIAN
METHOD:PUBLISH
X-WR-CALNAME:Palm Beach Moms
X-ORIGINAL-URL:https://thepbmoms.com
X-WR-CALDESC:Events for Palm Beach Moms
REFRESH-INTERVAL;VALUE=DURATION:PT1H
X-Robots-Tag:noindex
X-PUBLISHED-TTL:PT1H
BEGIN:VTIMEZONE
TZID:UTC
BEGIN:STANDARD
TZOFFSETFROM:+0000
TZOFFSETTO:+0000
TZNAME:UTC
DTSTART:20260101T000000
END:STANDARD
END:VTIMEZONE
BEGIN:VEVENT
DTSTART;TZID=UTC:20271120T120000
DTEND;TZID=UTC:20271120T123000
DTSTAMP:20260421T233153
CREATED:20230607T022832Z
LAST-MODIFIED:20230607T022832Z
UID:10005289-1826712000-1826713800@thepbmoms.com
SUMMARY:Storytime at Barnes and Noble
DESCRIPTION:Children’s Storytime is back!  We are excited to see everyone once again in our Children’s Department for Saturday morning storytime\, every Saturday at 11am.  Come join us!
URL:https://thepbmoms.com/event/storytime-at-barnes-and-noble-2/2027-11-20/
LOCATION:Barnes and Noble Boca Raton\, 1400 Glades Rd.\, Boca Raton\, FL\, 33431
CATEGORIES:Baby,Free
END:VEVENT
BEGIN:VEVENT
DTSTART;TZID=UTC:20271124T100000
DTEND;TZID=UTC:20271124T103000
DTSTAMP:20260421T233153
CREATED:20240619T165317Z
LAST-MODIFIED:20240619T165317Z
UID:10021962-1827050400-1827052200@thepbmoms.com
SUMMARY:Tiny Tales Storytime
DESCRIPTION:Join us for Toddler Storytime in our Educational Amphitheater\, every Wednesday at 10 a.m. A great family-friendly program where little ones of all ages can learn about wildlife! Listen to stories about gators and panthers\, and see some of our animal ambassadors up close.
URL:https://thepbmoms.com/event/tiny-tales-storytime/2027-11-24/
LOCATION:Busch Wildlife\, 17855 Rocky Pines Road\, Jupiter\, FL\, 33478
CATEGORIES:Baby,Parents,Toddler
ORGANIZER;CN="Busch Wildlife Sanctuary":MAILTO:marketingasst@buschwildlife.org
END:VEVENT
BEGIN:VEVENT
DTSTART;TZID=UTC:20271127T110000
DTEND;TZID=UTC:20271127T113000
DTSTAMP:20260421T233153
CREATED:20230607T022553Z
LAST-MODIFIED:20230607T022553Z
UID:10005029-1827313200-1827315000@thepbmoms.com
SUMMARY:Storytime at Barnes and Noble
DESCRIPTION:Children’s Storytime is back!  We are excited to see everyone once again in our Children’s Department for Saturday morning storytime\, every Saturday at 11am.  Come join us!
URL:https://thepbmoms.com/event/storytime-at-barnes-and-noble/2027-11-27/
LOCATION:Barnes and Noble\, Palm Beach Gardens\, FL\, 33410
CATEGORIES:Baby,Free
END:VEVENT
BEGIN:VEVENT
DTSTART;TZID=UTC:20271127T120000
DTEND;TZID=UTC:20271127T123000
DTSTAMP:20260421T233153
CREATED:20230607T022832Z
LAST-MODIFIED:20230607T022832Z
UID:10005290-1827316800-1827318600@thepbmoms.com
SUMMARY:Storytime at Barnes and Noble
DESCRIPTION:Children’s Storytime is back!  We are excited to see everyone once again in our Children’s Department for Saturday morning storytime\, every Saturday at 11am.  Come join us!
URL:https://thepbmoms.com/event/storytime-at-barnes-and-noble-2/2027-11-27/
LOCATION:Barnes and Noble Boca Raton\, 1400 Glades Rd.\, Boca Raton\, FL\, 33431
CATEGORIES:Baby,Free
END:VEVENT
BEGIN:VEVENT
DTSTART;TZID=UTC:20271201T100000
DTEND;TZID=UTC:20271201T103000
DTSTAMP:20260421T233153
CREATED:20240619T165317Z
LAST-MODIFIED:20240619T165317Z
UID:10021963-1827655200-1827657000@thepbmoms.com
SUMMARY:Tiny Tales Storytime
DESCRIPTION:Join us for Toddler Storytime in our Educational Amphitheater\, every Wednesday at 10 a.m. A great family-friendly program where little ones of all ages can learn about wildlife! Listen to stories about gators and panthers\, and see some of our animal ambassadors up close.
URL:https://thepbmoms.com/event/tiny-tales-storytime/2027-12-01/
LOCATION:Busch Wildlife\, 17855 Rocky Pines Road\, Jupiter\, FL\, 33478
CATEGORIES:Baby,Parents,Toddler
ORGANIZER;CN="Busch Wildlife Sanctuary":MAILTO:marketingasst@buschwildlife.org
END:VEVENT
BEGIN:VEVENT
DTSTART;TZID=UTC:20271204T110000
DTEND;TZID=UTC:20271204T113000
DTSTAMP:20260421T233153
CREATED:20230607T022553Z
LAST-MODIFIED:20230607T022553Z
UID:10005030-1827918000-1827919800@thepbmoms.com
SUMMARY:Storytime at Barnes and Noble
DESCRIPTION:Children’s Storytime is back!  We are excited to see everyone once again in our Children’s Department for Saturday morning storytime\, every Saturday at 11am.  Come join us!
URL:https://thepbmoms.com/event/storytime-at-barnes-and-noble/2027-12-04/
LOCATION:Barnes and Noble\, Palm Beach Gardens\, FL\, 33410
CATEGORIES:Baby,Free
END:VEVENT
BEGIN:VEVENT
DTSTART;TZID=UTC:20271204T120000
DTEND;TZID=UTC:20271204T123000
DTSTAMP:20260421T233153
CREATED:20230607T022832Z
LAST-MODIFIED:20230607T022832Z
UID:10005291-1827921600-1827923400@thepbmoms.com
SUMMARY:Storytime at Barnes and Noble
DESCRIPTION:Children’s Storytime is back!  We are excited to see everyone once again in our Children’s Department for Saturday morning storytime\, every Saturday at 11am.  Come join us!
URL:https://thepbmoms.com/event/storytime-at-barnes-and-noble-2/2027-12-04/
LOCATION:Barnes and Noble Boca Raton\, 1400 Glades Rd.\, Boca Raton\, FL\, 33431
CATEGORIES:Baby,Free
END:VEVENT
BEGIN:VEVENT
DTSTART;TZID=UTC:20271208T100000
DTEND;TZID=UTC:20271208T103000
DTSTAMP:20260421T233153
CREATED:20240619T165317Z
LAST-MODIFIED:20240619T165317Z
UID:10021964-1828260000-1828261800@thepbmoms.com
SUMMARY:Tiny Tales Storytime
DESCRIPTION:Join us for Toddler Storytime in our Educational Amphitheater\, every Wednesday at 10 a.m. A great family-friendly program where little ones of all ages can learn about wildlife! Listen to stories about gators and panthers\, and see some of our animal ambassadors up close.
URL:https://thepbmoms.com/event/tiny-tales-storytime/2027-12-08/
LOCATION:Busch Wildlife\, 17855 Rocky Pines Road\, Jupiter\, FL\, 33478
CATEGORIES:Baby,Parents,Toddler
ORGANIZER;CN="Busch Wildlife Sanctuary":MAILTO:marketingasst@buschwildlife.org
END:VEVENT
BEGIN:VEVENT
DTSTART;TZID=UTC:20271211T110000
DTEND;TZID=UTC:20271211T113000
DTSTAMP:20260421T233153
CREATED:20230607T022553Z
LAST-MODIFIED:20230607T022553Z
UID:10005031-1828522800-1828524600@thepbmoms.com
SUMMARY:Storytime at Barnes and Noble
DESCRIPTION:Children’s Storytime is back!  We are excited to see everyone once again in our Children’s Department for Saturday morning storytime\, every Saturday at 11am.  Come join us!
URL:https://thepbmoms.com/event/storytime-at-barnes-and-noble/2027-12-11/
LOCATION:Barnes and Noble\, Palm Beach Gardens\, FL\, 33410
CATEGORIES:Baby,Free
END:VEVENT
BEGIN:VEVENT
DTSTART;TZID=UTC:20271211T120000
DTEND;TZID=UTC:20271211T123000
DTSTAMP:20260421T233153
CREATED:20230607T022832Z
LAST-MODIFIED:20230607T022832Z
UID:10005292-1828526400-1828528200@thepbmoms.com
SUMMARY:Storytime at Barnes and Noble
DESCRIPTION:Children’s Storytime is back!  We are excited to see everyone once again in our Children’s Department for Saturday morning storytime\, every Saturday at 11am.  Come join us!
URL:https://thepbmoms.com/event/storytime-at-barnes-and-noble-2/2027-12-11/
LOCATION:Barnes and Noble Boca Raton\, 1400 Glades Rd.\, Boca Raton\, FL\, 33431
CATEGORIES:Baby,Free
END:VEVENT
BEGIN:VEVENT
DTSTART;TZID=UTC:20271215T100000
DTEND;TZID=UTC:20271215T103000
DTSTAMP:20260421T233153
CREATED:20240619T165317Z
LAST-MODIFIED:20240619T165317Z
UID:10021965-1828864800-1828866600@thepbmoms.com
SUMMARY:Tiny Tales Storytime
DESCRIPTION:Join us for Toddler Storytime in our Educational Amphitheater\, every Wednesday at 10 a.m. A great family-friendly program where little ones of all ages can learn about wildlife! Listen to stories about gators and panthers\, and see some of our animal ambassadors up close.
URL:https://thepbmoms.com/event/tiny-tales-storytime/2027-12-15/
LOCATION:Busch Wildlife\, 17855 Rocky Pines Road\, Jupiter\, FL\, 33478
CATEGORIES:Baby,Parents,Toddler
ORGANIZER;CN="Busch Wildlife Sanctuary":MAILTO:marketingasst@buschwildlife.org
END:VEVENT
BEGIN:VEVENT
DTSTART;TZID=UTC:20271218T110000
DTEND;TZID=UTC:20271218T113000
DTSTAMP:20260421T233153
CREATED:20230607T022553Z
LAST-MODIFIED:20230607T022553Z
UID:10005032-1829127600-1829129400@thepbmoms.com
SUMMARY:Storytime at Barnes and Noble
DESCRIPTION:Children’s Storytime is back!  We are excited to see everyone once again in our Children’s Department for Saturday morning storytime\, every Saturday at 11am.  Come join us!
URL:https://thepbmoms.com/event/storytime-at-barnes-and-noble/2027-12-18/
LOCATION:Barnes and Noble\, Palm Beach Gardens\, FL\, 33410
CATEGORIES:Baby,Free
END:VEVENT
BEGIN:VEVENT
DTSTART;TZID=UTC:20271218T120000
DTEND;TZID=UTC:20271218T123000
DTSTAMP:20260421T233153
CREATED:20230607T022832Z
LAST-MODIFIED:20230607T022832Z
UID:10005293-1829131200-1829133000@thepbmoms.com
SUMMARY:Storytime at Barnes and Noble
DESCRIPTION:Children’s Storytime is back!  We are excited to see everyone once again in our Children’s Department for Saturday morning storytime\, every Saturday at 11am.  Come join us!
URL:https://thepbmoms.com/event/storytime-at-barnes-and-noble-2/2027-12-18/
LOCATION:Barnes and Noble Boca Raton\, 1400 Glades Rd.\, Boca Raton\, FL\, 33431
CATEGORIES:Baby,Free
END:VEVENT
BEGIN:VEVENT
DTSTART;TZID=UTC:20271222T100000
DTEND;TZID=UTC:20271222T103000
DTSTAMP:20260421T233153
CREATED:20240619T165317Z
LAST-MODIFIED:20240619T165317Z
UID:10021966-1829469600-1829471400@thepbmoms.com
SUMMARY:Tiny Tales Storytime
DESCRIPTION:Join us for Toddler Storytime in our Educational Amphitheater\, every Wednesday at 10 a.m. A great family-friendly program where little ones of all ages can learn about wildlife! Listen to stories about gators and panthers\, and see some of our animal ambassadors up close.
URL:https://thepbmoms.com/event/tiny-tales-storytime/2027-12-22/
LOCATION:Busch Wildlife\, 17855 Rocky Pines Road\, Jupiter\, FL\, 33478
CATEGORIES:Baby,Parents,Toddler
ORGANIZER;CN="Busch Wildlife Sanctuary":MAILTO:marketingasst@buschwildlife.org
END:VEVENT
BEGIN:VEVENT
DTSTART;TZID=UTC:20271225T110000
DTEND;TZID=UTC:20271225T113000
DTSTAMP:20260421T233153
CREATED:20230607T022553Z
LAST-MODIFIED:20230607T022553Z
UID:10005033-1829732400-1829734200@thepbmoms.com
SUMMARY:Storytime at Barnes and Noble
DESCRIPTION:Children’s Storytime is back!  We are excited to see everyone once again in our Children’s Department for Saturday morning storytime\, every Saturday at 11am.  Come join us!
URL:https://thepbmoms.com/event/storytime-at-barnes-and-noble/2027-12-25/
LOCATION:Barnes and Noble\, Palm Beach Gardens\, FL\, 33410
CATEGORIES:Baby,Free
END:VEVENT
BEGIN:VEVENT
DTSTART;TZID=UTC:20271225T120000
DTEND;TZID=UTC:20271225T123000
DTSTAMP:20260421T233154
CREATED:20230607T022832Z
LAST-MODIFIED:20230607T022832Z
UID:10005294-1829736000-1829737800@thepbmoms.com
SUMMARY:Storytime at Barnes and Noble
DESCRIPTION:Children’s Storytime is back!  We are excited to see everyone once again in our Children’s Department for Saturday morning storytime\, every Saturday at 11am.  Come join us!
URL:https://thepbmoms.com/event/storytime-at-barnes-and-noble-2/2027-12-25/
LOCATION:Barnes and Noble Boca Raton\, 1400 Glades Rd.\, Boca Raton\, FL\, 33431
CATEGORIES:Baby,Free
END:VEVENT
BEGIN:VEVENT
DTSTART;TZID=UTC:20271229T100000
DTEND;TZID=UTC:20271229T103000
DTSTAMP:20260421T233154
CREATED:20240619T165317Z
LAST-MODIFIED:20240619T165317Z
UID:10021967-1830074400-1830076200@thepbmoms.com
SUMMARY:Tiny Tales Storytime
DESCRIPTION:Join us for Toddler Storytime in our Educational Amphitheater\, every Wednesday at 10 a.m. A great family-friendly program where little ones of all ages can learn about wildlife! Listen to stories about gators and panthers\, and see some of our animal ambassadors up close.
URL:https://thepbmoms.com/event/tiny-tales-storytime/2027-12-29/
LOCATION:Busch Wildlife\, 17855 Rocky Pines Road\, Jupiter\, FL\, 33478
CATEGORIES:Baby,Parents,Toddler
ORGANIZER;CN="Busch Wildlife Sanctuary":MAILTO:marketingasst@buschwildlife.org
END:VEVENT
BEGIN:VEVENT
DTSTART;TZID=UTC:20280101T110000
DTEND;TZID=UTC:20280101T113000
DTSTAMP:20260421T233154
CREATED:20230607T022553Z
LAST-MODIFIED:20230607T022553Z
UID:10005034-1830337200-1830339000@thepbmoms.com
SUMMARY:Storytime at Barnes and Noble
DESCRIPTION:Children’s Storytime is back!  We are excited to see everyone once again in our Children’s Department for Saturday morning storytime\, every Saturday at 11am.  Come join us!
URL:https://thepbmoms.com/event/storytime-at-barnes-and-noble/2028-01-01/
LOCATION:Barnes and Noble\, Palm Beach Gardens\, FL\, 33410
CATEGORIES:Baby,Free
END:VEVENT
BEGIN:VEVENT
DTSTART;TZID=UTC:20280101T120000
DTEND;TZID=UTC:20280101T123000
DTSTAMP:20260421T233154
CREATED:20230607T022832Z
LAST-MODIFIED:20230607T022832Z
UID:10005295-1830340800-1830342600@thepbmoms.com
SUMMARY:Storytime at Barnes and Noble
DESCRIPTION:Children’s Storytime is back!  We are excited to see everyone once again in our Children’s Department for Saturday morning storytime\, every Saturday at 11am.  Come join us!
URL:https://thepbmoms.com/event/storytime-at-barnes-and-noble-2/2028-01-01/
LOCATION:Barnes and Noble Boca Raton\, 1400 Glades Rd.\, Boca Raton\, FL\, 33431
CATEGORIES:Baby,Free
END:VEVENT
BEGIN:VEVENT
DTSTART;TZID=UTC:20280105T100000
DTEND;TZID=UTC:20280105T103000
DTSTAMP:20260421T233154
CREATED:20240619T165317Z
LAST-MODIFIED:20240619T165317Z
UID:10021968-1830679200-1830681000@thepbmoms.com
SUMMARY:Tiny Tales Storytime
DESCRIPTION:Join us for Toddler Storytime in our Educational Amphitheater\, every Wednesday at 10 a.m. A great family-friendly program where little ones of all ages can learn about wildlife! Listen to stories about gators and panthers\, and see some of our animal ambassadors up close.
URL:https://thepbmoms.com/event/tiny-tales-storytime/2028-01-05/
LOCATION:Busch Wildlife\, 17855 Rocky Pines Road\, Jupiter\, FL\, 33478
CATEGORIES:Baby,Parents,Toddler
ORGANIZER;CN="Busch Wildlife Sanctuary":MAILTO:marketingasst@buschwildlife.org
END:VEVENT
BEGIN:VEVENT
DTSTART;TZID=UTC:20280108T110000
DTEND;TZID=UTC:20280108T113000
DTSTAMP:20260421T233154
CREATED:20230607T022553Z
LAST-MODIFIED:20230607T022553Z
UID:10005035-1830942000-1830943800@thepbmoms.com
SUMMARY:Storytime at Barnes and Noble
DESCRIPTION:Children’s Storytime is back!  We are excited to see everyone once again in our Children’s Department for Saturday morning storytime\, every Saturday at 11am.  Come join us!
URL:https://thepbmoms.com/event/storytime-at-barnes-and-noble/2028-01-08/
LOCATION:Barnes and Noble\, Palm Beach Gardens\, FL\, 33410
CATEGORIES:Baby,Free
END:VEVENT
BEGIN:VEVENT
DTSTART;TZID=UTC:20280108T120000
DTEND;TZID=UTC:20280108T123000
DTSTAMP:20260421T233154
CREATED:20230607T022832Z
LAST-MODIFIED:20230607T022832Z
UID:10005296-1830945600-1830947400@thepbmoms.com
SUMMARY:Storytime at Barnes and Noble
DESCRIPTION:Children’s Storytime is back!  We are excited to see everyone once again in our Children’s Department for Saturday morning storytime\, every Saturday at 11am.  Come join us!
URL:https://thepbmoms.com/event/storytime-at-barnes-and-noble-2/2028-01-08/
LOCATION:Barnes and Noble Boca Raton\, 1400 Glades Rd.\, Boca Raton\, FL\, 33431
CATEGORIES:Baby,Free
END:VEVENT
BEGIN:VEVENT
DTSTART;TZID=UTC:20280112T100000
DTEND;TZID=UTC:20280112T103000
DTSTAMP:20260421T233154
CREATED:20240619T165317Z
LAST-MODIFIED:20240619T165317Z
UID:10021969-1831284000-1831285800@thepbmoms.com
SUMMARY:Tiny Tales Storytime
DESCRIPTION:Join us for Toddler Storytime in our Educational Amphitheater\, every Wednesday at 10 a.m. A great family-friendly program where little ones of all ages can learn about wildlife! Listen to stories about gators and panthers\, and see some of our animal ambassadors up close.
URL:https://thepbmoms.com/event/tiny-tales-storytime/2028-01-12/
LOCATION:Busch Wildlife\, 17855 Rocky Pines Road\, Jupiter\, FL\, 33478
CATEGORIES:Baby,Parents,Toddler
ORGANIZER;CN="Busch Wildlife Sanctuary":MAILTO:marketingasst@buschwildlife.org
END:VEVENT
BEGIN:VEVENT
DTSTART;TZID=UTC:20280115T110000
DTEND;TZID=UTC:20280115T113000
DTSTAMP:20260421T233154
CREATED:20230607T022553Z
LAST-MODIFIED:20230607T022553Z
UID:10005036-1831546800-1831548600@thepbmoms.com
SUMMARY:Storytime at Barnes and Noble
DESCRIPTION:Children’s Storytime is back!  We are excited to see everyone once again in our Children’s Department for Saturday morning storytime\, every Saturday at 11am.  Come join us!
URL:https://thepbmoms.com/event/storytime-at-barnes-and-noble/2028-01-15/
LOCATION:Barnes and Noble\, Palm Beach Gardens\, FL\, 33410
CATEGORIES:Baby,Free
END:VEVENT
BEGIN:VEVENT
DTSTART;TZID=UTC:20280115T120000
DTEND;TZID=UTC:20280115T123000
DTSTAMP:20260421T233154
CREATED:20230607T022832Z
LAST-MODIFIED:20230607T022832Z
UID:10005297-1831550400-1831552200@thepbmoms.com
SUMMARY:Storytime at Barnes and Noble
DESCRIPTION:Children’s Storytime is back!  We are excited to see everyone once again in our Children’s Department for Saturday morning storytime\, every Saturday at 11am.  Come join us!
URL:https://thepbmoms.com/event/storytime-at-barnes-and-noble-2/2028-01-15/
LOCATION:Barnes and Noble Boca Raton\, 1400 Glades Rd.\, Boca Raton\, FL\, 33431
CATEGORIES:Baby,Free
END:VEVENT
BEGIN:VEVENT
DTSTART;TZID=UTC:20280119T100000
DTEND;TZID=UTC:20280119T103000
DTSTAMP:20260421T233154
CREATED:20240619T165317Z
LAST-MODIFIED:20240619T165317Z
UID:10021970-1831888800-1831890600@thepbmoms.com
SUMMARY:Tiny Tales Storytime
DESCRIPTION:Join us for Toddler Storytime in our Educational Amphitheater\, every Wednesday at 10 a.m. A great family-friendly program where little ones of all ages can learn about wildlife! Listen to stories about gators and panthers\, and see some of our animal ambassadors up close.
URL:https://thepbmoms.com/event/tiny-tales-storytime/2028-01-19/
LOCATION:Busch Wildlife\, 17855 Rocky Pines Road\, Jupiter\, FL\, 33478
CATEGORIES:Baby,Parents,Toddler
ORGANIZER;CN="Busch Wildlife Sanctuary":MAILTO:marketingasst@buschwildlife.org
END:VEVENT
BEGIN:VEVENT
DTSTART;TZID=UTC:20280122T110000
DTEND;TZID=UTC:20280122T113000
DTSTAMP:20260421T233154
CREATED:20230607T022553Z
LAST-MODIFIED:20230607T022553Z
UID:10005037-1832151600-1832153400@thepbmoms.com
SUMMARY:Storytime at Barnes and Noble
DESCRIPTION:Children’s Storytime is back!  We are excited to see everyone once again in our Children’s Department for Saturday morning storytime\, every Saturday at 11am.  Come join us!
URL:https://thepbmoms.com/event/storytime-at-barnes-and-noble/2028-01-22/
LOCATION:Barnes and Noble\, Palm Beach Gardens\, FL\, 33410
CATEGORIES:Baby,Free
END:VEVENT
BEGIN:VEVENT
DTSTART;TZID=UTC:20280122T120000
DTEND;TZID=UTC:20280122T123000
DTSTAMP:20260421T233154
CREATED:20230607T022832Z
LAST-MODIFIED:20230607T022832Z
UID:10005298-1832155200-1832157000@thepbmoms.com
SUMMARY:Storytime at Barnes and Noble
DESCRIPTION:Children’s Storytime is back!  We are excited to see everyone once again in our Children’s Department for Saturday morning storytime\, every Saturday at 11am.  Come join us!
URL:https://thepbmoms.com/event/storytime-at-barnes-and-noble-2/2028-01-22/
LOCATION:Barnes and Noble Boca Raton\, 1400 Glades Rd.\, Boca Raton\, FL\, 33431
CATEGORIES:Baby,Free
END:VEVENT
BEGIN:VEVENT
DTSTART;TZID=UTC:20280126T100000
DTEND;TZID=UTC:20280126T103000
DTSTAMP:20260421T233154
CREATED:20240619T165317Z
LAST-MODIFIED:20240619T165317Z
UID:10021971-1832493600-1832495400@thepbmoms.com
SUMMARY:Tiny Tales Storytime
DESCRIPTION:Join us for Toddler Storytime in our Educational Amphitheater\, every Wednesday at 10 a.m. A great family-friendly program where little ones of all ages can learn about wildlife! Listen to stories about gators and panthers\, and see some of our animal ambassadors up close.
URL:https://thepbmoms.com/event/tiny-tales-storytime/2028-01-26/
LOCATION:Busch Wildlife\, 17855 Rocky Pines Road\, Jupiter\, FL\, 33478
CATEGORIES:Baby,Parents,Toddler
ORGANIZER;CN="Busch Wildlife Sanctuary":MAILTO:marketingasst@buschwildlife.org
END:VEVENT
BEGIN:VEVENT
DTSTART;TZID=UTC:20280129T110000
DTEND;TZID=UTC:20280129T113000
DTSTAMP:20260421T233154
CREATED:20230607T022553Z
LAST-MODIFIED:20230607T022553Z
UID:10005038-1832756400-1832758200@thepbmoms.com
SUMMARY:Storytime at Barnes and Noble
DESCRIPTION:Children’s Storytime is back!  We are excited to see everyone once again in our Children’s Department for Saturday morning storytime\, every Saturday at 11am.  Come join us!
URL:https://thepbmoms.com/event/storytime-at-barnes-and-noble/2028-01-29/
LOCATION:Barnes and Noble\, Palm Beach Gardens\, FL\, 33410
CATEGORIES:Baby,Free
END:VEVENT
END:VCALENDAR