BEGIN:VCALENDAR
VERSION:2.0
PRODID:-//Palm Beach Moms - ECPv6.15.20//NONSGML v1.0//EN
CALSCALE:GREGORIAN
METHOD:PUBLISH
X-WR-CALNAME:Palm Beach Moms
X-ORIGINAL-URL:https://thepbmoms.com
X-WR-CALDESC:Events for Palm Beach Moms
REFRESH-INTERVAL;VALUE=DURATION:PT1H
X-Robots-Tag:noindex
X-PUBLISHED-TTL:PT1H
BEGIN:VTIMEZONE
TZID:UTC
BEGIN:STANDARD
TZOFFSETFROM:+0000
TZOFFSETTO:+0000
TZNAME:UTC
DTSTART:20250101T000000
END:STANDARD
END:VTIMEZONE
BEGIN:VEVENT
DTSTART;TZID=UTC:20260424T083000
DTEND;TZID=UTC:20260424T093000
DTSTAMP:20260424T013853
CREATED:20260309T235130Z
LAST-MODIFIED:20260309T235130Z
UID:10032573-1777019400-1777023000@thepbmoms.com
SUMMARY:Tracie’s Music Together
DESCRIPTION:Grassy Area by Raw Juce\n\n\n\n🎵 Hello everybody\, so glad to see you! 🎵 \nRegister and join us for music and movement with the incredible Miss Tracie. \nOngoing classes every Monday\, Wednesday and Friday! \nRegister at https://www.traciesmusictogether.com/
URL:https://thepbmoms.com/event/tracies-music-together/2026-04-24/
LOCATION:Alton Town Center\, 5320 Donald Ross Road\, Palm Beach Gardens\, FL
ATTACH;FMTTYPE=image/webp:https://thepbmoms.com/wp-content/uploads/2026/03/tracie.webp
END:VEVENT
BEGIN:VEVENT
DTSTART;TZID=UTC:20260424T104500
DTEND;TZID=UTC:20260424T110000
DTSTAMP:20260424T013853
CREATED:20240101T221421Z
LAST-MODIFIED:20240101T222831Z
UID:10018335-1777027500-1777028400@thepbmoms.com
SUMMARY:Touch Tank Demonstrations
DESCRIPTION:Touch Tank Demonstrations \nDaily demonstrations at 10:45am
URL:https://thepbmoms.com/event/touch-tank-demonstrations/2026-04-24/
LOCATION:Cox Science Center\, 4801 Dreher Trail North\, Weest Palm Beach\, FL\, 33405
ATTACH;FMTTYPE=image/png:https://thepbmoms.com/wp-content/uploads/2024/01/Untitled-design.png
END:VEVENT
BEGIN:VEVENT
DTSTART;TZID=UTC:20260424T140000
DTEND;TZID=UTC:20260424T143000
DTSTAMP:20260424T013853
CREATED:20240101T220907Z
LAST-MODIFIED:20240101T220959Z
UID:10017068-1777039200-1777041000@thepbmoms.com
SUMMARY:Live Alligator Petting
DESCRIPTION:Live Alligator Petting \nFriday – Sunday Only at 2:00pm
URL:https://thepbmoms.com/event/live-alligator-petting/2026-04-24/
LOCATION:Cox Science Center\, 4801 Dreher Trail North\, Weest Palm Beach\, FL\, 33405
END:VEVENT
BEGIN:VEVENT
DTSTART;TZID=UTC:20260424T180000
DTEND;TZID=UTC:20260424T193000
DTSTAMP:20260424T013853
CREATED:20260105T173423Z
LAST-MODIFIED:20260105T173423Z
UID:10030387-1777053600-1777059000@thepbmoms.com
SUMMARY:ELMO’S GOT THE MOVES
DESCRIPTION:Make unforgettable memories with your little ones at ELMO’S GOT THE MOVES—the all-new Sesame Street Live show! This exciting experience brings Elmo and his Sesame Street friends to the stage with singing\, dancing and favorite songs like “Sunny Days\,” “Elmo’s Got the Moves” and “Letter of the Day.” Families will laugh\, learn and play together in a heartwarming celebration that you’ll treasure long after the final song. \nLAP SEATING\nAll patrons\, regardless of age\, are required to have a ticket. Children 24 months and under can receive a lap ticket to ELMO’S GOT THE MOVES for $15. Lap tickets are available for purchase at the Box Office beginning 2 hours prior to the performance start time. Only one lap ticket is permitted per adult\, and the child must sit on the lap of the accompanying adult throughout the performance. \nThere is an 8 ticket limit for this event.
URL:https://thepbmoms.com/event/elmos-got-the-moves/
LOCATION:Kravis Center for the Performing Arts\, 701 Okeechobee Blvd.\, West Palm Beach\, FL\, 33401
ORGANIZER;CN="Kravis Center for the Performing Arts":MAILTO:kravis@kravis.org
END:VEVENT
BEGIN:VEVENT
DTSTART;TZID=UTC:20260424T180000
DTEND;TZID=UTC:20260424T210000
DTSTAMP:20260424T013853
CREATED:20260128T150430Z
LAST-MODIFIED:20260128T150430Z
UID:10030898-1777053600-1777064400@thepbmoms.com
SUMMARY:Rhythm in the Wild 
DESCRIPTION:Rhythm in the Wild is a spring nighttime music series at Palm Beach Zoo\, where live music\, relaxed evening vibes\, meaningful conservation moments\, and unexpected animal encounters come together after hours. Sip\, stroll\, and explore as the Zoo comes alive at night\, perfect for an easygoing family outing or a relaxed date night under the stars in beautiful West Palm Beach. \nGet ready\, because no one night will be the same. \nTickets on Sale Now! Members receive a 25% discount.  \n\n\n\n\n\n\nWhat is Rhythm in the Wild?\nRhythm in the Wild is an all-new spring nighttime music series at Palm Beach Zoo\, offering a fresh way to experience the Zoo after hours. Each evening features live music\, along with thoughtfully curated food and drinks. Conservation stories and unexpected animal moments are woven throughout the night. Perfect for families\, couples and visitors\, no two evenings feel quite the same in West Palm Beach.
URL:https://thepbmoms.com/event/rhythm-in-the-wild/2026-04-24/
LOCATION:Palm Beach Zoo and Conservation Society\, West Palm Beach\, FL\, 33405
ATTACH;FMTTYPE=image/png:https://thepbmoms.com/wp-content/uploads/2026/01/wild.png
END:VEVENT
END:VCALENDAR