BEGIN:VCALENDAR
VERSION:2.0
PRODID:-//Palm Beach Moms - ECPv6.15.20//NONSGML v1.0//EN
CALSCALE:GREGORIAN
METHOD:PUBLISH
X-ORIGINAL-URL:https://thepbmoms.com
X-WR-CALDESC:Events for Palm Beach Moms
REFRESH-INTERVAL;VALUE=DURATION:PT1H
X-Robots-Tag:noindex
X-PUBLISHED-TTL:PT1H
BEGIN:VTIMEZONE
TZID:UTC
BEGIN:STANDARD
TZOFFSETFROM:+0000
TZOFFSETTO:+0000
TZNAME:UTC
DTSTART:20230101T000000
END:STANDARD
END:VTIMEZONE
BEGIN:VEVENT
DTSTART;TZID=UTC:20240119T100000
DTEND;TZID=UTC:20240519T170000
DTSTAMP:20260422T092630
CREATED:20240120T002459Z
LAST-MODIFIED:20240120T002459Z
UID:10019431-1705658400-1716138000@thepbmoms.com
SUMMARY:Voyage to the Deep - Underwater Adventures Exhibit at Museum of Discovery and Science
DESCRIPTION:Ahoy\, adventurers! “Seas” the day and plunge into the mysteries of the ocean as Voyage to the Deep – Underwater Adventures presented by Joe DiMaggio Children’s Hospital makes a splash at the Museum of Discovery and Science (MODS) from January 26 – May 19\, 2024.\nDiscover Jules Verne’s mythical world of 20\,000 Leagues Under the Sea by diving into the Cabinet of Curiosities\, where you’ll come face-to-face with the most bizarre and awe-inspiring marine specimens imaginable! Then\, channel your inner explorer and tinker with the groundbreaking gadgets and gizmos that made Admiral Peary and Matthew Henson Arctic legends during the early 1900s. Explore the lost world of Atlantis and the octopus’s garden\, slide down an “escape hatch\,” wander through the seaweed maze in the kelp forest and hunt for treasure in the wreck of the Spanish galleon. \nThe exhibition presents fantasy and facts\, allowing guests to explore Verne’s imaginary world and the real-life wonders of ocean exploration. Designed to provide a range of interactive experiences\, the exhibition includes full-body interactions\, mechanical and electro-mechanical exhibits\, interactive projections and touchscreens. \nAssemble your crew\, gather your sea legs and join us for a once-in-a- lifetime oceanic odyssey that’ll make your wildest nautical dreams come true! The Voyage to the Deep exhibition was created and developed by the Australian National Maritime Museum\, an Australian Government entity. Flying Fish manages the exhibit tour. \nExperience South Florida’s award-winning attraction featuring 150\,000 square feet of dynamic science exhibits\, an outdoor science park\, a live animal collection\, a rotating schedule of science shows\, learning labs\, café\, store\, and a grand atrium featuring the Great Gravity Clock\, a 52-foot-tall kinetic energy sculpture; the largest clock in Florida. The showpiece of the museum since 1993\, this unique timepiece is one of only three in the world.\nExhibit included with admission. Get tickets by visiting mods.org/tickets.\nFor more information\, visit mods.org or call (954) 467-MODS (6637). Like us and follow us on social media at Facebook: facebook.com/modsftl\, Twitter: twitter.com/modsftl and Instagram: instagram.com/modsftl. \n# # #
URL:https://thepbmoms.com/event/voyage-to-the-deep-underwater-adventures-exhibit-at-museum-of-discovery-and-science/
LOCATION:Museum of Discovery and Science\, 401 SW 2nd St.\, Fort Lauderdale\, 33312
CATEGORIES:Just for Kids
ATTACH;FMTTYPE=image/png:https://thepbmoms.com/wp-content/uploads/2024/01/Voyage-to-the-Deep-Graphic.png
ORGANIZER;CN="Museum of Discovery and Science":MAILTO:booking@mods.org
END:VEVENT
BEGIN:VEVENT
DTSTART;TZID=UTC:20240126T112000
DTEND;TZID=UTC:20241201T170000
DTSTAMP:20260422T092630
CREATED:20231229T203554Z
LAST-MODIFIED:20231229T203554Z
UID:10016705-1706268000-1733072400@thepbmoms.com
SUMMARY:Blue Whales: Return of the Giants Premieres at the AutoNation® IMAX® 3D Theater at the Museum of Discovery and Science
DESCRIPTION:The AutoNation® IMAX® 3D Theater at the Museum of Discovery and Science (MODS) will premiere Blue Whales: Return of the Giants starting on January 26\, 2024. The first giant-screen film on the subject\, Blue Whales\, was produced by Oceanic Films in collaboration with Howard Hughes Medical Institute (HHMI) Tangled Bank Studios and SK Films and funded by the National Science Foundation (NSF). MODS is one of only a few Florida theaters with screens large enough to display life-sized blue whales. \nBlue Whales: Return of the Giants introduces audiences to the endangered species\, which is not widely understood despite its status as the largest animal to have ever existed. Through two scientific expeditions\, the film shows stunning footage of blue whale feeding habits\, long-distance communication and mother-calf relationships. One expedition focuses on the search for a missing blue whale population off the coast of the Seychelles Islands in the Indian Ocean while the other expedition joins marine biologist Diane Gendron\, also known as the “Blue Whale Whisperer\,” in the Gulf of California to observe whale families. \nNarrated by award-winning actor Andy Serkis\, scored by Academy Award-winner Steven Price\, and presented in 3D\, Blue Whales will immerse audiences in the ocean alongside the massive blue whales and other species such as dolphins\, sperm whales\, sea lions and orcas. \nThe documentary also features research from local marine biologist Jeremy Kiszka\, professor of biology at Florida International University in Miami\, Florida. Dr. Kiszka studies the ecology and behavior of cetaceans (whales and dolphins) in tropical marine ecosystems around the globe\, particularly in the Caribbean\, along the coasts of Florida and in the Indian Ocean. \nTo view the trailer\, please visit BlueWhalesfilm.com. \nThe AutoNation® IMAX® Theater at the Museum of Discovery and Science is located at 401 SW 2nd Street in Fort Lauderdale. Blue Whales: Return of the Giants is included in the MODS Discovery Pass\, an all-in-one ticket that includes Museum exhibitions\, live science demonstrations and one IMAX documentary film. For tickets\, please visit mods.org/tickets and for showtimes\, please visit mods.org/showtimes.
URL:https://thepbmoms.com/event/blue-whales-return-of-the-giants-premieres-at-the-autonation-imax-3d-theater-at-the-museum-of-discovery-and-science/
LOCATION:museum of science and discovery\, 401 sw 2nd street\, Fort Lauderdale\, 33312
ATTACH;FMTTYPE=image/png:https://thepbmoms.com/wp-content/uploads/2023/12/Blue-Whales1080-x-1080-px.png
ORGANIZER;CN="museum of science and discovery":MAILTO:marketing@mods.org
END:VEVENT
BEGIN:VEVENT
DTSTART;TZID=UTC:20240216T113000
DTEND;TZID=UTC:20250215T220000
DTSTAMP:20260422T092630
CREATED:20240216T192126Z
LAST-MODIFIED:20240216T192126Z
UID:10020311-1708083000-1739656800@thepbmoms.com
SUMMARY:Cities of the Future at the AutoNation® IMAX® 3D Theater at the Museum of Discovery and Science
DESCRIPTION:Step into the future and discover the exciting innovations transforming our world with Cities of the Future\, now playing in the AutoNation® IMAX® 3D Theater at the Museum of Discovery and Science (MODS). Narrated by award-winning actor John Krasinski\, Cities of the Future highlights the creative solutions engineers are designing right now to meet the challenges of a changing world and forge a brighter\, more sustainable future. \nFrom electric flying cars and aerial highways to smart buildings\, greener infrastructure and solar power beamed from space\, Cities of the Future offers an inspiring vision of how we will live 50 years from now\, combining state-of-the-art CGI with live-action cinematography. The film also looks at modern urban landscapes in the midst of transformation\, revealing profound changes already happening in some of the world’s greatest cities\, from Los Angeles to Amsterdam to Singapore. \nCities of the Future also introduces viewers to a team of middle school students participating in the Future City Competition\, an annual contest where 60\,000 middle school students from the U.S. and around the world compete to create a model future city. \nCities of the Future is produced by MacGillivray Freeman Films in partnership with the American Society of Civil Engineers (ASCE)\, the same team that created the blockbuster giant screen documentary Dream Big: Engineering Our World. \nTo view the trailer\, please visit citiesofthefuturefilm.com. \nThe AutoNation® IMAX® Theater at the Museum of Discovery and Science is located at 401 SW 2nd Street in Fort Lauderdale. Cities of the Future is included in the MODS Discovery Pass\, an all-in-one ticket that includes Museum exhibitions\, live science demonstrations and one IMAX documentary film. For tickets\, please visit mods.org/tickets and for showtimes\, please visit mods.org/showtimes.
URL:https://thepbmoms.com/event/cities-of-the-future-at-the-autonation-imax-3d-theater-at-the-museum-of-discovery-and-science/
LOCATION:Museum of Discovery and Science\, 401 SW 2nd St.\, Fort Lauderdale\, 33312
CATEGORIES:Just for Kids,Parents
ATTACH;FMTTYPE=image/png:https://thepbmoms.com/wp-content/uploads/2024/02/Cities-of-the-Future-with-Logo.png
ORGANIZER;CN="Museum of Discovery and Science":MAILTO:booking@mods.org
END:VEVENT
BEGIN:VEVENT
DTSTART;VALUE=DATE:20240301
DTEND;VALUE=DATE:20240401
DTSTAMP:20260422T092630
CREATED:20240204T184051Z
LAST-MODIFIED:20240204T184051Z
UID:10019961-1709251200-1711929599@thepbmoms.com
SUMMARY:EASTER BUNNY PHOTOS
DESCRIPTION:Visit the Easter Bunny in GardenLand\, March 1 – 30.\n\n\n\nCapture the magic of spring with Bunny photos at The Gardens Mall! Visit GardenLand on the lower level in Grand Court for a fun\, enchanting\, Easter photo experience. Book your reservation online to lock in the day and time of your choice and receive a complimentary gift valued at $20. \nMake your reservation online at www.whereisbunny.com.
URL:https://thepbmoms.com/event/easter-bunny-photos/
LOCATION:The Gardens Mall\, 3101 PGA Boulevard\, Palm Beach Gardens\, FL\, 33410
ATTACH;FMTTYPE=image/jpeg:https://thepbmoms.com/wp-content/uploads/2024/02/FAEC567D-85C3-4539-8646-631489BA10BC-1638x2048-1.jpg
END:VEVENT
BEGIN:VEVENT
DTSTART;TZID=UTC:20240301T110000
DTEND;TZID=UTC:20240330T190000
DTSTAMP:20260422T092630
CREATED:20240223T163354Z
LAST-MODIFIED:20240223T163354Z
UID:10020395-1709290800-1711825200@thepbmoms.com
SUMMARY:The Gardens Mall - Garden Land
DESCRIPTION:Everybunny’s invited to play our kid-sized Garden Land Game for fun and prizes! \nKids will have the opportunity to enjoy a special game of Garden Land at The Gardens Mall. The life-sized board game invites players to spin the wheel and hop along a colorful path. If players land on a special steppingstone\, they can collect a gift from a participating store. A game of Garden Land is $5 per person and all proceeds benefit Children’s Home Society of Florida. The organization works to keep families safe\, strong\, and together by providing early childhood and in-home solutions that stabilize and strengthen families. \nGarden Land will be open March 1 through March 30\, Monday through Friday\, 11 a.m. to 7 p.m.; Saturday\, 11 a.m. to 7 p.m.; and Sunday\, 12 p.m. to 6 p.m.
URL:https://thepbmoms.com/event/the-gardens-mall-garden-land/
LOCATION:The Gardens Mall\, 3101 PGA Boulevard\, Palm Beach Gardens\, FL\, 33410
ATTACH;FMTTYPE=image/jpeg:https://thepbmoms.com/wp-content/uploads/2024/02/BEN_6478-scaled-aspect-ratio-600-400-1.jpg
END:VEVENT
BEGIN:VEVENT
DTSTART;TZID=UTC:20240301T110000
DTEND;TZID=UTC:20240330T200000
DTSTAMP:20260422T092630
CREATED:20240223T163923Z
LAST-MODIFIED:20240223T163923Z
UID:10020394-1709290800-1711828800@thepbmoms.com
SUMMARY:The Gardens Mall Easter Bunny Photos
DESCRIPTION:Hippity\, hoppity\, Easter’s on its way! The Easter Bunny will be hopping into Garden Land at The Gardens Mall on Friday\, March 1. Surrounded by spring flowers and butterflies\, visitors can meet the Easter Bunny in the gazebo in the Grand Court to capture memorable family photos. \nThe Easter Bunny will be available for photos March 1 through March 30\, Monday through Friday\, 11 a.m. to 7 p.m.; Saturday\, 10 a.m. to 8 p.m.; and Sunday\, 12 p.m. to 6 p.m. Receive a complimentary gift from The Gardens Mall when booking a photo reservation online at whereisbunny.com.
URL:https://thepbmoms.com/event/the-gardens-mall-easter-bunny-photos/
LOCATION:The Gardens Mall\, 3101 PGA Boulevard\, Palm Beach Gardens\, FL\, 33410
CATEGORIES:Parents
ATTACH;FMTTYPE=image/jpeg:https://thepbmoms.com/wp-content/uploads/2024/02/FAEC567D-85C3-4539-8646-631489BA10BC-scaled-aspect-ratio-600-400.jpg
END:VEVENT
BEGIN:VEVENT
DTSTART;TZID=UTC:20240307T090000
DTEND;TZID=UTC:20240307T140000
DTSTAMP:20260422T092630
CREATED:20240205T161003Z
LAST-MODIFIED:20240205T161003Z
UID:10019979-1709802000-1709820000@thepbmoms.com
SUMMARY:Daytime Playtime
DESCRIPTION:The mamas spoke up\, and we listened!\n\nJoin us weekly for a casual play date on the lawn featuring water tables\, hula hoops\, lawn games and more. Bring your towels for post-splashing in Water Pavilion West Palm and pack your lawn blankets for shady enjoyment! Ideal for little ones 5 and under\, and all ages welcome. \nPlease note: no diapers in fountain please; if changing needs to occur\, please use public restrooms. \n\n\n\nEvery Wednesday\, Thursday and Friday from 9AM-2PM \n 
URL:https://thepbmoms.com/event/daytime-playtime/2024-03-07/
LOCATION:The Square\, 700 South Rosemary Avenue\, West Palm Beach\, FL\, 33401
END:VEVENT
BEGIN:VEVENT
DTSTART;TZID=UTC:20240307T093000
DTEND;TZID=UTC:20240307T100000
DTSTAMP:20260422T092630
CREATED:20240109T182556Z
LAST-MODIFIED:20240109T182556Z
UID:10019353-1709803800-1709805600@thepbmoms.com
SUMMARY:Story Time
DESCRIPTION:Join the River Center inside in our classroom for our weekly Story time!\nGather around as we read various stories and provide an up-close encounter with one of our resident animal ambassadors.\nChildren ages 0-6 are welcome to attend.\nThis is a free program and no RSVP is required.\nWe hope to see you there!
URL:https://thepbmoms.com/event/story-time/2024-03-07/
LOCATION:River Center\, 805 N US Highway 1\, Jupiter\, 33477
CATEGORIES:Free,Toddler
ORGANIZER;CN="River Center":MAILTO:rivercenter@lrecd.org
END:VEVENT
BEGIN:VEVENT
DTSTART;TZID=UTC:20240307T103000
DTEND;TZID=UTC:20240307T110000
DTSTAMP:20260422T092630
CREATED:20240204T181040Z
LAST-MODIFIED:20240204T181104Z
UID:10019823-1709807400-1709809200@thepbmoms.com
SUMMARY:Rhythm & Hues Music Class up to age 5
DESCRIPTION:For families with babies and children up to age 5. Join the creative staff from Rhythm & Hues Children’s Art & Music Center for a joyful time of music\, singing\, dancing\, instruments\, friendship\, and family. Space is limited\, and in-person sign-up begins in KidSpace at 10 a.m. for the 10:30 a.m. classes and at 10:30 a.m. for the 11 a.m. class. For more information\, visit wpbcitylibrary.org or call (561) 868-7703.\n\n  \n\n\nDate:\nThursday\, February 8\, 2024  Show more dates \nThursday\, February 15\, 2024\nThursday\, February 22\, 2024\nThursday\, February 29\, 2024\nThursday\, March 7\, 2024\nThursday\, March 14\, 2024\nThursday\, March 21\, 2024\nThursday\, March 28\, 2024\nThursday\, April 4\, 2024\nThursday\, April 11\, 2024\nThursday\, April 18\, 2024\nThursday\, April 25\, 2024\nThursday\, May 2\, 2024\nThursday\, May 9\, 2024\nThursday\, May 16\, 2024\nThursday\, May 23\, 2024 \n\nTime:\n10:30am – 11:00am\nLocation:\nKids Programming Space
URL:https://thepbmoms.com/event/rhythm-hues-music-class/2024-03-07/
LOCATION:Mandel Public Library\, 411 Clematis\, West Palm Beach\, FL\, 33401
END:VEVENT
BEGIN:VEVENT
DTSTART;TZID=UTC:20240307T104500
DTEND;TZID=UTC:20240307T110000
DTSTAMP:20260422T092630
CREATED:20240101T221421Z
LAST-MODIFIED:20240101T222831Z
UID:10017557-1709808300-1709809200@thepbmoms.com
SUMMARY:Touch Tank Demonstrations
DESCRIPTION:Touch Tank Demonstrations \nDaily demonstrations at 10:45am
URL:https://thepbmoms.com/event/touch-tank-demonstrations/2024-03-07/
LOCATION:Cox Science Center\, 4801 Dreher Trail North\, Weest Palm Beach\, FL\, 33405
ATTACH;FMTTYPE=image/png:https://thepbmoms.com/wp-content/uploads/2024/01/Untitled-design.png
END:VEVENT
BEGIN:VEVENT
DTSTART;TZID=UTC:20240307T150000
DTEND;TZID=UTC:20240307T153000
DTSTAMP:20260422T092630
CREATED:20230901T163322Z
LAST-MODIFIED:20230901T163322Z
UID:10012849-1709823600-1709825400@thepbmoms.com
SUMMARY:Crafts for Kids
DESCRIPTION:Crafts for Kids (Up to Age 7)\nEvery Thursday / 3:00 p.m.\n\n\n\nJoin us for weekly crafts at the library! We offer a new craft every week\, we recommended these crafts for up to age seven.
URL:https://thepbmoms.com/event/crafts-for-kids/2024-03-07/
LOCATION:North Palm Beach Library\, 501 US Highway 1\, North Palm Beach\, FL\, 33408
END:VEVENT
BEGIN:VEVENT
DTSTART;TZID=UTC:20240307T180000
DTEND;TZID=UTC:20240307T210000
DTSTAMP:20260422T092630
CREATED:20240306T200005Z
LAST-MODIFIED:20240306T200005Z
UID:10020429-1709834400-1709845200@thepbmoms.com
SUMMARY:Clematis by Night — Sacred Union (Rock\, Funk\, Pop and Dance)
DESCRIPTION:This highly popular\, award-winning weekly concert series is the place to be for great music\, mouth-watering foods\, and great times with family and friends. \nEstablished in October 2020\, this eight-plus piece band is known for its musical arrangements and driving performances with a diverse repertoire of cover songs — such as Red-Hot Chili Peppers\, Prince\, Hall and Oates\, Ed Sheeran\, David Bowie and so much more. Their infectious rock\, funk and pop brand will have attendees dancing all night!
URL:https://thepbmoms.com/event/clematis-by-night-sacred-union-rock-funk-pop-and-dance/
LOCATION:Downtown West Palm Beach — Waterfront Commons / The Great Lawn\, 100 N. Clematis Street\, West Palm Beach\, 33401
END:VEVENT
BEGIN:VEVENT
DTSTART;TZID=UTC:20240307T180000
DTEND;TZID=UTC:20240307T210000
DTSTAMP:20260422T092630
CREATED:20240306T200707Z
LAST-MODIFIED:20240306T200707Z
UID:10020430-1709834400-1709845200@thepbmoms.com
SUMMARY:Clematis by Night — Sacred Union (Rock\, Funk\, Pop and Dance)
DESCRIPTION:This highly popular\, award-winning weekly concert series is the place to be for great music\, mouth-watering foods\, and great times with family and friends. \nEstablished in October 2020\, this eight-plus piece band is known for its musical arrangements and driving performances with a diverse repertoire of cover songs — such as Red-Hot Chili Peppers\, Prince\, Hall and Oates\, Ed Sheeran\, David Bowie and so much more. Their infectious rock\, funk and pop brand will have attendees dancing all night!
URL:https://thepbmoms.com/event/clematis-by-night-sacred-union-rock-funk-pop-and-dance-2/
LOCATION:Downtown West Palm Beach — Waterfront Commons / The Great Lawn\, 100 N. Clematis Street\, West Palm Beach\, 33401
END:VEVENT
END:VCALENDAR