BEGIN:VCALENDAR
VERSION:2.0
PRODID:-//Palm Beach Moms - ECPv6.15.20//NONSGML v1.0//EN
CALSCALE:GREGORIAN
METHOD:PUBLISH
X-WR-CALNAME:Palm Beach Moms
X-ORIGINAL-URL:https://thepbmoms.com
X-WR-CALDESC:Events for Palm Beach Moms
REFRESH-INTERVAL;VALUE=DURATION:PT1H
X-Robots-Tag:noindex
X-PUBLISHED-TTL:PT1H
BEGIN:VTIMEZONE
TZID:UTC
BEGIN:STANDARD
TZOFFSETFROM:+0000
TZOFFSETTO:+0000
TZNAME:UTC
DTSTART:20230101T000000
END:STANDARD
END:VTIMEZONE
BEGIN:VEVENT
DTSTART;TZID=UTC:20240119T100000
DTEND;TZID=UTC:20240519T170000
DTSTAMP:20260422T004102
CREATED:20240120T002459Z
LAST-MODIFIED:20240120T002459Z
UID:10019431-1705658400-1716138000@thepbmoms.com
SUMMARY:Voyage to the Deep - Underwater Adventures Exhibit at Museum of Discovery and Science
DESCRIPTION:Ahoy\, adventurers! “Seas” the day and plunge into the mysteries of the ocean as Voyage to the Deep – Underwater Adventures presented by Joe DiMaggio Children’s Hospital makes a splash at the Museum of Discovery and Science (MODS) from January 26 – May 19\, 2024.\nDiscover Jules Verne’s mythical world of 20\,000 Leagues Under the Sea by diving into the Cabinet of Curiosities\, where you’ll come face-to-face with the most bizarre and awe-inspiring marine specimens imaginable! Then\, channel your inner explorer and tinker with the groundbreaking gadgets and gizmos that made Admiral Peary and Matthew Henson Arctic legends during the early 1900s. Explore the lost world of Atlantis and the octopus’s garden\, slide down an “escape hatch\,” wander through the seaweed maze in the kelp forest and hunt for treasure in the wreck of the Spanish galleon. \nThe exhibition presents fantasy and facts\, allowing guests to explore Verne’s imaginary world and the real-life wonders of ocean exploration. Designed to provide a range of interactive experiences\, the exhibition includes full-body interactions\, mechanical and electro-mechanical exhibits\, interactive projections and touchscreens. \nAssemble your crew\, gather your sea legs and join us for a once-in-a- lifetime oceanic odyssey that’ll make your wildest nautical dreams come true! The Voyage to the Deep exhibition was created and developed by the Australian National Maritime Museum\, an Australian Government entity. Flying Fish manages the exhibit tour. \nExperience South Florida’s award-winning attraction featuring 150\,000 square feet of dynamic science exhibits\, an outdoor science park\, a live animal collection\, a rotating schedule of science shows\, learning labs\, café\, store\, and a grand atrium featuring the Great Gravity Clock\, a 52-foot-tall kinetic energy sculpture; the largest clock in Florida. The showpiece of the museum since 1993\, this unique timepiece is one of only three in the world.\nExhibit included with admission. Get tickets by visiting mods.org/tickets.\nFor more information\, visit mods.org or call (954) 467-MODS (6637). Like us and follow us on social media at Facebook: facebook.com/modsftl\, Twitter: twitter.com/modsftl and Instagram: instagram.com/modsftl. \n# # #
URL:https://thepbmoms.com/event/voyage-to-the-deep-underwater-adventures-exhibit-at-museum-of-discovery-and-science/
LOCATION:Museum of Discovery and Science\, 401 SW 2nd St.\, Fort Lauderdale\, 33312
CATEGORIES:Just for Kids
ATTACH;FMTTYPE=image/png:https://thepbmoms.com/wp-content/uploads/2024/01/Voyage-to-the-Deep-Graphic.png
ORGANIZER;CN="Museum of Discovery and Science":MAILTO:booking@mods.org
END:VEVENT
BEGIN:VEVENT
DTSTART;TZID=UTC:20240126T112000
DTEND;TZID=UTC:20241201T170000
DTSTAMP:20260422T004102
CREATED:20231229T203554Z
LAST-MODIFIED:20231229T203554Z
UID:10016705-1706268000-1733072400@thepbmoms.com
SUMMARY:Blue Whales: Return of the Giants Premieres at the AutoNation® IMAX® 3D Theater at the Museum of Discovery and Science
DESCRIPTION:The AutoNation® IMAX® 3D Theater at the Museum of Discovery and Science (MODS) will premiere Blue Whales: Return of the Giants starting on January 26\, 2024. The first giant-screen film on the subject\, Blue Whales\, was produced by Oceanic Films in collaboration with Howard Hughes Medical Institute (HHMI) Tangled Bank Studios and SK Films and funded by the National Science Foundation (NSF). MODS is one of only a few Florida theaters with screens large enough to display life-sized blue whales. \nBlue Whales: Return of the Giants introduces audiences to the endangered species\, which is not widely understood despite its status as the largest animal to have ever existed. Through two scientific expeditions\, the film shows stunning footage of blue whale feeding habits\, long-distance communication and mother-calf relationships. One expedition focuses on the search for a missing blue whale population off the coast of the Seychelles Islands in the Indian Ocean while the other expedition joins marine biologist Diane Gendron\, also known as the “Blue Whale Whisperer\,” in the Gulf of California to observe whale families. \nNarrated by award-winning actor Andy Serkis\, scored by Academy Award-winner Steven Price\, and presented in 3D\, Blue Whales will immerse audiences in the ocean alongside the massive blue whales and other species such as dolphins\, sperm whales\, sea lions and orcas. \nThe documentary also features research from local marine biologist Jeremy Kiszka\, professor of biology at Florida International University in Miami\, Florida. Dr. Kiszka studies the ecology and behavior of cetaceans (whales and dolphins) in tropical marine ecosystems around the globe\, particularly in the Caribbean\, along the coasts of Florida and in the Indian Ocean. \nTo view the trailer\, please visit BlueWhalesfilm.com. \nThe AutoNation® IMAX® Theater at the Museum of Discovery and Science is located at 401 SW 2nd Street in Fort Lauderdale. Blue Whales: Return of the Giants is included in the MODS Discovery Pass\, an all-in-one ticket that includes Museum exhibitions\, live science demonstrations and one IMAX documentary film. For tickets\, please visit mods.org/tickets and for showtimes\, please visit mods.org/showtimes.
URL:https://thepbmoms.com/event/blue-whales-return-of-the-giants-premieres-at-the-autonation-imax-3d-theater-at-the-museum-of-discovery-and-science/
LOCATION:museum of science and discovery\, 401 sw 2nd street\, Fort Lauderdale\, 33312
ATTACH;FMTTYPE=image/png:https://thepbmoms.com/wp-content/uploads/2023/12/Blue-Whales1080-x-1080-px.png
ORGANIZER;CN="museum of science and discovery":MAILTO:marketing@mods.org
END:VEVENT
BEGIN:VEVENT
DTSTART;TZID=UTC:20240204T100000
DTEND;TZID=UTC:20240229T160000
DTSTAMP:20260422T004102
CREATED:20240126T161413Z
LAST-MODIFIED:20240126T161413Z
UID:10019581-1707040800-1709222400@thepbmoms.com
SUMMARY:“Black Art\, Black Artists Shaping Tomorrow’s History” Dillard Center for The Arts Exhibit at History Fort Lauderdale”
DESCRIPTION:“Black Art\, Black Artists Shaping Tomorrow’s History\,” a new fine art exhibit\, will anchor History Fort Lauderdale’s Black History Month showcase. An annual homage\, this new installment will feature works for show and sale from Dillard Center for the Arts’ Advanced Placement (AP) students and instructors\, from February 4 – 29. Curated by Dillard instructor Celestin Joseph\, the exhibit of photography and studio art features creative re-imaginings and reflections of historical Black leaders\, community icons\, and hometown heroes. A meet and greet with the artists will take place on Sunday\, February 4\, at 1 p.m.\, at the New River Inn Museum of History building on History Fort Lauderdale’s campus. \n“Black Art\, Black Artists Shaping Tomorrow’s History\,” will highlight a variety of styles and mediums reflecting African American culture\, history and the arts as viewed through the lens of 12 youth. Featured pieces in the exhibition include works by AP students Selene Michel and Timothy Graham. \nJoseph received his master’s in fine arts in painting from the University of Pennsylvania. He received a bachelor’s in fine arts\, cum laude\, from the University of Hartford as a painting major\, with an art history minor\, and concentrations in printmaking and graphic design studies. Joseph also received a prestigious Yale/Norfolk Art and Music Scholarship to further his studies. Currently\, he is teaching Advanced Placement studio art classes at his alma mater Dillard Center for the Arts where he has been strengthening the visual arts program since 1999. \nHistory Fort Lauderdale\, proud steward of our community’s past by making our heritage accessible and engaging to residents and visitors\, hosts a variety of engaging multicultural experiences\, year-round. It seeks to bring awareness to the community through both traveling exhibits and multiple permanent exhibits including “Women Trailblazers\,” “Fort Lauderdale – the Early Years\,” “The African American Experience\,” “Fashion & Musical Theatre\,” “From Dugouts to Dream Yachts: the story of boatbuilding along the New River\,” Seminole Arts & Culture\,” “New River Archaeology\,” “Viva Fort Lauderdale: Celebrating Hispanic Art & Culture\,” and\, most recently\, “Take PRIDE\, a retrospective on LGBTQ life in South Florida.” The nonprofit museum also hosts an artists’ collective collaborative space. \n“Black Art\, Black Artists Shaping Tomorrow’s History” is sponsored by the following funds at the Community Foundation of Broward: Jan and Ed Crocker Unrestricted Fund\, Leo M. and Alice J. Rutten Fund and The Frederick A. DeLuca Foundation Broward Community Fund. Additional funding is provided\, in part\, by Broward County Board of County Commissioners as recommended by the Broward County Cultural Council\, and Visit Lauderdale. This organization is also sponsored by the State of Florida\, Department of State\, Division of Arts & Culture. \nHistory Fort Lauderdale is open seven days a week from 10 a.m. – 4 p.m. with docent guided tours\, daily\, at 1\, 2 and 3 p.m. Group walking tours are available upon special request. Admission is $15 for adults; $12 for seniors and $7 for students (through age 22 with a valid student ID). Admission is free for members\, military and children ages six and under. Tickets are available online at HistoryFortLauderdaleTickets. \nFor more information about History Fort Lauderdale\, please call (954) 463-4431 or visit us online at historyfortlauderdale.org. Follow us on Facebook at facebook.com/ftlhistory\, on Instagram @ftlhistory and on Twitter @FTLHistory. Subscribe to us on YouTube at youtube.com/user/FTLhistory.
URL:https://thepbmoms.com/event/black-art-black-artists-shaping-tomorrows-history-dillard-center-for-the-arts-exhibit-at-history-fort-lauderdale/
LOCATION:New River Inn\, 231 SW Second Avenue\, Fort Lauderdale\, 33301
ATTACH;FMTTYPE=image/jpeg:https://thepbmoms.com/wp-content/uploads/2024/01/Dillard-Social-2024-No-Meet-Greet.jpg
ORGANIZER;CN="History Fort Lauderdale":MAILTO:info@flhc.org
END:VEVENT
BEGIN:VEVENT
DTSTART;TZID=UTC:20240216T113000
DTEND;TZID=UTC:20250215T220000
DTSTAMP:20260422T004102
CREATED:20240216T192126Z
LAST-MODIFIED:20240216T192126Z
UID:10020311-1708083000-1739656800@thepbmoms.com
SUMMARY:Cities of the Future at the AutoNation® IMAX® 3D Theater at the Museum of Discovery and Science
DESCRIPTION:Step into the future and discover the exciting innovations transforming our world with Cities of the Future\, now playing in the AutoNation® IMAX® 3D Theater at the Museum of Discovery and Science (MODS). Narrated by award-winning actor John Krasinski\, Cities of the Future highlights the creative solutions engineers are designing right now to meet the challenges of a changing world and forge a brighter\, more sustainable future. \nFrom electric flying cars and aerial highways to smart buildings\, greener infrastructure and solar power beamed from space\, Cities of the Future offers an inspiring vision of how we will live 50 years from now\, combining state-of-the-art CGI with live-action cinematography. The film also looks at modern urban landscapes in the midst of transformation\, revealing profound changes already happening in some of the world’s greatest cities\, from Los Angeles to Amsterdam to Singapore. \nCities of the Future also introduces viewers to a team of middle school students participating in the Future City Competition\, an annual contest where 60\,000 middle school students from the U.S. and around the world compete to create a model future city. \nCities of the Future is produced by MacGillivray Freeman Films in partnership with the American Society of Civil Engineers (ASCE)\, the same team that created the blockbuster giant screen documentary Dream Big: Engineering Our World. \nTo view the trailer\, please visit citiesofthefuturefilm.com. \nThe AutoNation® IMAX® Theater at the Museum of Discovery and Science is located at 401 SW 2nd Street in Fort Lauderdale. Cities of the Future is included in the MODS Discovery Pass\, an all-in-one ticket that includes Museum exhibitions\, live science demonstrations and one IMAX documentary film. For tickets\, please visit mods.org/tickets and for showtimes\, please visit mods.org/showtimes.
URL:https://thepbmoms.com/event/cities-of-the-future-at-the-autonation-imax-3d-theater-at-the-museum-of-discovery-and-science/
LOCATION:Museum of Discovery and Science\, 401 SW 2nd St.\, Fort Lauderdale\, 33312
CATEGORIES:Just for Kids,Parents
ATTACH;FMTTYPE=image/png:https://thepbmoms.com/wp-content/uploads/2024/02/Cities-of-the-Future-with-Logo.png
ORGANIZER;CN="Museum of Discovery and Science":MAILTO:booking@mods.org
END:VEVENT
BEGIN:VEVENT
DTSTART;TZID=UTC:20240216T150000
DTEND;TZID=UTC:20240303T190000
DTSTAMP:20260422T004102
CREATED:20240203T015435Z
LAST-MODIFIED:20240207T184248Z
UID:10019612-1708095600-1709492400@thepbmoms.com
SUMMARY:The Downtown Classic at Downtown Palm Beach Gardens
DESCRIPTION:Join Downtown Palm Beach Gardens at their Downtown Classic. Enjoy a complimentary game of putt-putt golf when you show a receipt from any restaurant or retailer at Downtown Palm Beach Gardens or make a cash donation to benefit Els for Autism. Registration is located in the Alleyway next to Whole Foods. \nGorilla Rides is a proud sponsor of The Downtown Classic. \nWhere: Downtown Palm Beach Gardens\, 11701 Lake Victoria Gardens Ave\, Palm Beach Gardens\, FL 33410\nWhen: February 16th – March 3rd\nTime:\n-Monday – Thursday: 3PM-7PM\n-Friday – Sunday: 1PM – 8PM
URL:https://thepbmoms.com/event/the-downtown-classic-at-downtown-palm-beach-gardens/
LOCATION:Downtown Palm Beach Gardens\, 11701 Lake Victoria Gardens Ave\, Downtown Palm Beach Gardens\, 33410
ATTACH;FMTTYPE=image/png:https://thepbmoms.com/wp-content/uploads/2024/02/DPBG-The-Downtown-Classic-2024.png
END:VEVENT
BEGIN:VEVENT
DTSTART;TZID=UTC:20240229T090000
DTEND;TZID=UTC:20240229T140000
DTSTAMP:20260422T004102
CREATED:20240205T161003Z
LAST-MODIFIED:20240205T161003Z
UID:10019976-1709197200-1709215200@thepbmoms.com
SUMMARY:Daytime Playtime
DESCRIPTION:The mamas spoke up\, and we listened!\n\nJoin us weekly for a casual play date on the lawn featuring water tables\, hula hoops\, lawn games and more. Bring your towels for post-splashing in Water Pavilion West Palm and pack your lawn blankets for shady enjoyment! Ideal for little ones 5 and under\, and all ages welcome. \nPlease note: no diapers in fountain please; if changing needs to occur\, please use public restrooms. \n\n\n\nEvery Wednesday\, Thursday and Friday from 9AM-2PM \n 
URL:https://thepbmoms.com/event/daytime-playtime/2024-02-29/
LOCATION:The Square\, 700 South Rosemary Avenue\, West Palm Beach\, FL\, 33401
END:VEVENT
BEGIN:VEVENT
DTSTART;TZID=UTC:20240229T093000
DTEND;TZID=UTC:20240229T100000
DTSTAMP:20260422T004102
CREATED:20240104T181718Z
LAST-MODIFIED:20240104T181718Z
UID:10019327-1709199000-1709200800@thepbmoms.com
SUMMARY:Story Time at the River Center
DESCRIPTION:Join the River Center inside in our classroom for our weekly Story time!\nGather around as we read various stories and provide an up-close encounter with one of our resident animal ambassadors.\nChildren ages 0-6 are welcome to attend.\nThis is a free program and no RSVP is required.\nWe hope to see you there!
URL:https://thepbmoms.com/event/story-time-at-the-river-center-4/
LOCATION:River Center\, 805 N US Highway 1\, Jupiter\, 33477
CATEGORIES:Baby,Free,Toddler
ATTACH;FMTTYPE=image/jpeg:https://thepbmoms.com/wp-content/uploads/2024/01/story-time.jpg
ORGANIZER;CN="River Center":MAILTO:rivercenter@lrecd.org
END:VEVENT
BEGIN:VEVENT
DTSTART;TZID=UTC:20240229T103000
DTEND;TZID=UTC:20240229T110000
DTSTAMP:20260422T004102
CREATED:20240204T181040Z
LAST-MODIFIED:20240204T181104Z
UID:10019822-1709202600-1709204400@thepbmoms.com
SUMMARY:Rhythm & Hues Music Class up to age 5
DESCRIPTION:For families with babies and children up to age 5. Join the creative staff from Rhythm & Hues Children’s Art & Music Center for a joyful time of music\, singing\, dancing\, instruments\, friendship\, and family. Space is limited\, and in-person sign-up begins in KidSpace at 10 a.m. for the 10:30 a.m. classes and at 10:30 a.m. for the 11 a.m. class. For more information\, visit wpbcitylibrary.org or call (561) 868-7703.\n\n  \n\n\nDate:\nThursday\, February 8\, 2024  Show more dates \nThursday\, February 15\, 2024\nThursday\, February 22\, 2024\nThursday\, February 29\, 2024\nThursday\, March 7\, 2024\nThursday\, March 14\, 2024\nThursday\, March 21\, 2024\nThursday\, March 28\, 2024\nThursday\, April 4\, 2024\nThursday\, April 11\, 2024\nThursday\, April 18\, 2024\nThursday\, April 25\, 2024\nThursday\, May 2\, 2024\nThursday\, May 9\, 2024\nThursday\, May 16\, 2024\nThursday\, May 23\, 2024 \n\nTime:\n10:30am – 11:00am\nLocation:\nKids Programming Space
URL:https://thepbmoms.com/event/rhythm-hues-music-class/2024-02-29/
LOCATION:Mandel Public Library\, 411 Clematis\, West Palm Beach\, FL\, 33401
END:VEVENT
BEGIN:VEVENT
DTSTART;TZID=UTC:20240229T104500
DTEND;TZID=UTC:20240229T110000
DTSTAMP:20260422T004102
CREATED:20240101T221421Z
LAST-MODIFIED:20240101T222831Z
UID:10017550-1709203500-1709204400@thepbmoms.com
SUMMARY:Touch Tank Demonstrations
DESCRIPTION:Touch Tank Demonstrations \nDaily demonstrations at 10:45am
URL:https://thepbmoms.com/event/touch-tank-demonstrations/2024-02-29/
LOCATION:Cox Science Center\, 4801 Dreher Trail North\, Weest Palm Beach\, FL\, 33405
ATTACH;FMTTYPE=image/png:https://thepbmoms.com/wp-content/uploads/2024/01/Untitled-design.png
END:VEVENT
BEGIN:VEVENT
DTSTART;TZID=UTC:20240229T150000
DTEND;TZID=UTC:20240229T153000
DTSTAMP:20260422T004102
CREATED:20230901T163322Z
LAST-MODIFIED:20230901T163322Z
UID:10012848-1709218800-1709220600@thepbmoms.com
SUMMARY:Crafts for Kids
DESCRIPTION:Crafts for Kids (Up to Age 7)\nEvery Thursday / 3:00 p.m.\n\n\n\nJoin us for weekly crafts at the library! We offer a new craft every week\, we recommended these crafts for up to age seven.
URL:https://thepbmoms.com/event/crafts-for-kids/2024-02-29/
LOCATION:North Palm Beach Library\, 501 US Highway 1\, North Palm Beach\, FL\, 33408
END:VEVENT
END:VCALENDAR