BEGIN:VCALENDAR
VERSION:2.0
PRODID:-//Palm Beach Moms - ECPv6.15.20//NONSGML v1.0//EN
CALSCALE:GREGORIAN
METHOD:PUBLISH
X-WR-CALNAME:Palm Beach Moms
X-ORIGINAL-URL:https://thepbmoms.com
X-WR-CALDESC:Events for Palm Beach Moms
REFRESH-INTERVAL;VALUE=DURATION:PT1H
X-Robots-Tag:noindex
X-PUBLISHED-TTL:PT1H
BEGIN:VTIMEZONE
TZID:UTC
BEGIN:STANDARD
TZOFFSETFROM:+0000
TZOFFSETTO:+0000
TZNAME:UTC
DTSTART:20230101T000000
END:STANDARD
END:VTIMEZONE
BEGIN:VEVENT
DTSTART;VALUE=DATE:20240112
DTEND;VALUE=DATE:20240129
DTSTAMP:20260421T232711
CREATED:20240109T000854Z
LAST-MODIFIED:20240109T000854Z
UID:10019350-1705017600-1706486399@thepbmoms.com
SUMMARY:South Florida Fair
DESCRIPTION:WHAT MAKES US UNIQUE?\nAll-new and different activities and experiences each year! Since 1993\, the themed expositions produced every year during the South Florida Fair are one of the most popular attractions of the 17-day event.\n\n\n\n\n\n\n\n\n\n\n\n\n\n\n\n\nJoin us in January as we DIVE INTO THE FUN and celebrate ocean and marine wildlife! See a live shark show\, get up-close with sea lions\, walk-through an immersive underwater experience and interact with local organizations that educate our community on how to keep the oceans healthy\, clean and thriving!
URL:https://thepbmoms.com/event/south-florida-fair/
LOCATION:south florida fairgrounds\, 9067 Southern Boulevard\, West Palm Beach\, 33411
ATTACH;FMTTYPE=image/png:https://thepbmoms.com/wp-content/uploads/2024/01/SEA_YOU_THERE_1.png
END:VEVENT
BEGIN:VEVENT
DTSTART;TZID=UTC:20240119T100000
DTEND;TZID=UTC:20240519T170000
DTSTAMP:20260421T232711
CREATED:20240120T002459Z
LAST-MODIFIED:20240120T002459Z
UID:10019431-1705658400-1716138000@thepbmoms.com
SUMMARY:Voyage to the Deep - Underwater Adventures Exhibit at Museum of Discovery and Science
DESCRIPTION:Ahoy\, adventurers! “Seas” the day and plunge into the mysteries of the ocean as Voyage to the Deep – Underwater Adventures presented by Joe DiMaggio Children’s Hospital makes a splash at the Museum of Discovery and Science (MODS) from January 26 – May 19\, 2024.\nDiscover Jules Verne’s mythical world of 20\,000 Leagues Under the Sea by diving into the Cabinet of Curiosities\, where you’ll come face-to-face with the most bizarre and awe-inspiring marine specimens imaginable! Then\, channel your inner explorer and tinker with the groundbreaking gadgets and gizmos that made Admiral Peary and Matthew Henson Arctic legends during the early 1900s. Explore the lost world of Atlantis and the octopus’s garden\, slide down an “escape hatch\,” wander through the seaweed maze in the kelp forest and hunt for treasure in the wreck of the Spanish galleon. \nThe exhibition presents fantasy and facts\, allowing guests to explore Verne’s imaginary world and the real-life wonders of ocean exploration. Designed to provide a range of interactive experiences\, the exhibition includes full-body interactions\, mechanical and electro-mechanical exhibits\, interactive projections and touchscreens. \nAssemble your crew\, gather your sea legs and join us for a once-in-a- lifetime oceanic odyssey that’ll make your wildest nautical dreams come true! The Voyage to the Deep exhibition was created and developed by the Australian National Maritime Museum\, an Australian Government entity. Flying Fish manages the exhibit tour. \nExperience South Florida’s award-winning attraction featuring 150\,000 square feet of dynamic science exhibits\, an outdoor science park\, a live animal collection\, a rotating schedule of science shows\, learning labs\, café\, store\, and a grand atrium featuring the Great Gravity Clock\, a 52-foot-tall kinetic energy sculpture; the largest clock in Florida. The showpiece of the museum since 1993\, this unique timepiece is one of only three in the world.\nExhibit included with admission. Get tickets by visiting mods.org/tickets.\nFor more information\, visit mods.org or call (954) 467-MODS (6637). Like us and follow us on social media at Facebook: facebook.com/modsftl\, Twitter: twitter.com/modsftl and Instagram: instagram.com/modsftl. \n# # #
URL:https://thepbmoms.com/event/voyage-to-the-deep-underwater-adventures-exhibit-at-museum-of-discovery-and-science/
LOCATION:Museum of Discovery and Science\, 401 SW 2nd St.\, Fort Lauderdale\, 33312
CATEGORIES:Just for Kids
ATTACH;FMTTYPE=image/png:https://thepbmoms.com/wp-content/uploads/2024/01/Voyage-to-the-Deep-Graphic.png
ORGANIZER;CN="Museum of Discovery and Science":MAILTO:booking@mods.org
END:VEVENT
BEGIN:VEVENT
DTSTART;TZID=UTC:20240126T112000
DTEND;TZID=UTC:20241201T170000
DTSTAMP:20260421T232711
CREATED:20231229T203554Z
LAST-MODIFIED:20231229T203554Z
UID:10016705-1706268000-1733072400@thepbmoms.com
SUMMARY:Blue Whales: Return of the Giants Premieres at the AutoNation® IMAX® 3D Theater at the Museum of Discovery and Science
DESCRIPTION:The AutoNation® IMAX® 3D Theater at the Museum of Discovery and Science (MODS) will premiere Blue Whales: Return of the Giants starting on January 26\, 2024. The first giant-screen film on the subject\, Blue Whales\, was produced by Oceanic Films in collaboration with Howard Hughes Medical Institute (HHMI) Tangled Bank Studios and SK Films and funded by the National Science Foundation (NSF). MODS is one of only a few Florida theaters with screens large enough to display life-sized blue whales. \nBlue Whales: Return of the Giants introduces audiences to the endangered species\, which is not widely understood despite its status as the largest animal to have ever existed. Through two scientific expeditions\, the film shows stunning footage of blue whale feeding habits\, long-distance communication and mother-calf relationships. One expedition focuses on the search for a missing blue whale population off the coast of the Seychelles Islands in the Indian Ocean while the other expedition joins marine biologist Diane Gendron\, also known as the “Blue Whale Whisperer\,” in the Gulf of California to observe whale families. \nNarrated by award-winning actor Andy Serkis\, scored by Academy Award-winner Steven Price\, and presented in 3D\, Blue Whales will immerse audiences in the ocean alongside the massive blue whales and other species such as dolphins\, sperm whales\, sea lions and orcas. \nThe documentary also features research from local marine biologist Jeremy Kiszka\, professor of biology at Florida International University in Miami\, Florida. Dr. Kiszka studies the ecology and behavior of cetaceans (whales and dolphins) in tropical marine ecosystems around the globe\, particularly in the Caribbean\, along the coasts of Florida and in the Indian Ocean. \nTo view the trailer\, please visit BlueWhalesfilm.com. \nThe AutoNation® IMAX® Theater at the Museum of Discovery and Science is located at 401 SW 2nd Street in Fort Lauderdale. Blue Whales: Return of the Giants is included in the MODS Discovery Pass\, an all-in-one ticket that includes Museum exhibitions\, live science demonstrations and one IMAX documentary film. For tickets\, please visit mods.org/tickets and for showtimes\, please visit mods.org/showtimes.
URL:https://thepbmoms.com/event/blue-whales-return-of-the-giants-premieres-at-the-autonation-imax-3d-theater-at-the-museum-of-discovery-and-science/
LOCATION:museum of science and discovery\, 401 sw 2nd street\, Fort Lauderdale\, 33312
ATTACH;FMTTYPE=image/png:https://thepbmoms.com/wp-content/uploads/2023/12/Blue-Whales1080-x-1080-px.png
ORGANIZER;CN="museum of science and discovery":MAILTO:marketing@mods.org
END:VEVENT
BEGIN:VEVENT
DTSTART;VALUE=DATE:20240127
DTEND;VALUE=DATE:20240128
DTSTAMP:20260421T232711
CREATED:20230607T025104Z
LAST-MODIFIED:20230607T025104Z
UID:10007500-1706313600-1706399999@thepbmoms.com
SUMMARY:Wildlife Encounters
DESCRIPTION:Wildlife Encounters \n\n\nMon – Fri: 3pm \nSat: 11AM and 2:30PM \n\nCome sit in our Cypress Amphitheater for a wildlife encounter and see native Florida animals up close! Wildlife Encounters are held daily and each program is different so you never know what you might see. With the help of our educational animal ambassadors\, learn all about their biology\, habitats\, and conservation efforts. We are open Monday through Saturday 10am-4:30pm and run on your donations. Come by today!
URL:https://thepbmoms.com/event/wildlife-encounters/2024-01-27/
LOCATION:Busch Wildlife\, 17855 Rocky Pines Road\, Jupiter\, FL\, 33478
END:VEVENT
BEGIN:VEVENT
DTSTART;VALUE=DATE:20240127
DTEND;VALUE=DATE:20240128
DTSTAMP:20260421T232711
CREATED:20230626T194651Z
LAST-MODIFIED:20230626T194651Z
UID:10010112-1706313600-1706399999@thepbmoms.com
SUMMARY:Half price for Heroes
DESCRIPTION:
URL:https://thepbmoms.com/event/half-price-for-heroes/2024-01-27/
LOCATION:Cox Science Center\, 4801 Dreher Trail North\, Weest Palm Beach\, FL\, 33405
CATEGORIES:The Whole Family
END:VEVENT
BEGIN:VEVENT
DTSTART;VALUE=DATE:20240127
DTEND;VALUE=DATE:20240128
DTSTAMP:20260421T232711
CREATED:20231114T023015Z
LAST-MODIFIED:20231114T023015Z
UID:10016637-1706313600-1706399999@thepbmoms.com
SUMMARY:The Boy Who Cried Wolf
DESCRIPTION:Inspired by the famous Aesop fable this wonderful play has a gifted ensemble of actor musicians who play the endearing characters\, the hilarious sheep and perhaps a scary wolf or two!\n\n\nPersson Hall performances are sensory-friendly. \nSeries sponsored by The Stiller Family Foundation
URL:https://thepbmoms.com/event/the-boy-who-cried-wolf/
LOCATION:Kravis Center for the Performing Arts\, 701 Okeechobee Blvd.\, West Palm Beach\, FL\, 33401
ATTACH;FMTTYPE=image/jpeg:https://thepbmoms.com/wp-content/uploads/2023/11/The-Boy-who-Cried_610-x-9003.jpg
END:VEVENT
BEGIN:VEVENT
DTSTART;TZID=UTC:20240127T080000
DTEND;TZID=UTC:20240127T170000
DTSTAMP:20260421T232711
CREATED:20231214T195925Z
LAST-MODIFIED:20231214T195925Z
UID:10016684-1706342400-1706374800@thepbmoms.com
SUMMARY:Intro to Volunteering
DESCRIPTION:Do you have a passion for the environment? Do you enjoy interacting and educating the public? \nThe River Center is looking for enthusiastic and personable volunteers to join our River Center team! \nIndividuals 14+ are invited to attend the next Intro to Volunteering workshop from 1:00 PM – 2:00 PM. \nFor questions or application information please contact our Volunteer Coordinator Rebecca Patterson at 561-339-3107 or Volunteer@Lrecd.org
URL:https://thepbmoms.com/event/intro-to-volunteering/2024-01-27/
LOCATION:River Center\, 805 N US Highway 1\, Jupiter\, 33477
CATEGORIES:Free,Teen
ATTACH;FMTTYPE=image/png:https://thepbmoms.com/wp-content/uploads/2023/12/volunteering.png
ORGANIZER;CN="River Center":MAILTO:rivercenter@lrecd.org
END:VEVENT
BEGIN:VEVENT
DTSTART;TZID=UTC:20240127T090000
DTEND;TZID=UTC:20240127T130000
DTSTAMP:20260421T232711
CREATED:20230607T024346Z
LAST-MODIFIED:20230706T205842Z
UID:10005674-1706346000-1706360400@thepbmoms.com
SUMMARY:Grandview Public Market’s Weekly Farmers Market
DESCRIPTION:Get ready for Grandview Public Market’s Weekly Farmers Market on the Loading Dock! Join us every Saturday on the Loading Dock from 9 am to 1 pm\, to explore a delightful assortment of local produce and artisanal food offerings\, handpicked by local Head Chef\, Jean-Marc Hardy. Dive into West Palm Beach’s thriving culinary scene while backing local vendors\, farmers\, and small businesses in a friendly and inviting environment.
URL:https://thepbmoms.com/event/grandview-public-markets-weekly-farmers-market/2024-01-27/
LOCATION:Grandview Public\, 1401 Clare Ave\, West Palm Beach\, FL\, 33401
CATEGORIES:Free
END:VEVENT
BEGIN:VEVENT
DTSTART;TZID=UTC:20240127T100000
DTEND;TZID=UTC:20240127T120000
DTSTAMP:20260421T232711
CREATED:20230908T004736Z
LAST-MODIFIED:20230928T214720Z
UID:10013504-1706349600-1706356800@thepbmoms.com
SUMMARY:Kids Fishing Program
DESCRIPTION:$15 registration required \n\n\n\n\n\n\n\n\n\n\nParticipants will learn basic techniques for fishing including knot tying\, casting\, fish handling\, and proper catch-and-release techniques.\nIn addition to fishing skills\, participants are taught to be responsible anglers and discover how to reduce their impact on marine life. Fish caught during this program will always be released. All fishing equipment and bait is provided. Participants will receive a Responsible Anglers Certificate following their completion of the program. Please see details during registration for recommended items to bring. \nNOTE: this program meets at the Juno Beach Pier. Please meet your program leaders at the picnic tables in front of the Juno Pier Bait House for check-in. \n\n\n\n\n\n\n\n\n\n\n 
URL:https://thepbmoms.com/event/kids-fishing-program/2024-01-27/
LOCATION:Loggerhead Marine Life Center\, 14200 U.S. Highway 1\, Juno Beach\, FL\, 33408
END:VEVENT
BEGIN:VEVENT
DTSTART;TZID=UTC:20240127T100000
DTEND;TZID=UTC:20240127T140000
DTSTAMP:20260421T232711
CREATED:20231211T202330Z
LAST-MODIFIED:20231211T202330Z
UID:10016665-1706349600-1706364000@thepbmoms.com
SUMMARY:Schoolhouse Children's Museum - Family Fun Day
DESCRIPTION:Family Fun Day is a dynamic community event held at Centennial Park in Boynton Beach. It’s a day filled with a wide array of cultural experiences tailored for young children and their families. Attendees can enjoy captivating stage performances by local performers\, and a variety of free activities away from the main stage\, including\, storytelling\, and magic shows. The event also features Princess Tea Party and Superhero Slime Lab sessions with fictional and real superheroes\, along with opportunities for families to explore booths from local arts\, and culture organizations. From face-painting to inflatable attractions and a community art wall\, there’s something for everyone.
URL:https://thepbmoms.com/event/schoolhouse-childrens-museum-family-fun-day/
LOCATION:Centennial Park & Amphitheater\, 120 East Ocean Avenue\, Boynton Beach\, FL
CATEGORIES:Free,Just for Kids,Toddler
ATTACH;FMTTYPE=image/png:https://thepbmoms.com/wp-content/uploads/2023/12/Grey-Winter-New-Collection-Fashion-Website-Banner-1.png
ORGANIZER;CN="Schoolhouse Children's Museum":MAILTO:info@schoolhousemuseum.org
END:VEVENT
BEGIN:VEVENT
DTSTART;TZID=UTC:20240127T100000
DTEND;TZID=UTC:20240128T170000
DTSTAMP:20260421T232711
CREATED:20240108T232231Z
LAST-MODIFIED:20240108T232231Z
UID:10019343-1706349600-1706461200@thepbmoms.com
SUMMARY:LEGO® Weekend at the Museum of Discovery and Science
DESCRIPTION:Unleash your imagination\, ignite your natural curiosity\, and inspire endless adventures celebrating International LEGO® Day at MODS!\nBuild the change to solve real-world challenges with LEGO® bricks. Have fun constructing a Rube Goldberg machine and other Makerspace activities. Even the littlest builders (ages 0-6) can join the LEGO® Coding dance party and create their own habitats. It’s a day of creativity\, innovation\, and endless fun! Included with Museum admission.\nKids can also surf the wave of excitement at MODS with Voyage to the Deep\, a new traveling exhibit. “Seas” the day and embark on the legendary Nautilus submarine with Captain Nemo for an interactive journey of underwater exploration! \nDiscover Jules Verne’s mythical world of 20\,000 Leagues Under the Sea by diving into the Cabinet of Curiosities\, where you’ll come face-to-face with the most bizarre and awe-inspiring marine specimens imaginable! Then\, channel your inner explorer and tinker with the groundbreaking gadgets and gizmos that made Admiral Peary and Matthew Henson Arctic legends during the early 1900s. Assemble your crew\, gather your sea legs and join us for a once-in-a- lifetime oceanic odyssey that’ll make your wildest nautical dreams come true! The Voyage to the Deep exhibition was created and developed by the Australian National Maritime Museum\, an Australian Government entity. Flying Fish manages the exhibit tour. \nExperience South Florida’s award-winning attraction featuring 150\,000 square feet of dynamic science exhibits\, an outdoor science park\, a live animal collection\, a rotating schedule of science shows\, learning labs\, café\, store and a grand atrium featuring the Great Gravity Clock\, a 52-foot-tall kinetic energy sculpture; the largest clock in Florida. The showpiece of the museum since 1993\, this unique timepiece is one of only three in the world. \nGet tickets by visiting mods.org/tickets. \nFor more information\, visit mods.org or call (954) 467-MODS (6637). Like us and follow us on social media at Facebook: facebook.com/modsftl\, Twitter: twitter.com/modsftl and Instagram: instagram.com/modsftl. \n# # #
URL:https://thepbmoms.com/event/lego-weekend-at-the-museum-of-discovery-and-science/
LOCATION:Museum of Discovery and Science\, 401 SW 2nd St.\, Fort Lauderdale\, 33312
CATEGORIES:Just for Kids
ATTACH;FMTTYPE=image/png:https://thepbmoms.com/wp-content/uploads/2024/01/LEGO-Weekends-resized.png
ORGANIZER;CN="Museum of Discovery and Science":MAILTO:booking@mods.org
END:VEVENT
BEGIN:VEVENT
DTSTART;TZID=UTC:20240127T103000
DTEND;TZID=UTC:20240127T113000
DTSTAMP:20260421T232711
CREATED:20240105T180103Z
LAST-MODIFIED:20240105T180103Z
UID:10019334-1706351400-1706355000@thepbmoms.com
SUMMARY:The Happy Princess Club: Cinderella's Enchanted Adventure
DESCRIPTION:Step into Cinderella’s magical realm with The Happy Princess Club at Grandview Public Market! Gather in the Living Room on January 27th\, from 10:30 am to 11:30 am\, for an unforgettable morning of princess-themed delight.\nExciting Activities Include:\n>Princess Crown Crafting: Unleash your creativity\n>Classic Sing-alongs: Relive beloved tunes\n>Meet Cinderella: Exclusive photo opportunity\n>Location: The Living Room\, Grandview Public Market\n>Tickets: Required for kids only. Free entry for parents with a child’s ticket.
URL:https://thepbmoms.com/event/the-happy-princess-club-cinderellas-enchanted-adventure/
LOCATION:Grandview\, 1401 Clare Ave\, West Palm Beach\, FL\, 33401\, United States
CATEGORIES:Just for Kids,Parents,Toddler
ATTACH;FMTTYPE=image/jpeg:https://thepbmoms.com/wp-content/uploads/2024/01/Cinderella-2.jpg
ORGANIZER;CN="Grandview Public Market":MAILTO:hello@grandviewpublic.com
END:VEVENT
BEGIN:VEVENT
DTSTART;TZID=UTC:20240127T103000
DTEND;TZID=UTC:20240127T113000
DTSTAMP:20260421T232711
CREATED:20240120T211741Z
LAST-MODIFIED:20240120T211741Z
UID:10019437-1706351400-1706355000@thepbmoms.com
SUMMARY:Cinderella's Enchanted Adventure
DESCRIPTION:Step into Cinderella’s magical realm with The Happy Princess Club\, and Special Guest\, Tutu School of West Palm Beach\, at Grandview Public Market! Gather in the Living Room on January 27th\, from 10:30 am to 11:30 am\, for an unforgettable morning of princess-themed delight. \nExciting Activities Include:\nPrincess Crown Crafting: Unleash your creativity.\nClassic Sing-alongs: Relive beloved tunes.\nMeet Cinderella: Exclusive photo opportunity!\nPrincess Storybook Ballet with Tutu School.\nChance to WIN 3 months of complimentary enrollment in ballet classes at Tutu School. \nLocation: The Living Room\, Grandview Public Market
URL:https://thepbmoms.com/event/cinderellas-enchanted-adventure/
LOCATION:Grandview Public\, 1401 Clare Ave\, West Palm Beach\, FL\, 33401
ATTACH;FMTTYPE=image/jpeg:https://thepbmoms.com/wp-content/uploads/2024/01/Tutu-School-Event-Post-Jan-2024.jpg
ORGANIZER;CN="Tutu School":MAILTO:twirl@tutuschoolwestpalmbeach.com
END:VEVENT
BEGIN:VEVENT
DTSTART;TZID=UTC:20240127T104500
DTEND;TZID=UTC:20240127T110000
DTSTAMP:20260421T232711
CREATED:20240101T221421Z
LAST-MODIFIED:20240101T222831Z
UID:10017517-1706352300-1706353200@thepbmoms.com
SUMMARY:Touch Tank Demonstrations
DESCRIPTION:Touch Tank Demonstrations \nDaily demonstrations at 10:45am
URL:https://thepbmoms.com/event/touch-tank-demonstrations/2024-01-27/
LOCATION:Cox Science Center\, 4801 Dreher Trail North\, Weest Palm Beach\, FL\, 33405
ATTACH;FMTTYPE=image/png:https://thepbmoms.com/wp-content/uploads/2024/01/Untitled-design.png
END:VEVENT
BEGIN:VEVENT
DTSTART;TZID=UTC:20240127T110000
DTEND;TZID=UTC:20240127T113000
DTSTAMP:20260421T232711
CREATED:20230607T022553Z
LAST-MODIFIED:20230607T022553Z
UID:10004829-1706353200-1706355000@thepbmoms.com
SUMMARY:Storytime at Barnes and Noble
DESCRIPTION:Children’s Storytime is back!  We are excited to see everyone once again in our Children’s Department for Saturday morning storytime\, every Saturday at 11am.  Come join us!
URL:https://thepbmoms.com/event/storytime-at-barnes-and-noble/2024-01-27/
LOCATION:Barnes and Noble\, Palm Beach Gardens\, FL\, 33410
CATEGORIES:Baby,Free
END:VEVENT
BEGIN:VEVENT
DTSTART;TZID=UTC:20240127T120000
DTEND;TZID=UTC:20240127T123000
DTSTAMP:20260421T232711
CREATED:20230607T022832Z
LAST-MODIFIED:20230607T022832Z
UID:10005090-1706356800-1706358600@thepbmoms.com
SUMMARY:Storytime at Barnes and Noble
DESCRIPTION:Children’s Storytime is back!  We are excited to see everyone once again in our Children’s Department for Saturday morning storytime\, every Saturday at 11am.  Come join us!
URL:https://thepbmoms.com/event/storytime-at-barnes-and-noble-2/2024-01-27/
LOCATION:Barnes and Noble Boca Raton\, 1400 Glades Rd.\, Boca Raton\, FL\, 33431
CATEGORIES:Baby,Free
END:VEVENT
BEGIN:VEVENT
DTSTART;TZID=UTC:20240127T140000
DTEND;TZID=UTC:20240127T143000
DTSTAMP:20260421T232711
CREATED:20240101T220907Z
LAST-MODIFIED:20240101T220959Z
UID:10016718-1706364000-1706365800@thepbmoms.com
SUMMARY:Live Alligator Petting
DESCRIPTION:Live Alligator Petting \nFriday – Sunday Only at 2:00pm
URL:https://thepbmoms.com/event/live-alligator-petting/2024-01-27/
LOCATION:Cox Science Center\, 4801 Dreher Trail North\, Weest Palm Beach\, FL\, 33405
END:VEVENT
END:VCALENDAR