BEGIN:VCALENDAR
VERSION:2.0
PRODID:-//Palm Beach Moms - ECPv6.15.20//NONSGML v1.0//EN
CALSCALE:GREGORIAN
METHOD:PUBLISH
X-ORIGINAL-URL:https://thepbmoms.com
X-WR-CALDESC:Events for Palm Beach Moms
REFRESH-INTERVAL;VALUE=DURATION:PT1H
X-Robots-Tag:noindex
X-PUBLISHED-TTL:PT1H
BEGIN:VTIMEZONE
TZID:UTC
BEGIN:STANDARD
TZOFFSETFROM:+0000
TZOFFSETTO:+0000
TZNAME:UTC
DTSTART:20230101T000000
END:STANDARD
END:VTIMEZONE
BEGIN:VEVENT
DTSTART;VALUE=DATE:20240112
DTEND;VALUE=DATE:20240129
DTSTAMP:20260421T232703
CREATED:20240109T000854Z
LAST-MODIFIED:20240109T000854Z
UID:10019350-1705017600-1706486399@thepbmoms.com
SUMMARY:South Florida Fair
DESCRIPTION:WHAT MAKES US UNIQUE?\nAll-new and different activities and experiences each year! Since 1993\, the themed expositions produced every year during the South Florida Fair are one of the most popular attractions of the 17-day event.\n\n\n\n\n\n\n\n\n\n\n\n\n\n\n\n\nJoin us in January as we DIVE INTO THE FUN and celebrate ocean and marine wildlife! See a live shark show\, get up-close with sea lions\, walk-through an immersive underwater experience and interact with local organizations that educate our community on how to keep the oceans healthy\, clean and thriving!
URL:https://thepbmoms.com/event/south-florida-fair/
LOCATION:south florida fairgrounds\, 9067 Southern Boulevard\, West Palm Beach\, 33411
ATTACH;FMTTYPE=image/png:https://thepbmoms.com/wp-content/uploads/2024/01/SEA_YOU_THERE_1.png
END:VEVENT
BEGIN:VEVENT
DTSTART;TZID=UTC:20240119T100000
DTEND;TZID=UTC:20240519T170000
DTSTAMP:20260421T232703
CREATED:20240120T002459Z
LAST-MODIFIED:20240120T002459Z
UID:10019431-1705658400-1716138000@thepbmoms.com
SUMMARY:Voyage to the Deep - Underwater Adventures Exhibit at Museum of Discovery and Science
DESCRIPTION:Ahoy\, adventurers! “Seas” the day and plunge into the mysteries of the ocean as Voyage to the Deep – Underwater Adventures presented by Joe DiMaggio Children’s Hospital makes a splash at the Museum of Discovery and Science (MODS) from January 26 – May 19\, 2024.\nDiscover Jules Verne’s mythical world of 20\,000 Leagues Under the Sea by diving into the Cabinet of Curiosities\, where you’ll come face-to-face with the most bizarre and awe-inspiring marine specimens imaginable! Then\, channel your inner explorer and tinker with the groundbreaking gadgets and gizmos that made Admiral Peary and Matthew Henson Arctic legends during the early 1900s. Explore the lost world of Atlantis and the octopus’s garden\, slide down an “escape hatch\,” wander through the seaweed maze in the kelp forest and hunt for treasure in the wreck of the Spanish galleon. \nThe exhibition presents fantasy and facts\, allowing guests to explore Verne’s imaginary world and the real-life wonders of ocean exploration. Designed to provide a range of interactive experiences\, the exhibition includes full-body interactions\, mechanical and electro-mechanical exhibits\, interactive projections and touchscreens. \nAssemble your crew\, gather your sea legs and join us for a once-in-a- lifetime oceanic odyssey that’ll make your wildest nautical dreams come true! The Voyage to the Deep exhibition was created and developed by the Australian National Maritime Museum\, an Australian Government entity. Flying Fish manages the exhibit tour. \nExperience South Florida’s award-winning attraction featuring 150\,000 square feet of dynamic science exhibits\, an outdoor science park\, a live animal collection\, a rotating schedule of science shows\, learning labs\, café\, store\, and a grand atrium featuring the Great Gravity Clock\, a 52-foot-tall kinetic energy sculpture; the largest clock in Florida. The showpiece of the museum since 1993\, this unique timepiece is one of only three in the world.\nExhibit included with admission. Get tickets by visiting mods.org/tickets.\nFor more information\, visit mods.org or call (954) 467-MODS (6637). Like us and follow us on social media at Facebook: facebook.com/modsftl\, Twitter: twitter.com/modsftl and Instagram: instagram.com/modsftl. \n# # #
URL:https://thepbmoms.com/event/voyage-to-the-deep-underwater-adventures-exhibit-at-museum-of-discovery-and-science/
LOCATION:Museum of Discovery and Science\, 401 SW 2nd St.\, Fort Lauderdale\, 33312
CATEGORIES:Just for Kids
ATTACH;FMTTYPE=image/png:https://thepbmoms.com/wp-content/uploads/2024/01/Voyage-to-the-Deep-Graphic.png
ORGANIZER;CN="Museum of Discovery and Science":MAILTO:booking@mods.org
END:VEVENT
BEGIN:VEVENT
DTSTART;VALUE=DATE:20240120
DTEND;VALUE=DATE:20240121
DTSTAMP:20260421T232703
CREATED:20230607T025104Z
LAST-MODIFIED:20230607T025104Z
UID:10007499-1705708800-1705795199@thepbmoms.com
SUMMARY:Wildlife Encounters
DESCRIPTION:Wildlife Encounters \n\n\nMon – Fri: 3pm \nSat: 11AM and 2:30PM \n\nCome sit in our Cypress Amphitheater for a wildlife encounter and see native Florida animals up close! Wildlife Encounters are held daily and each program is different so you never know what you might see. With the help of our educational animal ambassadors\, learn all about their biology\, habitats\, and conservation efforts. We are open Monday through Saturday 10am-4:30pm and run on your donations. Come by today!
URL:https://thepbmoms.com/event/wildlife-encounters/2024-01-20/
LOCATION:Busch Wildlife\, 17855 Rocky Pines Road\, Jupiter\, FL\, 33478
END:VEVENT
BEGIN:VEVENT
DTSTART;TZID=UTC:20240120T090000
DTEND;TZID=UTC:20240120T130000
DTSTAMP:20260421T232703
CREATED:20230607T024346Z
LAST-MODIFIED:20230706T205842Z
UID:10005673-1705741200-1705755600@thepbmoms.com
SUMMARY:Grandview Public Market’s Weekly Farmers Market
DESCRIPTION:Get ready for Grandview Public Market’s Weekly Farmers Market on the Loading Dock! Join us every Saturday on the Loading Dock from 9 am to 1 pm\, to explore a delightful assortment of local produce and artisanal food offerings\, handpicked by local Head Chef\, Jean-Marc Hardy. Dive into West Palm Beach’s thriving culinary scene while backing local vendors\, farmers\, and small businesses in a friendly and inviting environment.
URL:https://thepbmoms.com/event/grandview-public-markets-weekly-farmers-market/2024-01-20/
LOCATION:Grandview Public\, 1401 Clare Ave\, West Palm Beach\, FL\, 33401
CATEGORIES:Free
END:VEVENT
BEGIN:VEVENT
DTSTART;TZID=UTC:20240120T100000
DTEND;TZID=UTC:20240120T120000
DTSTAMP:20260421T232703
CREATED:20230908T004736Z
LAST-MODIFIED:20230928T214720Z
UID:10013503-1705744800-1705752000@thepbmoms.com
SUMMARY:Kids Fishing Program
DESCRIPTION:$15 registration required \n\n\n\n\n\n\n\n\n\n\nParticipants will learn basic techniques for fishing including knot tying\, casting\, fish handling\, and proper catch-and-release techniques.\nIn addition to fishing skills\, participants are taught to be responsible anglers and discover how to reduce their impact on marine life. Fish caught during this program will always be released. All fishing equipment and bait is provided. Participants will receive a Responsible Anglers Certificate following their completion of the program. Please see details during registration for recommended items to bring. \nNOTE: this program meets at the Juno Beach Pier. Please meet your program leaders at the picnic tables in front of the Juno Pier Bait House for check-in. \n\n\n\n\n\n\n\n\n\n\n 
URL:https://thepbmoms.com/event/kids-fishing-program/2024-01-20/
LOCATION:Loggerhead Marine Life Center\, 14200 U.S. Highway 1\, Juno Beach\, FL\, 33408
END:VEVENT
BEGIN:VEVENT
DTSTART;TZID=UTC:20240120T100000
DTEND;TZID=UTC:20240120T160000
DTSTAMP:20260421T232703
CREATED:20240108T001521Z
LAST-MODIFIED:20240108T001521Z
UID:10019336-1705744800-1705766400@thepbmoms.com
SUMMARY:Family Adventure Day at Jupiter Inlet Lighthouse and Museum
DESCRIPTION:Jupiter Inlet Lighthouse & Museum invites guests to the historical landmark’s annual Family Adventure Day “By the Sea!” themed event on January 20. From 10 a.m. until 4 p.m.\, families are invited to participate in the sea-inspired activities\, performances\, education and adventure\, while exploring “History Shaped by Nature” that children and adults alike will enjoy! \nLocal organizations such as The Nature Conservancy\, FishingCommunity.org\, and The River Center will be partaking in the fun-filled day. Families can discover the nature trails of the Jupiter Inlet Lighthouse Outstanding Natural Area and receive a backpack and Jr. Park Ranger Booklets\, complete with coloring pages and other activities\, provided by the Bureau of Land Management; climb 105 stairs to the top of the Jupiter Inlet Lighthouse; walk through the native plant trail where children will walk amongst upcycled art and then draw a piece of their own trash to make “trash art”; learn the scientific process of how rocks “blow”; participate in a children-friendly obstacle course; meet Manny the manatee who will be guiding guests; create a lighthouse lantern craft; try their hand at catching fish off the pier (fishing supplies will be provided); and engage with unique wildlife\, native to South Florida\, including a corn snake.
URL:https://thepbmoms.com/event/family-adventure-day-at-jupiter-inlet-lighthouse-and-museum/
LOCATION:Jupiter Inlet Lighthouse & Museum\, 500 Captain Armours Wy\, Jupiter\, 33469
ATTACH;FMTTYPE=image/jpeg:https://thepbmoms.com/wp-content/uploads/2024/01/AdobeStock_229238230-1-scaled.jpeg
ORGANIZER;CN="Jupiter Inlet Lighthouse &amp%3B Museum":MAILTO:n/a
END:VEVENT
BEGIN:VEVENT
DTSTART;TZID=UTC:20240120T104500
DTEND;TZID=UTC:20240120T110000
DTSTAMP:20260421T232703
CREATED:20240101T221421Z
LAST-MODIFIED:20240101T222831Z
UID:10017510-1705747500-1705748400@thepbmoms.com
SUMMARY:Touch Tank Demonstrations
DESCRIPTION:Touch Tank Demonstrations \nDaily demonstrations at 10:45am
URL:https://thepbmoms.com/event/touch-tank-demonstrations/2024-01-20/
LOCATION:Cox Science Center\, 4801 Dreher Trail North\, Weest Palm Beach\, FL\, 33405
ATTACH;FMTTYPE=image/png:https://thepbmoms.com/wp-content/uploads/2024/01/Untitled-design.png
END:VEVENT
BEGIN:VEVENT
DTSTART;TZID=UTC:20240120T110000
DTEND;TZID=UTC:20240120T113000
DTSTAMP:20260421T232703
CREATED:20230607T022553Z
LAST-MODIFIED:20230607T022553Z
UID:10004828-1705748400-1705750200@thepbmoms.com
SUMMARY:Storytime at Barnes and Noble
DESCRIPTION:Children’s Storytime is back!  We are excited to see everyone once again in our Children’s Department for Saturday morning storytime\, every Saturday at 11am.  Come join us!
URL:https://thepbmoms.com/event/storytime-at-barnes-and-noble/2024-01-20/
LOCATION:Barnes and Noble\, Palm Beach Gardens\, FL\, 33410
CATEGORIES:Baby,Free
END:VEVENT
BEGIN:VEVENT
DTSTART;TZID=UTC:20240120T120000
DTEND;TZID=UTC:20240120T123000
DTSTAMP:20260421T232703
CREATED:20230607T022832Z
LAST-MODIFIED:20230607T022832Z
UID:10005089-1705752000-1705753800@thepbmoms.com
SUMMARY:Storytime at Barnes and Noble
DESCRIPTION:Children’s Storytime is back!  We are excited to see everyone once again in our Children’s Department for Saturday morning storytime\, every Saturday at 11am.  Come join us!
URL:https://thepbmoms.com/event/storytime-at-barnes-and-noble-2/2024-01-20/
LOCATION:Barnes and Noble Boca Raton\, 1400 Glades Rd.\, Boca Raton\, FL\, 33431
CATEGORIES:Baby,Free
END:VEVENT
BEGIN:VEVENT
DTSTART;TZID=UTC:20240120T140000
DTEND;TZID=UTC:20240120T143000
DTSTAMP:20260421T232703
CREATED:20240101T220907Z
LAST-MODIFIED:20240101T220959Z
UID:10016715-1705759200-1705761000@thepbmoms.com
SUMMARY:Live Alligator Petting
DESCRIPTION:Live Alligator Petting \nFriday – Sunday Only at 2:00pm
URL:https://thepbmoms.com/event/live-alligator-petting/2024-01-20/
LOCATION:Cox Science Center\, 4801 Dreher Trail North\, Weest Palm Beach\, FL\, 33405
END:VEVENT
END:VCALENDAR