BEGIN:VCALENDAR
VERSION:2.0
PRODID:-//Palm Beach Moms - ECPv6.15.20//NONSGML v1.0//EN
CALSCALE:GREGORIAN
METHOD:PUBLISH
X-ORIGINAL-URL:https://thepbmoms.com
X-WR-CALDESC:Events for Palm Beach Moms
REFRESH-INTERVAL;VALUE=DURATION:PT1H
X-Robots-Tag:noindex
X-PUBLISHED-TTL:PT1H
BEGIN:VTIMEZONE
TZID:UTC
BEGIN:STANDARD
TZOFFSETFROM:+0000
TZOFFSETTO:+0000
TZNAME:UTC
DTSTART:20230101T000000
END:STANDARD
END:VTIMEZONE
BEGIN:VEVENT
DTSTART;VALUE=DATE:20240112
DTEND;VALUE=DATE:20240129
DTSTAMP:20260421T212130
CREATED:20240109T000854Z
LAST-MODIFIED:20240109T000854Z
UID:10019350-1705017600-1706486399@thepbmoms.com
SUMMARY:South Florida Fair
DESCRIPTION:WHAT MAKES US UNIQUE?\nAll-new and different activities and experiences each year! Since 1993\, the themed expositions produced every year during the South Florida Fair are one of the most popular attractions of the 17-day event.\n\n\n\n\n\n\n\n\n\n\n\n\n\n\n\n\nJoin us in January as we DIVE INTO THE FUN and celebrate ocean and marine wildlife! See a live shark show\, get up-close with sea lions\, walk-through an immersive underwater experience and interact with local organizations that educate our community on how to keep the oceans healthy\, clean and thriving!
URL:https://thepbmoms.com/event/south-florida-fair/
LOCATION:south florida fairgrounds\, 9067 Southern Boulevard\, West Palm Beach\, 33411
ATTACH;FMTTYPE=image/png:https://thepbmoms.com/wp-content/uploads/2024/01/SEA_YOU_THERE_1.png
END:VEVENT
BEGIN:VEVENT
DTSTART;TZID=UTC:20240115T103000
DTEND;TZID=UTC:20240115T110000
DTSTAMP:20260421T212130
CREATED:20230901T162515Z
LAST-MODIFIED:20230901T162515Z
UID:10012259-1705314600-1705316400@thepbmoms.com
SUMMARY:Toddler Storytime
DESCRIPTION:Toddler Storytimes (Ages 3 – 5): Mondays at 10:30 a.m. \nJoin us for Toddler Storytime! No sign up required and recommended for ages 3 to 5 years. Our storytimes are filled with bubbles\, songs\, stories\, and crafts or activities.
URL:https://thepbmoms.com/event/toddler-storytime/2024-01-15/
LOCATION:North Palm Beach Library\, 501 US Highway 1\, North Palm Beach\, FL\, 33408
END:VEVENT
BEGIN:VEVENT
DTSTART;TZID=UTC:20240115T104500
DTEND;TZID=UTC:20240115T110000
DTSTAMP:20260421T212130
CREATED:20240101T221421Z
LAST-MODIFIED:20240101T222831Z
UID:10017505-1705315500-1705316400@thepbmoms.com
SUMMARY:Touch Tank Demonstrations
DESCRIPTION:Touch Tank Demonstrations \nDaily demonstrations at 10:45am
URL:https://thepbmoms.com/event/touch-tank-demonstrations/2024-01-15/
LOCATION:Cox Science Center\, 4801 Dreher Trail North\, Weest Palm Beach\, FL\, 33405
ATTACH;FMTTYPE=image/png:https://thepbmoms.com/wp-content/uploads/2024/01/Untitled-design.png
END:VEVENT
END:VCALENDAR