BEGIN:VCALENDAR
VERSION:2.0
PRODID:-//Palm Beach Moms - ECPv6.15.20//NONSGML v1.0//EN
CALSCALE:GREGORIAN
METHOD:PUBLISH
X-WR-CALNAME:Palm Beach Moms
X-ORIGINAL-URL:https://thepbmoms.com
X-WR-CALDESC:Events for Palm Beach Moms
REFRESH-INTERVAL;VALUE=DURATION:PT1H
X-Robots-Tag:noindex
X-PUBLISHED-TTL:PT1H
BEGIN:VTIMEZONE
TZID:UTC
BEGIN:STANDARD
TZOFFSETFROM:+0000
TZOFFSETTO:+0000
TZNAME:UTC
DTSTART:20230101T000000
END:STANDARD
END:VTIMEZONE
BEGIN:VEVENT
DTSTART;VALUE=DATE:20240101
DTEND;VALUE=DATE:20240115
DTSTAMP:20260421T232709
CREATED:20230717T195246Z
LAST-MODIFIED:20230717T195246Z
UID:10011459-1704067200-1705276799@thepbmoms.com
SUMMARY:Tax free back to school shopping
DESCRIPTION:
URL:https://thepbmoms.com/event/tax-free-back-to-school-shopping/
ATTACH;FMTTYPE=image/png:https://thepbmoms.com/wp-content/uploads/2023/07/poster.png
END:VEVENT
BEGIN:VEVENT
DTSTART;VALUE=DATE:20240112
DTEND;VALUE=DATE:20240129
DTSTAMP:20260421T232709
CREATED:20240109T000854Z
LAST-MODIFIED:20240109T000854Z
UID:10019350-1705017600-1706486399@thepbmoms.com
SUMMARY:South Florida Fair
DESCRIPTION:WHAT MAKES US UNIQUE?\nAll-new and different activities and experiences each year! Since 1993\, the themed expositions produced every year during the South Florida Fair are one of the most popular attractions of the 17-day event.\n\n\n\n\n\n\n\n\n\n\n\n\n\n\n\n\nJoin us in January as we DIVE INTO THE FUN and celebrate ocean and marine wildlife! See a live shark show\, get up-close with sea lions\, walk-through an immersive underwater experience and interact with local organizations that educate our community on how to keep the oceans healthy\, clean and thriving!
URL:https://thepbmoms.com/event/south-florida-fair/
LOCATION:south florida fairgrounds\, 9067 Southern Boulevard\, West Palm Beach\, 33411
ATTACH;FMTTYPE=image/png:https://thepbmoms.com/wp-content/uploads/2024/01/SEA_YOU_THERE_1.png
END:VEVENT
BEGIN:VEVENT
DTSTART;VALUE=DATE:20240113
DTEND;VALUE=DATE:20240114
DTSTAMP:20260421T232709
CREATED:20230607T025104Z
LAST-MODIFIED:20230607T025104Z
UID:10007498-1705104000-1705190399@thepbmoms.com
SUMMARY:Wildlife Encounters
DESCRIPTION:Wildlife Encounters \n\n\nMon – Fri: 3pm \nSat: 11AM and 2:30PM \n\nCome sit in our Cypress Amphitheater for a wildlife encounter and see native Florida animals up close! Wildlife Encounters are held daily and each program is different so you never know what you might see. With the help of our educational animal ambassadors\, learn all about their biology\, habitats\, and conservation efforts. We are open Monday through Saturday 10am-4:30pm and run on your donations. Come by today!
URL:https://thepbmoms.com/event/wildlife-encounters/2024-01-13/
LOCATION:Busch Wildlife\, 17855 Rocky Pines Road\, Jupiter\, FL\, 33478
END:VEVENT
BEGIN:VEVENT
DTSTART;TZID=UTC:20240113T090000
DTEND;TZID=UTC:20240113T130000
DTSTAMP:20260421T232709
CREATED:20230607T024346Z
LAST-MODIFIED:20230706T205842Z
UID:10005672-1705136400-1705150800@thepbmoms.com
SUMMARY:Grandview Public Market’s Weekly Farmers Market
DESCRIPTION:Get ready for Grandview Public Market’s Weekly Farmers Market on the Loading Dock! Join us every Saturday on the Loading Dock from 9 am to 1 pm\, to explore a delightful assortment of local produce and artisanal food offerings\, handpicked by local Head Chef\, Jean-Marc Hardy. Dive into West Palm Beach’s thriving culinary scene while backing local vendors\, farmers\, and small businesses in a friendly and inviting environment.
URL:https://thepbmoms.com/event/grandview-public-markets-weekly-farmers-market/2024-01-13/
LOCATION:Grandview Public\, 1401 Clare Ave\, West Palm Beach\, FL\, 33401
CATEGORIES:Free
END:VEVENT
BEGIN:VEVENT
DTSTART;TZID=UTC:20240113T090000
DTEND;TZID=UTC:20240113T150000
DTSTAMP:20260421T232710
CREATED:20231213T180204Z
LAST-MODIFIED:20231213T180204Z
UID:10016679-1705136400-1705158000@thepbmoms.com
SUMMARY:Cellphone Film Festival for Middle School Students
DESCRIPTION:G-Star High School of the Arts will be hosting our Cellphone Film Festival on Saturday\, January 13th from 9AM to 3PM! This is a FREE workshop for middle school students in 6th\, 7th\, and 8th grade to learn how to create a short film using just their cellphone! Participants will be mentored by our G-Star film teachers and film students to learn the skills they need to create a fantastic short film! This event will also include a red-carpet awards ceremony where we will premiere the participants short films and give out certificates and trophies! \nIf students want to participate in this workshop\, they can scan the QR code on the flyer or visit this link: https://docs.google.com/forms/d/e/1FAIpQLSeg195VrzRIamPJQYcodLJGsu8qJIeSTYG1YiExmVsqH4Uivg/viewform
URL:https://thepbmoms.com/event/cellphone-film-festival-for-middle-school-students/
CATEGORIES:Free,Teen
ATTACH;FMTTYPE=image/png:https://thepbmoms.com/wp-content/uploads/2023/12/Cellphone-Film-Festival-2023-1.png
END:VEVENT
BEGIN:VEVENT
DTSTART;TZID=UTC:20240113T100000
DTEND;TZID=UTC:20240113T120000
DTSTAMP:20260421T232710
CREATED:20230908T004736Z
LAST-MODIFIED:20230928T214720Z
UID:10013502-1705140000-1705147200@thepbmoms.com
SUMMARY:Kids Fishing Program
DESCRIPTION:$15 registration required \n\n\n\n\n\n\n\n\n\n\nParticipants will learn basic techniques for fishing including knot tying\, casting\, fish handling\, and proper catch-and-release techniques.\nIn addition to fishing skills\, participants are taught to be responsible anglers and discover how to reduce their impact on marine life. Fish caught during this program will always be released. All fishing equipment and bait is provided. Participants will receive a Responsible Anglers Certificate following their completion of the program. Please see details during registration for recommended items to bring. \nNOTE: this program meets at the Juno Beach Pier. Please meet your program leaders at the picnic tables in front of the Juno Pier Bait House for check-in. \n\n\n\n\n\n\n\n\n\n\n 
URL:https://thepbmoms.com/event/kids-fishing-program/2024-01-13/
LOCATION:Loggerhead Marine Life Center\, 14200 U.S. Highway 1\, Juno Beach\, FL\, 33408
END:VEVENT
BEGIN:VEVENT
DTSTART;TZID=UTC:20240113T103000
DTEND;TZID=UTC:20240113T113000
DTSTAMP:20260421T232710
CREATED:20230604T201332Z
LAST-MODIFIED:20230604T201628Z
UID:10004669-1705141800-1705145400@thepbmoms.com
SUMMARY:Family Story Times
DESCRIPTION:Select Saturday at 10:30 a.m.\, November through April\n\n\n\n\nNo charge\nNo reservations needed\nFour Arts Children’s Library \n8 years of age and younger. All children must be accompanied by an adult.\nAn arts and crafts activity will follow each story time. \nNovember 2023\nSaturday\, November 4: Travel\nSaturday\, November 11: Thanksgiving \nDecember 2023\nSaturday\, December 2: The Nutcracker\nSaturday\, December 9: The Grinch \nJanuary 2024\nSaturday\, January 6: New Year Birthday Party\nSaturday\, January 13: Frozen Pond \nFebruary 2024\nSaturday\, February 3: I Love My Family\nSaturday\, February 10: Happy Valentine’s Day \nMarch 2024\nSaturday\, March 2: Camping\nSaturday\, March 9: Pond \nApril 2024\nSaturday\, April 6: Tea Party\nSaturday\, April 13: End of Season Pirate Day
URL:https://thepbmoms.com/event/family-story-times/2024-01-13/
LOCATION:Four Arts Children’s Library\, 100 Four Arts Plaza\, Palm Beach\, FL\, 33480
ATTACH;FMTTYPE=image/jpeg:https://thepbmoms.com/wp-content/uploads/2023/06/Family-Story-Time-web-copy.jpg
END:VEVENT
BEGIN:VEVENT
DTSTART;TZID=UTC:20240113T104500
DTEND;TZID=UTC:20240113T110000
DTSTAMP:20260421T232710
CREATED:20240101T221421Z
LAST-MODIFIED:20240101T222831Z
UID:10017503-1705142700-1705143600@thepbmoms.com
SUMMARY:Touch Tank Demonstrations
DESCRIPTION:Touch Tank Demonstrations \nDaily demonstrations at 10:45am
URL:https://thepbmoms.com/event/touch-tank-demonstrations/2024-01-13/
LOCATION:Cox Science Center\, 4801 Dreher Trail North\, Weest Palm Beach\, FL\, 33405
ATTACH;FMTTYPE=image/png:https://thepbmoms.com/wp-content/uploads/2024/01/Untitled-design.png
END:VEVENT
BEGIN:VEVENT
DTSTART;TZID=UTC:20240113T110000
DTEND;TZID=UTC:20240113T113000
DTSTAMP:20260421T232710
CREATED:20230607T022553Z
LAST-MODIFIED:20230607T022553Z
UID:10004827-1705143600-1705145400@thepbmoms.com
SUMMARY:Storytime at Barnes and Noble
DESCRIPTION:Children’s Storytime is back!  We are excited to see everyone once again in our Children’s Department for Saturday morning storytime\, every Saturday at 11am.  Come join us!
URL:https://thepbmoms.com/event/storytime-at-barnes-and-noble/2024-01-13/
LOCATION:Barnes and Noble\, Palm Beach Gardens\, FL\, 33410
CATEGORIES:Baby,Free
END:VEVENT
BEGIN:VEVENT
DTSTART;TZID=UTC:20240113T120000
DTEND;TZID=UTC:20240113T123000
DTSTAMP:20260421T232710
CREATED:20230607T022832Z
LAST-MODIFIED:20230607T022832Z
UID:10005088-1705147200-1705149000@thepbmoms.com
SUMMARY:Storytime at Barnes and Noble
DESCRIPTION:Children’s Storytime is back!  We are excited to see everyone once again in our Children’s Department for Saturday morning storytime\, every Saturday at 11am.  Come join us!
URL:https://thepbmoms.com/event/storytime-at-barnes-and-noble-2/2024-01-13/
LOCATION:Barnes and Noble Boca Raton\, 1400 Glades Rd.\, Boca Raton\, FL\, 33431
CATEGORIES:Baby,Free
END:VEVENT
BEGIN:VEVENT
DTSTART;TZID=UTC:20240113T140000
DTEND;TZID=UTC:20240113T143000
DTSTAMP:20260421T232710
CREATED:20240101T220907Z
LAST-MODIFIED:20240101T220959Z
UID:10016712-1705154400-1705156200@thepbmoms.com
SUMMARY:Live Alligator Petting
DESCRIPTION:Live Alligator Petting \nFriday – Sunday Only at 2:00pm
URL:https://thepbmoms.com/event/live-alligator-petting/2024-01-13/
LOCATION:Cox Science Center\, 4801 Dreher Trail North\, Weest Palm Beach\, FL\, 33405
END:VEVENT
BEGIN:VEVENT
DTSTART;TZID=UTC:20240113T150000
DTEND;TZID=UTC:20240113T170000
DTSTAMP:20260421T232710
CREATED:20240108T001644Z
LAST-MODIFIED:20240108T001644Z
UID:10019342-1705158000-1705165200@thepbmoms.com
SUMMARY:Playdates!
DESCRIPTION:Playdates for our little ones! We are back January 13th.\nIn Loxahatchee\, FL\nHi there! I’ve posted before about our previous events and now that we are starting activities again I just created an event on FB so those interested can join in and confirm attendance.\nIf someone is going through something or have multiple kids they’d like to bring\, please don’t let costs keep you from doing so. We know times are financially rough and we just want all kids to join the fun. Please pm me and we will make exceptions\, offer discounts when needed.\nShare with whoever may be interested \nPanambí Playdates\npanambi.playdates on IG for more details \nThank you 🙂
URL:https://thepbmoms.com/event/playdates/
LOCATION:Loxahatchee\, FL\, 18189 44th PL N\, Loxahatchee\, FL\, 33470\, United States
CATEGORIES:Just for Kids,The Whole Family,Toddler
ATTACH;FMTTYPE=image/jpeg:https://thepbmoms.com/wp-content/uploads/2024/01/IMG-20230610-WA0012.jpg
ORGANIZER;CN="Daniela Cabrera":MAILTO:ddcabrera84@gmail.com
END:VEVENT
END:VCALENDAR