BEGIN:VCALENDAR
VERSION:2.0
PRODID:-//Palm Beach Moms - ECPv6.15.20//NONSGML v1.0//EN
CALSCALE:GREGORIAN
METHOD:PUBLISH
X-WR-CALNAME:Palm Beach Moms
X-ORIGINAL-URL:https://thepbmoms.com
X-WR-CALDESC:Events for Palm Beach Moms
REFRESH-INTERVAL;VALUE=DURATION:PT1H
X-Robots-Tag:noindex
X-PUBLISHED-TTL:PT1H
BEGIN:VTIMEZONE
TZID:UTC
BEGIN:STANDARD
TZOFFSETFROM:+0000
TZOFFSETTO:+0000
TZNAME:UTC
DTSTART:20230101T000000
END:STANDARD
END:VTIMEZONE
BEGIN:VEVENT
DTSTART;VALUE=DATE:20240101
DTEND;VALUE=DATE:20240115
DTSTAMP:20260421T214139
CREATED:20230717T195246Z
LAST-MODIFIED:20230717T195246Z
UID:10011459-1704067200-1705276799@thepbmoms.com
SUMMARY:Tax free back to school shopping
DESCRIPTION:
URL:https://thepbmoms.com/event/tax-free-back-to-school-shopping/
ATTACH;FMTTYPE=image/png:https://thepbmoms.com/wp-content/uploads/2023/07/poster.png
END:VEVENT
BEGIN:VEVENT
DTSTART;VALUE=DATE:20240112
DTEND;VALUE=DATE:20240129
DTSTAMP:20260421T214139
CREATED:20240109T000854Z
LAST-MODIFIED:20240109T000854Z
UID:10019350-1705017600-1706486399@thepbmoms.com
SUMMARY:South Florida Fair
DESCRIPTION:WHAT MAKES US UNIQUE?\nAll-new and different activities and experiences each year! Since 1993\, the themed expositions produced every year during the South Florida Fair are one of the most popular attractions of the 17-day event.\n\n\n\n\n\n\n\n\n\n\n\n\n\n\n\n\nJoin us in January as we DIVE INTO THE FUN and celebrate ocean and marine wildlife! See a live shark show\, get up-close with sea lions\, walk-through an immersive underwater experience and interact with local organizations that educate our community on how to keep the oceans healthy\, clean and thriving!
URL:https://thepbmoms.com/event/south-florida-fair/
LOCATION:south florida fairgrounds\, 9067 Southern Boulevard\, West Palm Beach\, 33411
ATTACH;FMTTYPE=image/png:https://thepbmoms.com/wp-content/uploads/2024/01/SEA_YOU_THERE_1.png
END:VEVENT
BEGIN:VEVENT
DTSTART;TZID=UTC:20240112T104500
DTEND;TZID=UTC:20240112T110000
DTSTAMP:20260421T214139
CREATED:20240101T221421Z
LAST-MODIFIED:20240101T222831Z
UID:10017502-1705056300-1705057200@thepbmoms.com
SUMMARY:Touch Tank Demonstrations
DESCRIPTION:Touch Tank Demonstrations \nDaily demonstrations at 10:45am
URL:https://thepbmoms.com/event/touch-tank-demonstrations/2024-01-12/
LOCATION:Cox Science Center\, 4801 Dreher Trail North\, Weest Palm Beach\, FL\, 33405
ATTACH;FMTTYPE=image/png:https://thepbmoms.com/wp-content/uploads/2024/01/Untitled-design.png
END:VEVENT
BEGIN:VEVENT
DTSTART;TZID=UTC:20240112T140000
DTEND;TZID=UTC:20240112T143000
DTSTAMP:20260421T214139
CREATED:20240101T220907Z
LAST-MODIFIED:20240101T220959Z
UID:10016711-1705068000-1705069800@thepbmoms.com
SUMMARY:Live Alligator Petting
DESCRIPTION:Live Alligator Petting \nFriday – Sunday Only at 2:00pm
URL:https://thepbmoms.com/event/live-alligator-petting/2024-01-12/
LOCATION:Cox Science Center\, 4801 Dreher Trail North\, Weest Palm Beach\, FL\, 33405
END:VEVENT
BEGIN:VEVENT
DTSTART;TZID=UTC:20240112T183000
DTEND;TZID=UTC:20240112T210000
DTSTAMP:20260421T214139
CREATED:20240108T235527Z
LAST-MODIFIED:20240108T235527Z
UID:10019347-1705084200-1705093200@thepbmoms.com
SUMMARY:Screen on the Green | Mummies (PG)
DESCRIPTION:Outdoor movie-watching has never been more inviting than on the West Palm Beach Waterfront! Join us on the second Friday every month for FREE family-friendly activities and movies in an open-air theater we’ve set up just for our “Screen on the Green” series. \nThe film follows the fun adventures of three Egyptian mummies who live in an underground secret city\, hidden in ancient Egypt. The trio includes a princess\, a former charioteer\, and his younger brother along with their pet baby crocodile. Through a series of unfortunate events\, the mummies end up in present-day London and embark on a wacky and hilarious journey in search of an old ring belonging to the Royal Family\, that was stolen by the ambitious archaeologist Lord Carnaby.
URL:https://thepbmoms.com/event/screen-on-the-green-mummies-pg/
LOCATION:Downtown West Palm Beach\, 100 North Clematis Street\, West Palm Beach\, FL\, 33401
CATEGORIES:Free,The Whole Family
ATTACH;FMTTYPE=image/png:https://thepbmoms.com/wp-content/uploads/2024/01/The-Mummies.png
END:VEVENT
END:VCALENDAR