BEGIN:VCALENDAR
VERSION:2.0
PRODID:-//Palm Beach Moms - ECPv6.15.20//NONSGML v1.0//EN
CALSCALE:GREGORIAN
METHOD:PUBLISH
X-ORIGINAL-URL:https://thepbmoms.com
X-WR-CALDESC:Events for Palm Beach Moms
REFRESH-INTERVAL;VALUE=DURATION:PT1H
X-Robots-Tag:noindex
X-PUBLISHED-TTL:PT1H
BEGIN:VTIMEZONE
TZID:UTC
BEGIN:STANDARD
TZOFFSETFROM:+0000
TZOFFSETTO:+0000
TZNAME:UTC
DTSTART:20230101T000000
END:STANDARD
END:VTIMEZONE
BEGIN:VEVENT
DTSTART;VALUE=DATE:20240101
DTEND;VALUE=DATE:20240115
DTSTAMP:20260421T212034
CREATED:20230717T195246Z
LAST-MODIFIED:20230717T195246Z
UID:10011459-1704067200-1705276799@thepbmoms.com
SUMMARY:Tax free back to school shopping
DESCRIPTION:
URL:https://thepbmoms.com/event/tax-free-back-to-school-shopping/
ATTACH;FMTTYPE=image/png:https://thepbmoms.com/wp-content/uploads/2023/07/poster.png
END:VEVENT
BEGIN:VEVENT
DTSTART;VALUE=DATE:20240102
DTEND;VALUE=DATE:20240108
DTSTAMP:20260421T212034
CREATED:20231230T020726Z
LAST-MODIFIED:20231230T020726Z
UID:10016707-1704153600-1704671999@thepbmoms.com
SUMMARY:To Kill a Mockingbird
DESCRIPTION:The Raymond F. Kravis Center for the Performing Arts presents Academy Award® winner Aaron Sorkin’s adaptation of Harper Lee’s Pulitzer Prize-winning masterwork\, TO KILL A MOCKINGBIRD. The New York Times Critic’s Pick TO KILL A MOCKINGBIRD is “the most successful American play in Broadway history” (60 Minutes). With direction by Tony Award® winner Bartlett Sher\, TO KILL A MOCKINGBIRD — “the greatest novel of all time” (Chicago Tribune) — has quickly become “one of the greatest plays in history” (NPR). Emmy Award®-winning actor Richard Thomas plays the role of Atticus Finch in the National Tour. \nSet in Alabama in 1934\, Harper Lee’s enduring story of racial injustice and childhood innocence centers on one of the most venerated characters in American literature\, small-town lawyer Atticus Finch. The cast of characters includes Atticus’s daughter Scout\, her brother Jem\, their housekeeper and caretaker\, Calpurnia\, their visiting friend Dill\, and a mysterious neighbor\, the reclusive Arthur “Boo” Radley. The other indelible residents of Maycomb\, Alabama\, are Bob Ewell\, Tom Robinson\, prosecutor Horace Gilmer\, Judge Taylor and Mayella Ewell. \nWHEN: Tuesday – Sunday\, January 2-7\nTuesday\, Thursday\, Friday at 8 p.m.\nWednesday\, Saturday at 2 p.m. & 8 p.m.\nSunday at 2 p.m. \nWHERE: The Raymond F. Kravis Center for the Performing Arts’ Marshall E. Rinker Playhouse located at 701 Okeechobee Blvd.\, West Palm Beach\, FL 22401 \nTICKETS: Tickets start at $39* and are available online at kravis.org or by calling the Box Office at 561-832-7469
URL:https://thepbmoms.com/event/to-kill-a-mockingbird/
LOCATION:Kravis Center for the Performing Arts\, 701 Okeechobee Blvd.\, West Palm Beach\, FL\, 33401
ATTACH;FMTTYPE=image/jpeg:https://thepbmoms.com/wp-content/uploads/2023/12/unnamed.jpg
END:VEVENT
BEGIN:VEVENT
DTSTART;TZID=UTC:20240106T100000
DTEND;TZID=UTC:20240107T170000
DTSTAMP:20260421T212034
CREATED:20240103T194626Z
LAST-MODIFIED:20240103T194626Z
UID:10019319-1704535200-1704646800@thepbmoms.com
SUMMARY:Bank of America Museums on Us Free Weekend at Museum of Discovery and Science
DESCRIPTION:The Museum of Discovery and Science is proud to be a member of the Bank of America Museums on Us®. Present your active Bank of America\, Merrill or Bank of America Private Bank (U.S. Trust) credit or debit card with photo ID at the Museum box office to gain one free general admission. \nSouth Florida’s award-winning attraction featuring 150\,000 square feet of dynamic science exhibits\, an outdoor science park\, a live animal collection\, a rotating schedule of science shows\, learning labs\, café\, store and a grand atrium featuring the Great Gravity Clock\, a 52-foot-tall kinetic energy sculpture; the largest clock in Florida. The showpiece of the museum since 1993\, this unique timepiece is one of only three in the world. \nChildren can also visit MODS’ newest traveling exhibit “Thomas & Friends™: Explore the Rails!” Rail. The exhibit was created by the Minnesota Children’s Museum in partnership with Mattel\, Inc. and is nationally presented by Fisher-Price. \nSponsored by Bank of America. \nFor more information\, visit mods.org or call (954) 467-MODS (6637). Like us and follow us on social media at Facebook: facebook.com/modsftl\, Twitter: twitter.com/modsftl and Instagram: instagram.com/modsftl.
URL:https://thepbmoms.com/event/bank-of-america-museums-on-us-free-weekend-at-museum-of-discovery-and-science/
LOCATION:Museum of Discovery and Science\, 401 SW 2nd St.\, Fort Lauderdale\, 33312
ATTACH;FMTTYPE=image/png:https://thepbmoms.com/wp-content/uploads/2024/01/Bank-of-America-Museums-on-Us-Weekends.png
ORGANIZER;CN="Museum of Discovery and Science":MAILTO:booking@mods.org
END:VEVENT
BEGIN:VEVENT
DTSTART;TZID=UTC:20240107T104500
DTEND;TZID=UTC:20240107T110000
DTSTAMP:20260421T212034
CREATED:20240101T221421Z
LAST-MODIFIED:20240101T222831Z
UID:10017497-1704624300-1704625200@thepbmoms.com
SUMMARY:Touch Tank Demonstrations
DESCRIPTION:Touch Tank Demonstrations \nDaily demonstrations at 10:45am
URL:https://thepbmoms.com/event/touch-tank-demonstrations/2024-01-07/
LOCATION:Cox Science Center\, 4801 Dreher Trail North\, Weest Palm Beach\, FL\, 33405
ATTACH;FMTTYPE=image/png:https://thepbmoms.com/wp-content/uploads/2024/01/Untitled-design.png
END:VEVENT
BEGIN:VEVENT
DTSTART;TZID=UTC:20240107T140000
DTEND;TZID=UTC:20240107T143000
DTSTAMP:20260421T212034
CREATED:20240101T220907Z
LAST-MODIFIED:20240101T220959Z
UID:10016710-1704636000-1704637800@thepbmoms.com
SUMMARY:Live Alligator Petting
DESCRIPTION:Live Alligator Petting \nFriday – Sunday Only at 2:00pm
URL:https://thepbmoms.com/event/live-alligator-petting/2024-01-07/
LOCATION:Cox Science Center\, 4801 Dreher Trail North\, Weest Palm Beach\, FL\, 33405
END:VEVENT
BEGIN:VEVENT
DTSTART;TZID=UTC:20240107T140000
DTEND;TZID=UTC:20240107T160000
DTSTAMP:20260421T212034
CREATED:20230907T005231Z
LAST-MODIFIED:20230907T005231Z
UID:10013367-1704636000-1704643200@thepbmoms.com
SUMMARY:Sunday Makebreak - FREE crafting
DESCRIPTION:Michaels Stores \nSept 10: Fall Pom-Pom Trees \nSept 17: Watercolor Leaf Art \nSept 24: Pumpkin Fest \nOct 1: Halloween Pumpkin Fest \nOct 8: Friendship bracelets \nOct 22: Witch silhouette \nOct 29: Mandala Pumpkin Art \n 
URL:https://thepbmoms.com/event/sunday-makebreak-free-crafting/2024-01-07/
END:VEVENT
END:VCALENDAR